Workbook

Sheet Global_WBS
A1: Content.Division | B1: Content.Customer | C1: Content.Integ | D1: Content.Name | E1: Content.System | F1: Content.Task Category | G1: Content.Area | H1: Content.Deliverable | I1: Content.Status | J1: Content.Review Date | K1: Content.Due Date | L1: Content.Project Lead | M1: Content.Area Owner | N1: Content.Execution Owner | O1: Content.Comments | P1: Name
A2: Logistics | B2: Amazon | C2: DCS | D2: SFL9 | E2: BGLS | F2: Project Engineering | G2: Documentation | H2: Site Survey | I2: Completed | K2: 45824 | L2: Deep Gajjar | M2: Deep Gajjar | N2: Deep Gajjar | O2: DGajjar WK 24 - All Documents | P2: SSD_DCS
A3: Logistics | B3: Amazon | C3: DCS | D3: SOH7 | E3: BGLS | F3: Project Engineering | G3: Documentation | H3: Site Survey | I3: Completed | K3: 45981 | L3: Deep Gajjar | M3: Deep Gajjar | N3: Deep Gajjar | O3: ME 11-20-25 - All Documents | P3: SSD_DCS
A4: Logistics | B4: Amazon | C4: DCS | D4: SSF3 | E4: BGLS | F4: Project Engineering | G4: Documentation | H4: Site Survey | I4: Completed | K4: 46001 | L4: Deep Gajjar | M4: Deep Gajjar | N4: Xin Liu | O4: 2025-12-10 Initial Site Survey - All Documents | P4: SSD_DCS
A5: Logistics | B5: Amazon | C5: DCS | D5: SSF3 | E5: BGLS | F5: Design Engineering | G5: Detail Design | H5: Sorter Supports | I5: Completed | K5: 46023 | L5: Deep Gajjar | M5: Deep Gajjar | N5: Deep Gajjar | P5: SSD_DCS
A6: Customer Support | B6: Walmart | C6: Knapp | D6: NG1 | E6: Loop Sorter | F6: Design Engineering | G6: Detail Design | H6: Induction Unit - Mounting and Hardware | I6: Completed | K6: 46023 | L6: Jameson Fitzpatrick | M6: Jameson Fitzpatrick | N6: James Bragg | P6: CS_NG1
A7: Logistics | B7: Amazon | C7: DCS | D7: SSF3 | E7: BGLS | F7: Project Engineering | G7: Documentation | H7: BGLS Ordering Tool - ME | I7: Completed | K7: 46023 | L7: Deep Gajjar | M7: Deep Gajjar | N7: Deep Gajjar | P7: SSD_DCS
A8: Logistics | B8: Amazon | C8: DCS | D8: SSF3 | E8: BGLS | F8: Project Engineering | G8: Documentation | H8: BGLS Sorter Length | I8: Completed | K8: 46023 | L8: Deep Gajjar | M8: Deep Gajjar | N8: Deep Gajjar | P8: SSD_DCS
A9: Logistics | B9: Amazon | C9: DCS | D9: SSF3 | E9: BGLS | F9: Project Engineering | G9: Documentation | H9: Spare Parts List | I9: Completed | K9: 46023 | L9: Deep Gajjar | M9: Deep Gajjar | N9: Deep Gajjar | P9: SSD_DCS
A10: Logistics | B10: Amazon | C10: DCS | D10: SSF3 | E10: BGLS | F10: Documentation | G10: MRF | H10: Safety Fencing | I10: Completed | K10: 46023 | L10: Deep Gajjar | M10: Deep Gajjar | N10: Deep Gajjar | P10: SSD_DCS
A11: Logistics | B11: Amazon | C11: DCS | D11: SAX8 | E11: BGLS | F11: Project Engineering | G11: System Components | H11: Cabinet Location | I11: Completed | K11: 46023 | L11: Deep Gajjar | M11: Deep Gajjar | N11: Deep Gajjar | P11: SSD_DCS
A12: Logistics | B12: Amazon | C12: DCS | D12: SCA8 | E12: BGLS | F12: Project Engineering | G12: System Components | H12: Cabinet Location | I12: Completed | K12: 46023 | L12: Deep Gajjar | M12: Deep Gajjar | N12: Deep Gajjar | P12: SSD_DCS
A13: Logistics | B13: Amazon | C13: DCS | D13: SNJ5 | E13: BGLS | F13: Project Engineering | G13: System Components | H13: Cabinet Location | I13: Completed | K13: 46023 | L13: Deep Gajjar | M13: Deep Gajjar | N13: Deep Gajjar | P13: SSD_DCS
A14: Logistics | B14: Amazon | C14: DCS | D14: SOH7 | E14: BGLS | F14: Project Engineering | G14: System Components | H14: Cabinet Location | I14: Completed | K14: 46023 | L14: Deep Gajjar | M14: Deep Gajjar | N14: Deep Gajjar | P14: SSD_DCS
A15: Logistics | B15: Amazon | C15: DCS | D15: SNC7 | E15: BGLS | F15: Project Engineering | G15: System Components | H15: Cabinet Location | I15: Completed | K15: 46023 | L15: Deep Gajjar | M15: Deep Gajjar | N15: Deep Gajjar | P15: SSD_DCS
A16: Logistics | B16: Amazon | C16: DCS | D16: SSF3 | E16: BGLS | F16: Project Engineering | G16: System Components | H16: Cabinet Location | I16: Completed | K16: 46023 | L16: Deep Gajjar | M16: Deep Gajjar | N16: Deep Gajjar | P16: SSD_DCS
... A23: Logistics | B23: Amazon | C23: DCS | D23: SNC7 | E23: BGLS | F23: Project Engineering | G23: System Components | H23: Operator and Maintenace Area | I23: Completed | K23: 46023 | L23: Deep Gajjar | M23: Deep Gajjar | N23: Deep Gajjar | P23: SSD_DCS
A24: Logistics | B24: Amazon | C24: N/A | D24: FTY3 | E24: Loop Sorter | F24: Project Engineering | G24: System Components | H24: IB - Load Plan Layout | I24: Completed | K24: 46023 | L24: Alex Raff | N24: Andrea Hosna | P24: Amz_FTY3
A25: Customer Support | B25: Walmart | C25: Knapp | D25: NG1 | E25: Loop Sorter | F25: Project Engineering | G25: System Components | H25: Break Belt Infeed Conveyor | I25: Completed | K25: 46023 | L25: Jameson Fitzpatrick | M25: Jameson Fitzpatrick | P25: CS_NG1
A26: Customer Support | B26: Walmart | C26: Knapp | D26: NG1 | E26: Loop Sorter | F26: Project Engineering | G26: System Components | H26: Chute - Carton | I26: Completed | K26: 46023 | L26: Jameson Fitzpatrick | M26: Pierre Damis | O26: Update xref | P26: CS_NG1
A27: Customer Support | B27: Walmart | C27: Knapp | D27: NG1 | E27: Loop Sorter | F27: Project Engineering | G27: System Components | H27: Chute - Tote | I27: Completed | K27: 46023 | L27: Jameson Fitzpatrick | M27: Pierre Damis | O27: Update xref | P27: CS_NG1
A28: Logistics | B28: Amazon | C28: DCS | D28: SSF3 | E28: BGLS | F28: Project Engineering | G28: System Layouts | H28: System Layout Submittal | I28: Completed | K28: 46023 | L28: Deep Gajjar | M28: Deep Gajjar | N28: Deep Gajjar | P28: SSD_DCS
A29: Logistics | B29: Amazon | C29: Fortna | D29: SAZ4 | E29: BGLS | F29: Project Engineering | G29: Documentation | H29: Site Survey | I29: Completed | K29: 46036 | L29: Deep Gajjar | M29: Xin Liu | N29: Xin Liu | O29: 2026-01-14 Initial Site Survey - All Documents | P29: SSD_Fortna
A30: Logistics | B30: Amazon | C30: DCS | D30: SNJ5 | E30: BGLS | F30: Project Engineering | G30: Documentation | H30: Site Survey | I30: Completed | K30: 46037 | L30: Deep Gajjar | M30: Deep Gajjar | N30: Deep Gajjar | O30: Wk 3 DGajjar - All Documents | P30: SSD_DCS
A31: Logistics | B31: Amazon | C31: DCS | D31: SCA8 | E31: BGLS | F31: Project Engineering | G31: Documentation | H31: Site Survey | I31: Completed | K31: 46038 | L31: Deep Gajjar | M31: Deep Gajjar | N31: Xin Liu | O31: 2026-01-15 Initial Site Survey - All Documents | P31: SSD_DCS
A32: Logistics | B32: Amazon | C32: DCS | D32: SAX8 | E32: BGLS | F32: Project Engineering | G32: Documentation | H32: Site Survey | I32: Completed | K32: 46040 | L32: Deep Gajjar | M32: Deep Gajjar | N32: Xin Liu | O32: 2026-01-16 Initial Site Survey - All Documents | P32: SSD_DCS
A33: Customer Support | B33: Walmart | C33: Knapp | D33: NG1 | E33: Loop Sorter | F33: Project Engineering | G33: System Components | H33: Break Belt - Lenze Motor | I33: Completed | K33: 46050 | L33: Jameson Fitzpatrick | M33: Jameson Fitzpatrick | P33: CS_NG1
A34: Customer Support | B34: Walmart | C34: Knapp | D34: NG1 | E34: Loop Sorter | F34: Project Engineering | G34: System Components | H34: Break Belt - Electrical Components | I34: Completed | K34: 46051 | L34: Jameson Fitzpatrick | M34: Jameson Fitzpatrick | O34: BCH to confirm if provided | P34: CS_NG1
A35: Logistics | B35: Amazon | C35: N/A | D35: SSDs | E35: BGLS | F35: Project Engineering | G35: Chute Design | H35: Mobile Chute - Left hand vs Right hand count | I35: Completed | K35: 46054 | L35: Pierre Damis | M35: Pierre Damis | N35: Pierre Damis | P35: SSD_GFCD
A36: Logistics | B36: Amazon | C36: N/A | D36: SSDs | E36: BGLS | F36: Design Engineering | G36: Chute Design | H36: Mobile Chute - Floor Guides | I36: Completed | K36: 46054 | L36: Pierre Damis | M36: Rasmus Sorensen | N36: Pierre Damis | P36: SSD_GFCD
A37: Logistics | B37: Amazon | C37: N/A | D37: SSDs | E37: BGLS | F37: Design Engineering | G37: Chute Design | H37: Mobile Chute - Device Frame | I37: Completed | K37: 46054 | L37: Pierre Damis | M37: Pierre Damis | N37: Pierre Damis | P37: SSD_GFCD
A38: Logistics | B38: Amazon | C38: N/A | D38: SSDs | E38: BGLS | F38: Design Engineering | G38: Chute Design | H38: Mobile Chute - Floor Guides- Updated Assembly Drawing | I38: Completed | K38: 46054 | L38: Pierre Damis | M38: Rasmus Sorensen | N38: Pierre Damis | P38: SSD_GFCD
A39: Logistics | B39: Amazon | C39: N/A | D39: SSDs | E39: BGLS | F39: Design Engineering | G39: Chute Design | H39: Mobile Chute - Operator Post | I39: Completed | K39: 46054 | L39: Pierre Damis | M39: Pierre Damis | N39: Pierre Damis | P39: SSD_GFCD
A40: Logistics | B40: Amazon | C40: N/A | D40: SSDs | E40: BGLS | F40: Design Engineering | G40: Chute Design | H40: Mobile Chute - Break Roller | I40: Completed | K40: 46054 | L40: Pierre Damis | M40: Pierre Damis | N40: Pierre Damis | P40: SSD_GFCD
A41: Logistics | B41: Amazon | C41: N/A | D41: SSDs | E41: BGLS | F41: Project Engineering | G41: Chute Design | H41: Mobile Chute - Break Roller Customer FAT | I41: Completed | K41: 46054 | L41: Pierre Damis | M41: Pierre Damis | N41: Pierre Damis | O41: Amazon Chute Force Tests - OneDrive | P41: SSD_GFCD
A42: Logistics | B42: Amazon | C42: N/A | D42: SSDs | E42: BGLS | F42: Design Engineering | G42: Chute Design | H42: Mobile Chute - Transition Slide Structure for single chute | I42: Completed | K42: 46054 | L42: Pierre Damis | M42: Pierre Damis | N42: Pierre Damis | P42: SSD_GFCD
A43: Logistics | B43: Amazon | C43: N/A | D43: SSDs | E43: BGLS | F43: Design Engineering | G43: Chute Design | H43: Mobile Chute - Transition Slide Structure Between banks | I43: Completed | K43: 46054 | L43: Pierre Damis | M43: Pierre Damis | N43: Pierre Damis | P43: SSD_GFCD
A44: Logistics | B44: Amazon | C44: N/A | D44: SSDs | E44: BGLS | F44: Project Engineering | G44: Chute Design | H44: Static Chute - Included In J&J Order | I44: Completed | K44: 46054 | L44: Pierre Damis | M44: Pierre Damis | N44: Pierre Damis | P44: SSD_GFCD
A45: Logistics | B45: Amazon | C45: N/A | D45: SSDs | E45: BGLS | F45: Design Engineering | G45: Chute Design | H45: Static Chute - Transition Slide Structure near recirculation line | I45: Completed | K45: 46054 | L45: Pierre Damis | M45: Pierre Damis | N45: Pierre Damis | P45: SSD_GFCD
A46: Logistics | B46: Amazon | C46: N/A | D46: SSDs | E46: BGLS | F46: Project Engineering | G46: Chute Design | H46: End of Line Chute - Left hand vs Right hand count | I46: Completed | K46: 46054 | L46: Pierre Damis | M46: Pierre Damis | N46: Pierre Damis | P46: SSD_GFCD
A47: Logistics | B47: Amazon | C47: N/A | D47: SSDs | E47: BGLS | F47: Project Engineering | G47: Chute Design | H47: Induction Chute | I47: Completed | K47: 46054 | L47: Pierre Damis | M47: Pierre Damis | N47: Pierre Damis | P47: SSD_GFCD
A48: Logistics | B48: Amazon | C48: DCS | D48: SNC7 | E48: BGLS | F48: Design Engineering | G48: Chute Design | H48: Induction Chute | I48: Completed | K48: 46054 | L48: Deep Gajjar | M48: Pierre Damis | N48: Pierre Damis | P48: SSD_DCS
A49: Logistics | B49: Amazon | C49: DCS | D49: SAX8 | E49: BGLS | F49: Design Engineering | G49: Chute Design | H49: Induction Chute | I49: Completed | K49: 46054 | L49: Deep Gajjar | M49: Pierre Damis | N49: Pierre Damis | P49: SSD_DCS
A50: Logistics | B50: Amazon | C50: DCS | D50: SCA8 | E50: BGLS | F50: Design Engineering | G50: Chute Design | H50: Induction Chute | I50: Completed | K50: 46054 | L50: Deep Gajjar | M50: Pierre Damis | N50: Pierre Damis | P50: SSD_DCS
A51: Logistics | B51: Amazon | C51: DCS | D51: SNJ5 | E51: BGLS | F51: Design Engineering | G51: Chute Design | H51: Induction Chute | I51: Completed | K51: 46054 | L51: Deep Gajjar | M51: Pierre Damis | N51: Pierre Damis | P51: SSD_DCS
A52: Logistics | B52: Amazon | C52: DCS | D52: SOH7 | E52: BGLS | F52: Design Engineering | G52: Chute Design | H52: Induction Chute | I52: Completed | K52: 46054 | L52: Deep Gajjar | M52: Pierre Damis | N52: Pierre Damis | P52: SSD_DCS
A53: Logistics | B53: Amazon | C53: DCS | D53: SNC7 | E53: BGLS | F53: Design Engineering | G53: Chute Design | H53: Mobile Chute | I53: Completed | K53: 46054 | L53: Deep Gajjar | M53: Pierre Damis | N53: Pierre Damis | P53: SSD_DCS
... A79: Logistics | B79: Amazon | C79: DCS | D79: SNC7 | E79: BGLS | F79: Project Engineering | G79: System Components | H79: Induction Unit | I79: Completed | K79: 46054 | L79: Deep Gajjar | M79: Xin Liu | N79: James Bragg | P79: SSD_DCS
A80: Logistics | B80: Walmart | C80: Knapp | D80: IND3 | E80: Loop Sorter | F80: Project Layouts | G80: Installation Drawings | H80: Destination Layout - Hybrid Chute Locations | I80: Completed | K80: 46059 | M80: Pierre Damis | N80: Pierre Damis | P80: LS_IND3
A81: Customer Support | B81: Walmart | C81: Knapp | D81: NG1 | E81: Loop Sorter | F81: Project Layouts | G81: Installation Drawings | H81: Destination - IB MDR | I81: Completed | K81: 46062 | L81: Jameson Fitzpatrick | M81: Jameson Fitzpatrick | P81: CS_NG1
A82: Customer Support | B82: Walmart | C82: Knapp | D82: NG1 | E82: Loop Sorter | F82: Project Layouts | G82: Installation Drawings | H82: Destination - OB Break belt | I82: Completed | K82: 46062 | L82: Jameson Fitzpatrick | M82: Jameson Fitzpatrick | P82: CS_NG1
A83: Customer Support | B83: Walmart | C83: Knapp | D83: NG1 | E83: Loop Sorter | F83: Project Layouts | G83: Installation Drawings | H83: Induction Unit - Mounting Details | I83: Completed | K83: 46062 | L83: Jameson Fitzpatrick | M83: Jameson Fitzpatrick | P83: CS_NG1
A84: Customer Support | B84: Walmart | C84: Knapp | D84: NG1 | E84: Loop Sorter | F84: Project Layouts | G84: Installation Drawings | H84: Safety Fencing | I84: Completed | K84: 46062 | L84: Jameson Fitzpatrick | M84: Jameson Fitzpatrick | P84: CS_NG1
A85: Logistics | B85: Amazon | C85: DCS | D85: SSF3 | E85: BGLS | F85: Project Engineering | G85: System Components | H85: Destination | I85: On schedule | K85: 46062 | L85: Deep Gajjar | M85: Xin Liu | N85: Andrea Hosna | P85: SSD_DCS
A86: Logistics | B86: Amazon | C86: DCS | D86: SSF3 | E86: BGLS | F86: Project Engineering | G86: System Components | H86: ECO Layout | I86: Completed | K86: 46062 | L86: Deep Gajjar | M86: Deep Gajjar | N86: Svaraj Patel | O86: (Doubles detection, centering frame). Completed 3 DCS, Fortna Daifuku WIP | P86: SSD_DCS
A87: Logistics | B87: Amazon | C87: DCS | D87: SSF3 | E87: BGLS | F87: Project Engineering | G87: System Components | H87: Safety Equipment | I87: Completed | K87: 46062 | L87: Deep Gajjar | M87: Deep Gajjar | N87: Deep Gajjar | O87: Guarding small plate under induction | P87: SSD_DCS
A88: Logistics | B88: Amazon | C88: DCS | D88: SSF3 | E88: BGLS | F88: Project Engineering | G88: System Components | H88: Sorter Support | I88: Completed | K88: 46062 | L88: Deep Gajjar | M88: Deep Gajjar | N88: Svaraj Patel | O88: DCS/SNJ6/Daifuku to order | P88: SSD_DCS
A89: Logistics | B89: Amazon | C89: DCS | D89: SSF3 | E89: BGLS | F89: Project Engineering | G89: System Components | H89: System Interface | I89: Completed | K89: 46062 | L89: Deep Gajjar | M89: Deep Gajjar | N89: Deep Gajjar | O89: Minor/Major IU Interface, generic drawing, Recirc line | P89: SSD_DCS
A90: Logistics | B90: Amazon | C90: DCS | D90: SSF3 | E90: BGLS | F90: Documentation | G90: MRF | H90: Safety Labels | I90: On schedule | K90: 46062 | L90: Deep Gajjar | M90: Deep Gajjar | N90: Jameson Fitzpatrick | O90: Pending Risk Assessment completion | P90: SSD_DCS
A91: Logistics | B91: Amazon | C91: DCS | D91: SSF3 | E91: BGLS | F91: Project Engineering | G91: System Components | H91: Induction Unit | I91: Completed | K91: 46062 | L91: Deep Gajjar | M91: Xin Liu | N91: James Bragg | P91: SSD_DCS
A92: Logistics | B92: Amazon | C92: DCS | D92: SSF3 | E92: BGLS | F92: Project Engineering | G92: System Components | H92: Safety Fencing | I92: Completed | K92: 46062 | L92: Deep Gajjar | M92: Xin Liu | N92: David Blanco | P92: SSD_DCS
A93: Logistics | B93: Amazon | C93: DCS | D93: SAX8 | E93: BGLS | F93: Project Engineering | G93: System Components | H93: System Interface | I93: Completed | K93: 46062 | L93: Deep Gajjar | M93: Deep Gajjar | N93: Deep Gajjar | O93: DIR: | P93: SSD_DCS
A94: Logistics | B94: Amazon | C94: DCS | D94: SCA8 | E94: BGLS | F94: Project Engineering | G94: System Components | H94: System Interface | I94: Completed | K94: 46062 | L94: Deep Gajjar | M94: Deep Gajjar | N94: Deep Gajjar | O94: DIR: | P94: SSD_DCS
A95: Logistics | B95: Amazon | C95: DCS | D95: SNJ5 | E95: BGLS | F95: Project Engineering | G95: System Components | H95: System Interface | I95: Completed | K95: 46062 | L95: Deep Gajjar | M95: Deep Gajjar | N95: Deep Gajjar | O95: DIR: | P95: SSD_DCS
A96: Logistics | B96: Amazon | C96: DCS | D96: SOH7 | E96: BGLS | F96: Project Engineering | G96: System Components | H96: System Interface | I96: Completed | K96: 46062 | L96: Deep Gajjar | M96: Deep Gajjar | N96: Deep Gajjar | O96: DIR: | P96: SSD_DCS
A97: Logistics | B97: Amazon | C97: DCS | D97: SNC7 | E97: BGLS | F97: Project Engineering | G97: System Components | H97: System Interface | I97: Completed | K97: 46062 | L97: Deep Gajjar | M97: Deep Gajjar | N97: Deep Gajjar | O97: DIR: | P97: SSD_DCS
A98: Logistics | B98: Amazon | C98: DCS | D98: SSF3 | E98: BGLS | F98: Project Engineering | G98: System Components | H98: Sorter Section | I98: Completed | K98: 46062 | L98: Deep Gajjar | M98: Xin Liu | N98: James Bragg | O98: Did we complete? | P98: SSD_DCS
A99: Logistics | B99: Walmart | C99: Knapp | D99: IND3 | E99: Loop Sorter | F99: Project Layouts | G99: Installation Drawings | H99: Scanner | I99: Completed | K99: 46063 | M99: Pierre Damis | N99: David Blanco | P99: LS_IND3
A100: Logistics | B100: Walmart | C100: Knapp | D100: IND3 | E100: Loop Sorter | F100: Project Layouts | G100: Installation Drawings | H100: Safety Fence - Layout Update | I100: Completed | K100: 46063 | M100: Pierre Damis | N100: David Blanco | P100: LS_IND3
A101: Logistics | B101: Walmart | C101: Knapp | D101: IND3 | E101: Loop Sorter | F101: Project Layouts | G101: Installation Drawings | H101: Sprial Chute mounting | I101: Completed | K101: 46063 | M101: Pierre Damis | N101: Pierre Damis | P101: LS_IND3
A102: Logistics | B102: Amazon | C102: N/A | D102: AVP3 | E102: Loop Sorter | F102: Design Engineering | G102: Chute Design | H102: Chute Interface | K102: 46066 | L102: Alex Raff | P102: Amz_AVP3
A103: Logistics | B103: Amazon | C103: DCS | D103: SNC7 | E103: BGLS | F103: Project Engineering | G103: Documentation | H103: Site Survey | I103: Completed | K103: 46066 | L103: Deep Gajjar | M103: Deep Gajjar | N103: Deep Gajjar | O103: Wk6_DGajjar - All Documents | P103: SSD_DCS
A104: Logistics | B104: Amazon | C104: N/A | D104: AVP3 | E104: Loop Sorter | F104: Design Engineering | G104: Detail Design | H104: Sorter Netting | K104: 46070 | L104: Alex Raff | P104: Amz_AVP3
A105: Logistics | B105: Amazon | C105: Daifuku | D105: SGA6 | E105: BGLS | F105: Project Engineering | G105: Documentation | H105: Site Survey | I105: On schedule | K105: 46071 | L105: Xin Liu | M105: Xin Liu | O105: 2026-02-18 SGA6 Initial Site Survey - All Documents | P105: SSD_Daifuku
A106: Logistics | B106: Walmart | C106: Knapp | D106: IND3 | E106: Loop Sorter | F106: Project Engineering | G106: System Components | H106: Hybrid FAT - Site Visit | I106: Completed | K106: 46072 | M106: Rasmus Sorensen | N106: Rasmus Sorensen | O106: Hybrid destination test | P106: LS_IND3
A107: Logistics | B107: Amazon | C107: N/A | D107: AVP3 | E107: Loop Sorter | F107: Documentation | G107: MRFs | H107: Safety Fencing | K107: 46073 | L107: Alex Raff | P107: Amz_AVP3
A108: Logistics | B108: Amazon | C108: N/A | D108: AVP3 | E108: Loop Sorter | F108: Documentation | G108: MRFs | H108: Sorter Netting | K108: 46073 | L108: Alex Raff | P108: Amz_AVP3
A109: Logistics | B109: Amazon | C109: DCS | D109: SSF3 | E109: BGLS | F109: Design Engineering | G109: Chute Design | H109: End of Line Chute | I109: Completed | K109: 46076 | L109: Deep Gajjar | M109: Deep Gajjar | N109: Pierre Damis | P109: SSD_DCS
A110: Logistics | B110: Amazon | C110: DCS | D110: SSF3 | E110: BGLS | F110: Design Engineering | G110: Chute Design | H110: Recirculation Line | I110: On schedule | K110: 46076 | L110: Deep Gajjar | M110: Deep Gajjar | N110: Svaraj Patel | O110: Do we need to provide transition plate? | P110: SSD_DCS
A111: Logistics | B111: Amazon | C111: DCS | D111: SSF3 | E111: BGLS | F111: Design Engineering | G111: Chute Design | H111: Induction Chute | I111: Completed | K111: 46076 | L111: Deep Gajjar | M111: Pierre Damis | N111: Rasmus Sorensen | P111: SSD_DCS
A112: Logistics | B112: Amazon | C112: DCS | D112: SSF3 | E112: BGLS | F112: Design Engineering | G112: Chute Design | H112: Mobile Chute | I112: Completed | K112: 46076 | L112: Deep Gajjar | M112: Pierre Damis | N112: Pierre Damis | P112: SSD_DCS
A113: Logistics | B113: Amazon | C113: DCS | D113: SSF3 | E113: BGLS | F113: Design Engineering | G113: Detail Design | H113: EE Device Bracket - | I113: Completed | K113: 46083 | L113: Deep Gajjar | M113: Deep Gajjar | O113: 6 weeks before install, Pending EE to provide a list of components | P113: SSD_DCS
A114: Logistics | B114: Amazon | C114: N/A | D114: SSDs | E114: BGLS | F114: Project Engineering | G114: System Components | H114: Destination | I114: On schedule | K114: 46083 | L114: Pierre Damis | M114: Pierre Damis | N114: Andrea Hosna | P114: SSD_GFCD
A115: Logistics | B115: Amazon | C115: N/A | D115: SSDs | E115: BGLS | F115: Project Engineering | G115: Documentation | H115: Risk Assessment | I115: On schedule | K115: 46083 | L115: Pierre Damis | M115: Pierre Damis | N115: Pierre Damis | P115: SSD_GFCD
A116: Logistics | B116: Amazon | C116: N/A | D116: SSDs | E116: BGLS | F116: Project Engineering | G116: System Components | H116: Safety Fencing - Destination Area | I116: On schedule | K116: 46083 | L116: Pierre Damis | M116: Pierre Damis | N116: Pierre Damis | P116: SSD_GFCD
A117: Logistics | B117: Amazon | C117: DCS | D117: SSF3 | E117: BGLS | F117: Project Engineering | G117: Documentation | H117: Risk Assessment | I117: On schedule | K117: 46083 | L117: Deep Gajjar | M117: Pierre Damis | N117: Pierre Damis | O117: Template RA - SSF3 | P117: SSD_DCS
A118: Logistics | B118: Amazon | C118: N/A | D118: AVP3 | E118: Loop Sorter | F118: Design Engineering | G118: Detail Design | H118: Transition Slide | K118: 46084 | L118: Alex Raff | P118: Amz_AVP3
A119: Logistics | B119: Amazon | C119: N/A | D119: AVP3 | E119: Loop Sorter | F119: Project Engineering | G119: System Components | H119: Cable Tray Path | K119: 46087 | L119: Alex Raff | P119: Amz_AVP3
A120: Logistics | B120: Amazon | C120: N/A | D120: AVP3 | E120: Loop Sorter | F120: Project Engineering | G120: System Components | H120: Electrical Components | K120: 46087 | L120: Alex Raff | P120: Amz_AVP3
A121: Logistics | B121: Amazon | C121: N/A | D121: AVP3 | E121: Loop Sorter | F121: Documentation | G121: Documentation | H121: Risk Assessment | K121: 46087 | L121: Alex Raff | P121: Amz_AVP3
A122: Logistics | B122: Amazon | C122: N/A | D122: AVP3 | E122: Loop Sorter | F122: Project Engineering | G122: System Components | H122: Safety Labels | K122: 46087 | L122: Alex Raff | P122: Amz_AVP3
A123: Logistics | B123: Amazon | C123: N/A | D123: AVP3 | E123: Loop Sorter | F123: Project Engineering | G123: System Components | H123: Safety Fencing | I123: Completed | K123: 46087 | L123: Alex Raff | P123: Amz_AVP3
A124: Logistics | B124: Amazon | C124: N/A | D124: AVP3 | E124: Loop Sorter | F124: Documentation | G124: MRFs | H124: Transition Slide | K124: 46087 | L124: Alex Raff | P124: Amz_AVP3
A125: Logistics | B125: Amazon | C125: N/A | D125: AVP3 | E125: Loop Sorter | F125: Project Engineering | G125: System Components | H125: Transition Slide | K125: 46087 | L125: Alex Raff | P125: Amz_AVP3
A126: Logistics | B126: Walmart | C126: Knapp | D126: IND3 | E126: Loop Sorter | F126: Project Layouts | G126: Installation Drawings | H126: DST installation layout update | I126: On schedule | K126: 46087 | M126: Alex Raff | N126: David Blanco | O126: Add dimension for caljen extendable conveyor. check note in teams labelled "IND_INST_UPDATE_1" | P126: LS_IND3
A127: Logistics | B127: Amazon | C127: N/A | D127: SSDs | E127: BGLS | F127: Design Engineering | G127: Chute Design | H127: Chute Assembly Model | I127: On schedule | K127: 46087 | L127: Pierre Damis | M127: Pierre Damis | N127: Rasmus Sorensen | P127: SSD_GFCD
A128: Logistics | B128: Amazon | C128: TREW | D128: RIC4 | E128: Loop Sorter | F128: Project Engineering | G128: Installation Drawings | H128: Scanner | I128: On schedule | K128: 46090 | L128: Xin Liu | M128: Xin Liu | N128: David Blanco | O128: Xref update | P128: Amz_RIC4
A129: Logistics | B129: Amazon | C129: Fortna | D129: SNJ6 | E129: BGLS | F129: Project Layouts | G129: Installation Drawings | H129: DES ECO Layout | I129: On schedule | K129: 46090 | L129: Deep Gajjar | M129: Svaraj Patel | P129: SSD_Fortna
A130: Logistics | B130: Amazon | C130: Fortna | D130: SNJ6 | E130: BGLS | F130: Project Layouts | G130: Installation Drawings | H130: Destination Chutes | I130: On schedule | K130: 46090 | L130: Deep Gajjar | M130: Andrea Hosna | N130: Bert Ellard (Prolann) | P130: SSD_Fortna
A131: Logistics | B131: Amazon | C131: DCS | D131: SSF3 | E131: BGLS | F131: Project Layouts | G131: Installation Drawings | H131: Datum | I131: Completed | K131: 46090 | L131: Deep Gajjar | M131: Deep Gajjar | N131: Bert Ellard (Prolann) | P131: SSD_DCS
...

Sheet Amazon SSDs
A1: Division | B1: Customer | C1: Integ | D1: Name | E1: System | F1: Task Category | G1: Area | H1: Deliverable | I1: Status | J1: Review Date | K1: Due Date | L1: Project Lead | M1: Area Owner | N1: Execution Owner | O1: Comments
A2: Logistics | B2: Amazon | C2: N/A | D2: SSDs | E2: BGLS | F2: Project Layouts | G2: System Components | H2: Destination - Blocks | I2: Completed | K2: 46054 | L2: Pierre Damis | M2: Pierre Damis | N2: Andrea Hosna
A3: Logistics | B3: Amazon | C3: N/A | D3: SSDs | E3: BGLS | F3: Project Engineering | G3: System Components | H3: Safety Fencing - Destination Area | I3: Completed | K3: 46083 | L3: Pierre Damis | M3: Pierre Damis | N3: Pierre Damis
A4: Logistics | B4: Amazon | C4: N/A | D4: SSDs | E4: BGLS | F4: Project Engineering | G4: System Components | H4: Destination | I4: Completed | K4: 46083 | L4: Pierre Damis | M4: Pierre Damis | N4: Andrea Hosna
A5: Logistics | B5: Amazon | C5: N/A | D5: SSDs | E5: BGLS | F5: Project Engineering | G5: Documentation | H5: Risk Assessment | I5: On schedule | K5: 46083 | L5: Pierre Damis | M5: Pierre Damis | N5: Pierre Damis
A6: Logistics | B6: Amazon | C6: N/A | D6: SSDs | E6: BGLS | F6: Project Engineering | G6: Chute Design | H6: Mobile Chute - Left hand vs Right hand count | I6: Completed | K6: 46054 | L6: Pierre Damis | M6: Pierre Damis | N6: Pierre Damis
A7: Logistics | B7: Amazon | C7: N/A | D7: SSDs | E7: BGLS | F7: Project Engineering | G7: Chute Design | H7: Mobile Chute - Break Roller Customer FAT | I7: Completed | K7: 46054 | L7: Pierre Damis | M7: Pierre Damis | N7: Pierre Damis | O7: Amazon Chute Force Tests - OneDrive
A8: Logistics | B8: Amazon | C8: N/A | D8: SSDs | E8: BGLS | F8: Project Engineering | G8: Chute Design | H8: Static Chute - Included In J&J Order | I8: Completed | K8: 46054 | L8: Pierre Damis | M8: Pierre Damis | N8: Pierre Damis
A9: Logistics | B9: Amazon | C9: N/A | D9: SSDs | E9: BGLS | F9: Project Engineering | G9: Chute Design | H9: End of Line Chute - Left hand vs Right hand count | I9: Completed | K9: 46054 | L9: Pierre Damis | M9: Pierre Damis | N9: Pierre Damis
A10: Logistics | B10: Amazon | C10: N/A | D10: SSDs | E10: BGLS | F10: Project Engineering | G10: Chute Design | H10: Induction Chute | I10: Completed | K10: 46054 | L10: Pierre Damis | M10: Pierre Damis | N10: Pierre Damis
A11: Logistics | B11: Amazon | C11: N/A | D11: SSDs | E11: BGLS | F11: Design Engineering | G11: Chute Design | H11: Chute Assembly Model | I11: Completed | K11: 46087 | L11: Pierre Damis | M11: Pierre Damis | N11: Rasmus Sorensen
A12: Logistics | B12: Amazon | C12: N/A | D12: SSDs | E12: BGLS | F12: Design Engineering | G12: Chute Design | H12: Operator post floor mount | I12: Completed | K12: 46092 | L12: Pierre Damis | M12: Pierre Damis | N12: Rasmus Sorensen
A13: Logistics | B13: Amazon | C13: N/A | D13: SSDs | E13: BGLS | F13: Design Engineering | G13: Chute Design | H13: Device frame floor mount | I13: Completed | K13: 46092 | L13: Pierre Damis | M13: Pierre Damis | N13: Rasmus Sorensen
A14: Logistics | B14: Amazon | C14: N/A | D14: SSDs | E14: BGLS | F14: Design Engineering | G14: Chute Design | H14: Mobile Chute - Floor Guides | I14: Completed | K14: 46054 | L14: Pierre Damis | M14: Rasmus Sorensen | N14: Pierre Damis
A15: Logistics | B15: Amazon | C15: N/A | D15: SSDs | E15: BGLS | F15: Design Engineering | G15: Chute Design | H15: Mobile Chute - Device Frame | I15: Completed | K15: 46054 | L15: Pierre Damis | M15: Pierre Damis | N15: Pierre Damis
A16: Logistics | B16: Amazon | C16: N/A | D16: SSDs | E16: BGLS | F16: Design Engineering | G16: Chute Design | H16: Mobile Chute - Floor Guides- Updated Assembly Drawing | I16: Completed | K16: 46054 | L16: Pierre Damis | M16: Rasmus Sorensen | N16: Pierre Damis
A17: Logistics | B17: Amazon | C17: N/A | D17: SSDs | E17: BGLS | F17: Design Engineering | G17: Chute Design | H17: Mobile Chute - Operator Post | I17: Completed | K17: 46054 | L17: Pierre Damis | M17: Pierre Damis | N17: Pierre Damis
A18: Logistics | B18: Amazon | C18: N/A | D18: SSDs | E18: BGLS | F18: Design Engineering | G18: Chute Design | H18: Mobile Chute - Break Roller | I18: Completed | K18: 46054 | L18: Pierre Damis | M18: Pierre Damis | N18: Pierre Damis
A19: Logistics | B19: Amazon | C19: N/A | D19: SSDs | E19: BGLS | F19: Design Engineering | G19: Chute Design | H19: Mobile Chute - Transition Slide Structure for single chute | I19: Completed | K19: 46054 | L19: Pierre Damis | M19: Pierre Damis | N19: Pierre Damis
... A22: Logistics | B22: Amazon | C22: N/A | D22: SSDs | E22: BGLS | F22: Design Engineering | G22: Chute Design | H22: Operator post floor mount - modified to attach to guides | I22: On schedule | K22: 46171 | L22: Pierre Damis | M22: Rasmus Sorensen | N22: James Bragg
A23: Logistics | B23: Amazon | C23: N/A | D23: SSDs | E23: BGLS | F23: Design Engineering | G23: Detail Design | H23: Doubles Detection Bracket | I23: Completed | K23: 46111 | L23: Pierre Damis | M23: Pierre Damis | N23: Rasmus Sorensen | O23: Doubles Detection Bracket - All Documents

Sheet SSD Dematic
A1: Division | B1: Customer | C1: Integ | D1: Name | E1: System | F1: Task Category | G1: Area | H1: Deliverable | I1: Status | J1: Review Date | K1: Due Date | L1: Project Lead | M1: Area Owner | N1: Execution Owner | O1: Comments
A2: Logistics | B2: Amazon | C2: Dematic | D2: SAX9 | E2: BGLS | F2: Project Engineering | G2: System Layouts | H2: System Layout Submittal | I2: Completed | K2: 46115 | L2: Svaraj Patel
A3: Logistics | B3: Amazon | C3: Dematic | D3: SCL3 | E3: BGLS | F3: Design Engineering | G3: Chute Design | H3: End of Line Chute | I3: Behind Schedule | K3: 46168 | L3: Svaraj Patel | M3: Rasmus Sorensen | O3: Final qtys for MRF
A4: Logistics | B4: Amazon | C4: Dematic | D4: SAX9 | E4: BGLS | F4: Project Engineering | G4: Documentation | H4: BGLS Ordering Tool - ME | I4: Completed | K4: 46127 | L4: Svaraj Patel
A5: Logistics | B5: Amazon | C5: Dematic | D5: SAX9 | E5: BGLS | F5: Project Engineering | G5: Documentation | H5: BGLS Sorter Length | I5: Completed | K5: 46127 | L5: Svaraj Patel
A6: Logistics | B6: Amazon | C6: Dematic | D6: SCL3 | E6: BGLS | F6: Design Engineering | G6: Chute Design | H6: Induction Chute | I6: Behind Schedule | K6: 46168 | L6: Svaraj Patel | M6: Rasmus Sorensen | O6: Final qtys for MRF
A7: Logistics | B7: Amazon | C7: Dematic | D7: SCL3 | E7: BGLS | F7: Design Engineering | G7: Chute Design | H7: Mobile Chute | I7: Behind Schedule | K7: 46168 | L7: Svaraj Patel | M7: Rasmus Sorensen | O7: Final qtys for MRF
A8: Logistics | B8: Amazon | C8: Dematic | D8: SAX9 | E8: BGLS | F8: Design Engineering | G8: Chute Design | H8: Static Chute | I8: Behind Schedule | K8: 46168 | L8: Svaraj Patel | M8: Pierre Damis | O8: Final qtys for MRF
A9: Logistics | B9: Amazon | C9: Dematic | D9: SAX9 | E9: BGLS | F9: Design Engineering | G9: Chute Design | H9: End of Line Chute | I9: Behind Schedule | K9: 46168 | L9: Svaraj Patel | M9: Pierre Damis | O9: Final qtys for MRF
A10: Logistics | B10: Amazon | C10: Dematic | D10: SAX9 | E10: BGLS | F10: Design Engineering | G10: Chute Design | H10: Induction Chute | I10: Behind Schedule | K10: 46168 | L10: Svaraj Patel | M10: Pierre Damis | O10: Final qtys for MRF
A11: Logistics | B11: Amazon | C11: Dematic | D11: SAX9 | E11: BGLS | F11: Design Engineering | G11: Chute Design | H11: Mobile Chute | I11: Behind Schedule | K11: 46168 | L11: Svaraj Patel | M11: Pierre Damis | O11: Final qtys for MRF
A12: Logistics | B12: Amazon | C12: Dematic | D12: SAX9 | E12: BGLS | F12: Design Engineering | G12: Chute Design | H12: Recirculation Line | I12: On schedule | K12: 46230 | L12: Svaraj Patel | M12: Svaraj Patel
A13: Logistics | B13: Amazon | C13: Dematic | D13: SAX9 | E13: BGLS | F13: Design Engineering | G13: Detail Design | H13: EE Device Bracket - | I13: On schedule | K13: 46230 | L13: Svaraj Patel | M13: Deep Gajjar | O13: 6 weeks before install, Pending EE to provide a list of components
A14: Logistics | B14: Amazon | C14: Dematic | D14: SAX9 | E14: BGLS | F14: Project Engineering | G14: Documentation | H14: Installation Book | I14: On schedule | K14: 46266 | L14: Svaraj Patel | M14: David Blanco | O14: Site Start Date: 9/29/26 (4 weeks before install, 1 week buffer)
A15: Logistics | B15: Amazon | C15: Dematic | D15: SAX9 | E15: BGLS | F15: Project Engineering | G15: Documentation | H15: Site Survey | I15: On schedule | K15: 46198 | L15: Svaraj Patel | M15: Svaraj Patel | N15: Svaraj Patel
A16: Logistics | B16: Amazon | C16: Dematic | D16: SAX9 | E16: BGLS | F16: Project Engineering | G16: System Components | H16: Cabinet Location | I16: Completed | K16: 46227 | L16: Svaraj Patel
A17: Logistics | B17: Amazon | C17: Dematic | D17: SAX9 | E17: BGLS | F17: Project Engineering | G17: Documentation | H17: Spare Parts List | I17: Pending Update | K17: TBD | L17: Svaraj Patel | M17: Svaraj Patel | N17: Svaraj Patel | O17: Ref previous SSDs
A18: Logistics | B18: Amazon | C18: Dematic | D18: SAX9 | E18: BGLS | F18: Project Engineering | G18: System Components | H18: Point Load Layout | I18: Completed | K18: 46227 | L18: Svaraj Patel
A19: Logistics | B19: Amazon | C19: Dematic | D19: SAX9 | E19: BGLS | F19: Project Engineering | G19: Documentation | H19: Risk Assessment | I19: Pending Update | K19: TBD | L19: Svaraj Patel | M19: Pierre Damis | N19: Pierre Damis | O19: Template RA - SSF3
A20: Logistics | B20: Amazon | C20: Dematic | D20: SAX9 | E20: BGLS | F20: Project Layouts | G20: Documentation | H20: As-Builds | I20: On schedule | K20: 46349 | L20: Svaraj Patel | M20: David Blanco | O20: End of ME Install. Confirm Date
A21: Logistics | B21: Amazon | C21: Dematic | D21: SAX9 | E21: BGLS | F21: Project Engineering | G21: System Components | H21: Induction Unit | I21: Completed | K21: 46227 | L21: Svaraj Patel
A22: Logistics | B22: Amazon | C22: Dematic | D22: SCL3 | E22: BGLS | F22: Design Engineering | G22: Chute Design | H22: Static Chute | I22: Behind Schedule | K22: 46168 | L22: Svaraj Patel | M22: Rasmus Sorensen | O22: Final qtys for MRF
A23: Logistics | B23: Amazon | C23: Dematic | D23: SAX9 | E23: BGLS | F23: Project Engineering | G23: System Components | H23: Safety Fencing | I23: Completed | K23: 46227 | L23: Svaraj Patel
A24: Logistics | B24: Amazon | C24: Dematic | D24: SAX9 | E24: BGLS | F24: Project Engineering | G24: System Components | H24: Sorter Section | I24: Completed | K24: 46227 | L24: Svaraj Patel
A25: Logistics | B25: Amazon | C25: Dematic | D25: SAX9 | E25: BGLS | F25: Project Engineering | G25: System Components | H25: Sorter Support | I25: Completed | K25: 46227 | L25: Svaraj Patel
A26: Logistics | B26: Amazon | C26: Dematic | D26: SAX9 | E26: BGLS | F26: Project Layouts | G26: Installation Drawings | H26: Datum | I26: On schedule | K26: 46258 | L26: Svaraj Patel | M26: David Blanco | N26: James Bragg
A27: Logistics | B27: Amazon | C27: Dematic | D27: SCL3 | E27: BGLS | F27: Design Engineering | G27: Chute Design | H27: Recirculation Line | I27: On schedule | K27: 46230 | L27: Svaraj Patel | M27: Svaraj Patel
A28: Logistics | B28: Amazon | C28: Dematic | D28: SAX9 | E28: BGLS | F28: Project Layouts | G28: Installation Drawings | H28: DES ECO Layout | I28: On schedule | K28: 46258 | L28: Svaraj Patel | M28: David Blanco | N28: James Bragg
A29: Logistics | B29: Amazon | C29: Dematic | D29: SCL3 | E29: BGLS | F29: Design Engineering | G29: Detail Design | H29: Sorter Supports | I29: Completed | K29: 46230 | L29: Svaraj Patel | M29: Svaraj Patel
A30: Logistics | B30: Amazon | C30: Dematic | D30: SAX9 | E30: BGLS | F30: Project Layouts | G30: Installation Drawings | H30: Destination Chutes | I30: On schedule | K30: 46258 | L30: Svaraj Patel | M30: David Blanco | N30: James Bragg
A31: Logistics | B31: Amazon | C31: Dematic | D31: SCL3 | E31: BGLS | F31: Design Engineering | G31: Detail Design | H31: EE Device Bracket - | I31: On schedule | K31: 46230 | L31: Svaraj Patel | M31: Deep Gajjar | O31: 6 weeks before install, Pending EE to provide a list of components
A32: Logistics | B32: Amazon | C32: Dematic | D32: SCL3 | E32: BGLS | F32: Project Engineering | G32: Documentation | H32: BGLS Ordering Tool - ME | I32: Completed | K32: 46127 | L32: Svaraj Patel
A33: Logistics | B33: Amazon | C33: Dematic | D33: SAX9 | E33: BGLS | F33: Project Layouts | G33: Installation Drawings | H33: Destination Transitions | I33: On schedule | K33: 46258 | L33: Svaraj Patel | M33: David Blanco | N33: James Bragg
A34: Logistics | B34: Amazon | C34: Dematic | D34: SCL3 | E34: BGLS | F34: Project Engineering | G34: Documentation | H34: BGLS Sorter Length | I34: Completed | K34: 46127 | L34: Svaraj Patel
A35: Logistics | B35: Amazon | C35: Dematic | D35: SCL3 | E35: BGLS | F35: Project Engineering | G35: Documentation | H35: Site Survey | I35: On schedule | K35: 46197 | L35: Svaraj Patel | M35: Svaraj Patel | N35: Svaraj Patel
A36: Logistics | B36: Amazon | C36: Dematic | D36: SCL3 | E36: BGLS | F36: Project Engineering | G36: Documentation | H36: Installation Book | I36: On schedule | K36: 46266 | L36: Svaraj Patel | M36: David Blanco | O36: Site Start Date: 9/29/26 (4 weeks before install, 1 week buffer)
A37: Logistics | B37: Amazon | C37: Dematic | D37: SAX9 | E37: BGLS | F37: Project Layouts | G37: Installation Drawings | H37: Egress, Maintenance Operator | I37: On schedule | K37: 46258 | L37: Svaraj Patel | M37: David Blanco | N37: James Bragg
A38: Logistics | B38: Amazon | C38: Dematic | D38: SAX9 | E38: BGLS | F38: Design Engineering | G38: Detail Design | H38: Sorter Supports | I38: Completed | K38: 46230 | L38: Svaraj Patel
A39: Logistics | B39: Amazon | C39: Dematic | D39: SAX9 | E39: BGLS | F39: Project Layouts | G39: Installation Drawings | H39: Induction Unit | I39: On schedule | K39: 46258 | L39: Svaraj Patel | M39: David Blanco | N39: James Bragg
A40: Logistics | B40: Amazon | C40: Dematic | D40: SAX9 | E40: BGLS | F40: Project Layouts | G40: Installation Drawings | H40: LNS ECO Layout | I40: On schedule | K40: 46258 | L40: Svaraj Patel | M40: David Blanco | N40: James Bragg
A41: Logistics | B41: Amazon | C41: Dematic | D41: SAX9 | E41: BGLS | F41: Project Layouts | G41: Installation Drawings | H41: LNS Sorter Section | I41: On schedule | K41: 46258 | L41: Svaraj Patel | M41: David Blanco | N41: James Bragg
A42: Logistics | B42: Amazon | C42: Dematic | D42: SAX9 | E42: BGLS | F42: Project Layouts | G42: Installation Drawings | H42: Safety Fencing | I42: On schedule | K42: 46258 | L42: Svaraj Patel | M42: David Blanco | N42: James Bragg
A43: Logistics | B43: Amazon | C43: Dematic | D43: SAX9 | E43: BGLS | F43: Project Layouts | G43: Installation Drawings | H43: Safety Labels | I43: On schedule | K43: 46258 | L43: Svaraj Patel | M43: David Blanco | N43: James Bragg | O43: Pending Risk Assessment completion
A44: Logistics | B44: Amazon | C44: Dematic | D44: SAX9 | E44: BGLS | F44: Project Layouts | G44: Installation Drawings | H44: Sorter Support | I44: On schedule | K44: 46258 | L44: Svaraj Patel | M44: David Blanco | N44: James Bragg
A45: Logistics | B45: Amazon | C45: Dematic | D45: SAX9 | E45: BGLS | F45: Documentation | G45: MRF | H45: Safety Labels | I45: On schedule | K45: 46238 | L45: Svaraj Patel | M45: Svaraj Patel | N45: Svaraj Patel | O45: Pending Risk Assessment completion
A46: Logistics | B46: Amazon | C46: Dematic | D46: SAX9 | E46: BGLS | F46: Documentation | G46: MRF | H46: EE Device Bracket - | I46: On schedule | K46: 46238 | L46: Svaraj Patel | M46: Svaraj Patel | N46: Svaraj Patel
A47: Logistics | B47: Amazon | C47: Dematic | D47: SAX9 | E47: BGLS | F47: Documentation | G47: MRF | H47: Safety Equipment | I47: On schedule | K47: 46238 | L47: Svaraj Patel | M47: Svaraj Patel | N47: Svaraj Patel
A48: Logistics | B48: Amazon | C48: Dematic | D48: SAX9 | E48: BGLS | F48: Documentation | G48: MRF | H48: Sorter Support | I48: On schedule | K48: 46238 | L48: Svaraj Patel | M48: Svaraj Patel | N48: Svaraj Patel
A49: Logistics | B49: Amazon | C49: Dematic | D49: SAX9 | E49: BGLS | F49: Documentation | G49: MRF | H49: Installation Drawing Prints | I49: On schedule | K49: 46266 | L49: Svaraj Patel | M49: Svaraj Patel | N49: Svaraj Patel | O49: Pending Risk Assessment completion
A50: Logistics | B50: Amazon | C50: Dematic | D50: SAX9 | E50: BGLS | F50: Documentation | G50: MRF | H50: Safety Fencing | I50: Pending Update | K50: TBD | L50: Svaraj Patel | M50: Svaraj Patel | N50: Svaraj Patel | O50: Confirm with Xin / Mary from PUR
A51: Logistics | B51: Amazon | C51: Dematic | D51: SAX9 | E51: BGLS | F51: Project Engineering | G51: System Components | H51: Operator and Maintenace Area | I51: On schedule | K51: 46227 | L51: Svaraj Patel | M51: Svaraj Patel
A52: Logistics | B52: Amazon | C52: Dematic | D52: SAX9 | E52: BGLS | F52: Project Engineering | G52: System Components | H52: Destination | I52: Pending Update | K52: 46227 | L52: Svaraj Patel | M52: Svaraj Patel | O52: Pending Chute Design Updates - Need to updat Blocks
A53: Logistics | B53: Amazon | C53: Dematic | D53: SAX9 | E53: BGLS | F53: Project Engineering | G53: System Components | H53: ECO Layout | I53: On schedule | K53: 46227 | L53: Svaraj Patel | M53: Svaraj Patel | O53: (Doubles detection, centering frame). Completed 3 DCS, Fortna Daifuku WIP
A54: Logistics | B54: Amazon | C54: Dematic | D54: SAX9 | E54: BGLS | F54: Project Engineering | G54: System Components | H54: Safety Equipment | I54: On schedule | K54: 46227 | L54: Svaraj Patel | M54: Svaraj Patel | O54: Guarding small plate under induction
A55: Logistics | B55: Amazon | C55: Dematic | D55: SAX9 | E55: BGLS | F55: Project Engineering | G55: System Components | H55: System Interface | I55: On schedule | K55: 46227 | L55: Svaraj Patel | M55: Svaraj Patel | O55: Minor/Major IU Interface, generic drawing, Recirc line
A56: Logistics | B56: Amazon | C56: Dematic | D56: SCL3 | E56: BGLS | F56: Project Layouts | G56: Documentation | H56: As-Builds | I56: On schedule | K56: 46349 | L56: Svaraj Patel | M56: David Blanco | O56: End of ME Install. Confirm Date
A57: Logistics | B57: Amazon | C57: Dematic | D57: SCL3 | E57: BGLS | F57: Project Engineering | G57: Documentation | H57: Risk Assessment | I57: Pending Update | K57: TBD | L57: Svaraj Patel | M57: Pierre Damis | N57: Pierre Damis | O57: Template RA - SSF3
A58: Logistics | B58: Amazon | C58: Dematic | D58: SCL3 | E58: BGLS | F58: Project Engineering | G58: Documentation | H58: Spare Parts List | I58: Pending Update | K58: TBD | L58: Svaraj Patel | M58: Svaraj Patel | N58: Svaraj Patel | O58: Ref previous SSDs
A59: Logistics | B59: Amazon | C59: Dematic | D59: SCL3 | E59: BGLS | F59: Project Layouts | G59: Installation Drawings | H59: Datum | I59: On schedule | K59: 46258 | L59: Svaraj Patel | M59: David Blanco | N59: James Bragg
A60: Logistics | B60: Amazon | C60: Dematic | D60: SCL3 | E60: BGLS | F60: Project Layouts | G60: Installation Drawings | H60: DES ECO Layout | I60: On schedule | K60: 46258 | L60: Svaraj Patel | M60: David Blanco | N60: James Bragg
A61: Logistics | B61: Amazon | C61: Dematic | D61: SCL3 | E61: BGLS | F61: Project Layouts | G61: Installation Drawings | H61: Destination Chutes | I61: On schedule | K61: 46258 | L61: Svaraj Patel | M61: David Blanco | N61: James Bragg
A62: Logistics | B62: Amazon | C62: Dematic | D62: SCL3 | E62: BGLS | F62: Project Layouts | G62: Installation Drawings | H62: Destination Transitions | I62: On schedule | K62: 46258 | L62: Svaraj Patel | M62: David Blanco | N62: James Bragg
A63: Logistics | B63: Amazon | C63: Dematic | D63: SCL3 | E63: BGLS | F63: Project Layouts | G63: Installation Drawings | H63: Egress, Maintenance Operator | I63: On schedule | K63: 46258 | L63: Svaraj Patel | M63: David Blanco | N63: James Bragg
A64: Logistics | B64: Amazon | C64: Dematic | D64: SCL3 | E64: BGLS | F64: Project Layouts | G64: Installation Drawings | H64: Induction Unit | I64: On schedule | K64: 46258 | L64: Svaraj Patel | M64: David Blanco | N64: James Bragg
A65: Logistics | B65: Amazon | C65: Dematic | D65: SCL3 | E65: BGLS | F65: Project Layouts | G65: Installation Drawings | H65: LNS ECO Layout | I65: On schedule | K65: 46258 | L65: Svaraj Patel | M65: David Blanco | N65: James Bragg
A66: Logistics | B66: Amazon | C66: Dematic | D66: SCL3 | E66: BGLS | F66: Project Layouts | G66: Installation Drawings | H66: LNS Sorter Section | I66: On schedule | K66: 46258 | L66: Svaraj Patel | M66: David Blanco | N66: James Bragg
A67: Logistics | B67: Amazon | C67: Dematic | D67: SCL3 | E67: BGLS | F67: Project Layouts | G67: Installation Drawings | H67: Safety Fencing | I67: On schedule | K67: 46258 | L67: Svaraj Patel | M67: David Blanco | N67: James Bragg
A68: Logistics | B68: Amazon | C68: Dematic | D68: SCL3 | E68: BGLS | F68: Project Layouts | G68: Installation Drawings | H68: Safety Labels | I68: On schedule | K68: 46258 | L68: Svaraj Patel | M68: David Blanco | N68: James Bragg | O68: Pending Risk Assessment completion
A69: Logistics | B69: Amazon | C69: Dematic | D69: SCL3 | E69: BGLS | F69: Project Layouts | G69: Installation Drawings | H69: Sorter Support | I69: On schedule | K69: 46258 | L69: Svaraj Patel | M69: David Blanco | N69: James Bragg
A70: Logistics | B70: Amazon | C70: Dematic | D70: SCL3 | E70: BGLS | F70: Documentation | G70: MRF | H70: EE Device Bracket - | I70: On schedule | K70: 46238 | L70: Svaraj Patel | M70: Svaraj Patel | N70: Svaraj Patel
A71: Logistics | B71: Amazon | C71: Dematic | D71: SCL3 | E71: BGLS | F71: Documentation | G71: MRF | H71: Safety Equipment | I71: On schedule | K71: 46238 | L71: Svaraj Patel | M71: Svaraj Patel | N71: Svaraj Patel
A72: Logistics | B72: Amazon | C72: Dematic | D72: SCL3 | E72: BGLS | F72: Documentation | G72: MRF | H72: Safety Labels | I72: On schedule | K72: 46238 | L72: Svaraj Patel | M72: Svaraj Patel | N72: Svaraj Patel | O72: Pending Risk Assessment completion
A73: Logistics | B73: Amazon | C73: Dematic | D73: SCL3 | E73: BGLS | F73: Documentation | G73: MRF | H73: Sorter Support | I73: On schedule | K73: 46238 | L73: Svaraj Patel | M73: Svaraj Patel | N73: Svaraj Patel
A74: Logistics | B74: Amazon | C74: Dematic | D74: SCL3 | E74: BGLS | F74: Documentation | G74: MRF | H74: Installation Drawing Prints | I74: On schedule | K74: 46266 | L74: Svaraj Patel | M74: Svaraj Patel | N74: Svaraj Patel | O74: Pending Risk Assessment completion
A75: Logistics | B75: Amazon | C75: Dematic | D75: SCL3 | E75: BGLS | F75: Documentation | G75: MRF | H75: Safety Fencing | I75: Pending Update | K75: TBD | L75: Svaraj Patel | M75: Svaraj Patel | N75: Svaraj Patel | O75: Confirm with Xin / Mary from PUR
A76: Logistics | B76: Amazon | C76: Dematic | D76: SCL3 | E76: BGLS | F76: Project Engineering | G76: System Components | H76: Cabinet Location | I76: Completed | K76: 46227 | L76: Svaraj Patel
A77: Logistics | B77: Amazon | C77: Dematic | D77: SCL3 | E77: BGLS | F77: Project Engineering | G77: System Components | H77: ECO Layout | I77: Completed | K77: 46227 | L77: Svaraj Patel | O77: (Doubles detection, centering frame). Completed 3 DCS, Fortna Daifuku WIP
A78: Logistics | B78: Amazon | C78: Dematic | D78: SCL3 | E78: BGLS | F78: Project Engineering | G78: System Components | H78: Induction Unit | I78: Completed | K78: 46227 | L78: Svaraj Patel
A79: Logistics | B79: Amazon | C79: Dematic | D79: SCL3 | E79: BGLS | F79: Project Engineering | G79: System Components | H79: Point Load Layout | I79: Completed | K79: 46227 | L79: Svaraj Patel
A80: Logistics | B80: Amazon | C80: Dematic | D80: SCL3 | E80: BGLS | F80: Project Engineering | G80: System Components | H80: Safety Fencing | I80: Completed | K80: 46227 | L80: Svaraj Patel
A81: Logistics | B81: Amazon | C81: Dematic | D81: SCL3 | E81: BGLS | F81: Project Engineering | G81: System Components | H81: Sorter Section | I81: Completed | K81: 46227 | L81: Svaraj Patel
A82: Logistics | B82: Amazon | C82: Dematic | D82: SCL3 | E82: BGLS | F82: Project Engineering | G82: System Components | H82: Sorter Support | I82: Completed | K82: 46227 | L82: Svaraj Patel
A83: Logistics | B83: Amazon | C83: Dematic | D83: SCL3 | E83: BGLS | F83: Project Engineering | G83: System Components | H83: Operator and Maintenace Area | I83: On schedule | K83: 46227 | L83: Svaraj Patel | M83: Svaraj Patel
A84: Logistics | B84: Amazon | C84: Dematic | D84: SCL3 | E84: BGLS | F84: Project Engineering | G84: System Components | H84: Safety Equipment | I84: On schedule | K84: 46227 | L84: Svaraj Patel | M84: Svaraj Patel | O84: Guarding small plate under induction
A85: Logistics | B85: Amazon | C85: Dematic | D85: SCL3 | E85: BGLS | F85: Project Engineering | G85: System Components | H85: System Interface | I85: On schedule | K85: 46227 | L85: Svaraj Patel | M85: Svaraj Patel | O85: Minor/Major IU Interface, generic drawing, Recirc line
A86: Logistics | B86: Amazon | C86: Dematic | D86: SCL3 | E86: BGLS | F86: Project Engineering | G86: System Components | H86: Destination | I86: Pending Update | K86: 46227 | L86: Svaraj Patel | M86: Svaraj Patel
A87: Logistics | B87: Amazon | C87: Dematic | D87: SCL3 | E87: BGLS | F87: Project Engineering | G87: System Layouts | H87: System Layout Submittal | I87: Completed | K87: 46115 | L87: Svaraj Patel

Sheet SSD DCS
A1: Division | B1: Customer | C1: Integ | D1: Name | E1: System | F1: Task Category | G1: Area | H1: Deliverable | I1: Status | J1: Review Date | K1: Due Date | L1: Project Lead | M1: Area Owner | N1: Execution Owner | O1: Comments
A2: Logistics | B2: Amazon | C2: DCS | D2: SAX8 | E2: BGLS | F2: Project Layouts | G2: Documentation | H2: As-Builds | I2: On schedule | K2: TBD | L2: Deep Gajjar | M2: Deep Gajjar | N2: David Blanco
A3: Logistics | B3: Amazon | C3: DCS | D3: SCA8 | E3: BGLS | F3: Project Layouts | G3: Documentation | H3: As-Builds | I3: On schedule | K3: TBD | L3: Deep Gajjar | M3: Deep Gajjar | N3: David Blanco
A4: Logistics | B4: Amazon | C4: DCS | D4: SNJ5 | E4: BGLS | F4: Project Layouts | G4: Documentation | H4: As-Builds | I4: On schedule | K4: TBD | L4: Deep Gajjar | M4: Deep Gajjar | N4: David Blanco
A5: Logistics | B5: Amazon | C5: DCS | D5: SOH7 | E5: BGLS | F5: Project Layouts | G5: Documentation | H5: As-Builds | I5: On schedule | K5: TBD | L5: Deep Gajjar | M5: Deep Gajjar | N5: David Blanco
A6: Logistics | B6: Amazon | C6: DCS | D6: SFL9 | E6: BGLS | F6: Design Engineering | G6: Detail Design | H6: EE Device Bracket - | I6: On schedule | K6: TBD | L6: Deep Gajjar | M6: Deep Gajjar | N6: Deep Gajjar
A7: Logistics | B7: Amazon | C7: DCS | D7: SSF3 | E7: BGLS | F7: Design Engineering | G7: Chute Design | H7: End of Line Chute | I7: Completed | K7: 46076 | L7: Deep Gajjar | M7: Deep Gajjar | N7: Pierre Damis
A8: Logistics | B8: Amazon | C8: DCS | D8: SNC7 | E8: BGLS | F8: Project Engineering | G8: Documentation | H8: BGLS Ordering Tool - ME | I8: Completed | K8: 46054 | L8: Deep Gajjar | M8: Deep Gajjar | N8: Deep Gajjar
A9: Logistics | B9: Amazon | C9: DCS | D9: SAX8 | E9: BGLS | F9: Project Engineering | G9: Documentation | H9: BGLS Ordering Tool - ME | I9: Completed | K9: 46054 | L9: Deep Gajjar | M9: Deep Gajjar | N9: Deep Gajjar
A10: Logistics | B10: Amazon | C10: DCS | D10: SCA8 | E10: BGLS | F10: Project Engineering | G10: Documentation | H10: BGLS Ordering Tool - ME | I10: Completed | K10: 46054 | L10: Deep Gajjar | M10: Deep Gajjar | N10: Deep Gajjar
A11: Logistics | B11: Amazon | C11: DCS | D11: SNJ5 | E11: BGLS | F11: Project Engineering | G11: Documentation | H11: BGLS Ordering Tool - ME | I11: Completed | K11: 46054 | L11: Deep Gajjar | M11: Deep Gajjar | N11: Deep Gajjar
A12: Logistics | B12: Amazon | C12: DCS | D12: SOH7 | E12: BGLS | F12: Project Engineering | G12: Documentation | H12: BGLS Ordering Tool - ME | I12: Completed | K12: 46054 | L12: Deep Gajjar | M12: Deep Gajjar | N12: Deep Gajjar
A13: Logistics | B13: Amazon | C13: DCS | D13: SFL9 | E13: BGLS | F13: Design Engineering | G13: Chute Design | H13: End of Line Chute | I13: Completed | L13: Deep Gajjar | M13: Deep Gajjar | N13: Deep Gajjar
A14: Logistics | B14: Amazon | C14: DCS | D14: SSF3 | E14: BGLS | F14: Design Engineering | G14: Chute Design | H14: Induction Chute | I14: Completed | K14: 46076 | L14: Deep Gajjar | M14: Pierre Damis | N14: Rasmus Sorensen
A15: Logistics | B15: Amazon | C15: DCS | D15: SSF3 | E15: BGLS | F15: Design Engineering | G15: Chute Design | H15: Mobile Chute | I15: Completed | K15: 46076 | L15: Deep Gajjar | M15: Pierre Damis | N15: Pierre Damis
A16: Logistics | B16: Amazon | C16: DCS | D16: SSF3 | E16: BGLS | F16: Design Engineering | G16: Chute Design | H16: Static Chute | I16: Completed | K16: 46054 | L16: Deep Gajjar | M16: Pierre Damis | N16: Rasmus Sorensen
A17: Logistics | B17: Amazon | C17: DCS | D17: SAX8 | E17: BGLS | F17: Project Engineering | G17: System Components | H17: Cabinet Location | I17: Completed | K17: 46023 | L17: Deep Gajjar | M17: Deep Gajjar | N17: Deep Gajjar
A18: Logistics | B18: Amazon | C18: DCS | D18: SCA8 | E18: BGLS | F18: Project Engineering | G18: System Components | H18: Cabinet Location | I18: Completed | K18: 46023 | L18: Deep Gajjar | M18: Deep Gajjar | N18: Deep Gajjar
A19: Logistics | B19: Amazon | C19: DCS | D19: SNJ5 | E19: BGLS | F19: Project Engineering | G19: System Components | H19: Cabinet Location | I19: Completed | K19: 46023 | L19: Deep Gajjar | M19: Deep Gajjar | N19: Deep Gajjar
A20: Logistics | B20: Amazon | C20: DCS | D20: SOH7 | E20: BGLS | F20: Project Engineering | G20: System Components | H20: Cabinet Location | I20: Completed | K20: 46023 | L20: Deep Gajjar | M20: Deep Gajjar | N20: Deep Gajjar
A21: Logistics | B21: Amazon | C21: DCS | D21: SNC7 | E21: BGLS | F21: Project Engineering | G21: System Components | H21: Cabinet Location | I21: Completed | K21: 46023 | L21: Deep Gajjar | M21: Deep Gajjar | N21: Deep Gajjar
A22: Logistics | B22: Amazon | C22: DCS | D22: SFL9 | E22: BGLS | F22: Design Engineering | G22: Chute Design | H22: Induction Chute | I22: Completed | L22: Deep Gajjar | M22: Deep Gajjar | N22: Deep Gajjar
A23: Logistics | B23: Amazon | C23: DCS | D23: SSF3 | E23: BGLS | F23: Design Engineering | G23: Detail Design | H23: EE Device Bracket - | I23: Completed | K23: 46083 | L23: Deep Gajjar | M23: Deep Gajjar | O23: 6 weeks before install, Pending EE to provide a list of components
A24: Logistics | B24: Amazon | C24: DCS | D24: SCA8 | E24: BGLS | F24: Project Layouts | G24: Installation Drawings | H24: DES ECO Layout | I24: Completed | K24: 46097 | L24: Deep Gajjar | M24: Svaraj Patel
A25: Logistics | B25: Amazon | C25: DCS | D25: SAX8 | E25: BGLS | F25: Project Layouts | G25: Installation Drawings | H25: DES ECO Layout | I25: Completed | K25: TBD | L25: Deep Gajjar | M25: Svaraj Patel
A26: Logistics | B26: Amazon | C26: DCS | D26: SNJ5 | E26: BGLS | F26: Project Layouts | G26: Installation Drawings | H26: DES ECO Layout | I26: Completed | K26: TBD | L26: Deep Gajjar | M26: Svaraj Patel
A27: Logistics | B27: Amazon | C27: DCS | D27: SOH7 | E27: BGLS | F27: Project Layouts | G27: Installation Drawings | H27: DES ECO Layout | I27: Completed | K27: TBD | L27: Deep Gajjar | M27: Svaraj Patel
A28: Logistics | B28: Amazon | C28: DCS | D28: SNC7 | E28: BGLS | F28: Project Layouts | G28: Installation Drawings | H28: DES ECO Layout | I28: Completed | K28: TBD | L28: Deep Gajjar | M28: Svaraj Patel
A29: Logistics | B29: Amazon | C29: DCS | D29: SFL9 | E29: BGLS | F29: Design Engineering | G29: Chute Design | H29: Mobile Chute | I29: Completed | L29: Deep Gajjar | M29: Deep Gajjar | N29: Deep Gajjar
A30: Logistics | B30: Amazon | C30: DCS | D30: SSF3 | E30: BGLS | F30: Design Engineering | G30: Detail Design | H30: Sorter Supports | I30: Completed | K30: 46023 | L30: Deep Gajjar | M30: Deep Gajjar | N30: Deep Gajjar
A31: Logistics | B31: Amazon | C31: DCS | D31: SNC7 | E31: BGLS | F31: Project Engineering | G31: System Components | H31: Destination | I31: On schedule | K31: TBD | L31: Deep Gajjar | M31: Xin Liu | N31: Andrea Hosna
A32: Logistics | B32: Amazon | C32: DCS | D32: SSF3 | E32: BGLS | F32: Documentation | G32: MRF | H32: EE Device Bracket - | I32: Completed | K32: TBD | L32: Deep Gajjar | M32: Deep Gajjar
A33: Logistics | B33: Amazon | C33: DCS | D33: SAX8 | E33: BGLS | F33: Project Engineering | G33: System Components | H33: Destination | I33: On schedule | K33: TBD | L33: Deep Gajjar | M33: Xin Liu | N33: Andrea Hosna
A34: Logistics | B34: Amazon | C34: DCS | D34: SCA8 | E34: BGLS | F34: Project Engineering | G34: System Components | H34: Destination | I34: On schedule | K34: TBD | L34: Deep Gajjar | M34: Xin Liu | N34: Andrea Hosna
A35: Logistics | B35: Amazon | C35: DCS | D35: SNJ5 | E35: BGLS | F35: Project Engineering | G35: System Components | H35: Destination | I35: On schedule | K35: TBD | L35: Deep Gajjar | M35: Xin Liu | N35: Andrea Hosna
A36: Logistics | B36: Amazon | C36: DCS | D36: SOH7 | E36: BGLS | F36: Project Engineering | G36: System Components | H36: Destination | I36: On schedule | K36: TBD | L36: Deep Gajjar | M36: Xin Liu | N36: Andrea Hosna
A37: Logistics | B37: Amazon | C37: DCS | D37: SFL9 | E37: BGLS | F37: Design Engineering | G37: Chute Design | H37: Mobile Chute - Locking Mechanism | I37: On schedule | K37: 46146 | L37: Deep Gajjar | M37: Pierre Damis | N37: Rasmus Sorensen | O37: SFL 9 Files - All Documents
A38: Logistics | B38: Amazon | C38: DCS | D38: SOH7 | E38: BGLS | F38: Project Layouts | G38: Installation Drawings | H38: Destination Chutes | I38: On schedule | K38: 46092 | L38: Deep Gajjar | M38: Andrea Hosna | N38: Bert Ellard (Prolann)
A39: Logistics | B39: Amazon | C39: DCS | D39: SCA8 | E39: BGLS | F39: Project Layouts | G39: Installation Drawings | H39: Destination Chutes | I39: On schedule | K39: 46097 | L39: Deep Gajjar | M39: Andrea Hosna | N39: Bert Ellard (Prolann)
A40: Logistics | B40: Amazon | C40: DCS | D40: SAX8 | E40: BGLS | F40: Project Layouts | G40: Installation Drawings | H40: Destination Chutes | I40: On schedule | L40: Deep Gajjar | M40: Andrea Hosna | N40: Bert Ellard (Prolann)
A41: Logistics | B41: Amazon | C41: DCS | D41: SNJ5 | E41: BGLS | F41: Project Layouts | G41: Installation Drawings | H41: Destination Chutes | I41: On schedule | L41: Deep Gajjar | M41: Andrea Hosna | N41: Bert Ellard (Prolann)
A42: Logistics | B42: Amazon | C42: DCS | D42: SFL9 | E42: BGLS | F42: Design Engineering | G42: Chute Design | H42: Mobile Chute - Neoprene Addition | I42: On schedule | K42: 265291 | L42: Deep Gajjar | M42: Pierre Damis | N42: Rasmus Sorensen | O42: SFL 9 Files - All Documents
A43: Logistics | B43: Amazon | C43: DCS | D43: SNC7 | E43: BGLS | F43: Project Layouts | G43: Installation Drawings | H43: Destination Chutes | I43: On schedule | L43: Deep Gajjar | M43: Andrea Hosna | N43: Bert Ellard (Prolann)
A44: Logistics | B44: Amazon | C44: DCS | D44: SSF3 | E44: BGLS | F44: Documentation | G44: MRF | H44: Safety Equipment | I44: Completed | K44: TBD | L44: Deep Gajjar | M44: Deep Gajjar | N44: Deep Gajjar
A45: Logistics | B45: Amazon | C45: DCS | D45: SOH7 | E45: BGLS | F45: Project Layouts | G45: Installation Drawings | H45: Destination Transitions | I45: On schedule | K45: 46092 | L45: Deep Gajjar | M45: Andrea Hosna | N45: Bert Ellard (Prolann)
A46: Logistics | B46: Amazon | C46: DCS | D46: SCA8 | E46: BGLS | F46: Project Layouts | G46: Installation Drawings | H46: Destination Transitions | I46: On schedule | K46: 46097 | L46: Deep Gajjar | M46: Andrea Hosna | N46: Bert Ellard (Prolann)
A47: Logistics | B47: Amazon | C47: DCS | D47: SAX8 | E47: BGLS | F47: Project Layouts | G47: Installation Drawings | H47: Destination Transitions | I47: On schedule | L47: Deep Gajjar | M47: Andrea Hosna | N47: Bert Ellard (Prolann)
A48: Logistics | B48: Amazon | C48: DCS | D48: SNJ5 | E48: BGLS | F48: Project Layouts | G48: Installation Drawings | H48: Destination Transitions | I48: On schedule | L48: Deep Gajjar | M48: Andrea Hosna | N48: Bert Ellard (Prolann)
A49: Logistics | B49: Amazon | C49: DCS | D49: SFL9 | E49: BGLS | F49: Design Engineering | G49: Chute Design | H49: Recirculation Line | I49: Completed | L49: Deep Gajjar | M49: Deep Gajjar | N49: Deep Gajjar
A50: Logistics | B50: Amazon | C50: DCS | D50: SNC7 | E50: BGLS | F50: Project Layouts | G50: Installation Drawings | H50: Destination Transitions | I50: On schedule | L50: Deep Gajjar | M50: Andrea Hosna | N50: Bert Ellard (Prolann)
A51: Logistics | B51: Amazon | C51: DCS | D51: SSF3 | E51: BGLS | F51: Documentation | G51: MRF | H51: Safety Fencing | I51: Completed | K51: 46023 | L51: Deep Gajjar | M51: Deep Gajjar | N51: Deep Gajjar
A52: Logistics | B52: Amazon | C52: DCS | D52: SSF3 | E52: BGLS | F52: Documentation | G52: MRF | H52: Safety Fencing | I52: Completed | K52: TBD | L52: Deep Gajjar | M52: Deep Gajjar | N52: Deep Gajjar
A53: Logistics | B53: Amazon | C53: DCS | D53: SAX8 | E53: BGLS | F53: Project Engineering | G53: System Components | H53: ECO Layout | I53: Completed | K53: TBD | L53: Deep Gajjar | M53: Deep Gajjar | N53: Svaraj Patel
A54: Logistics | B54: Amazon | C54: DCS | D54: SCA8 | E54: BGLS | F54: Project Engineering | G54: System Components | H54: ECO Layout | I54: Completed | K54: TBD | L54: Deep Gajjar | M54: Deep Gajjar | N54: Svaraj Patel
A55: Logistics | B55: Amazon | C55: DCS | D55: SNJ5 | E55: BGLS | F55: Project Engineering | G55: System Components | H55: ECO Layout | I55: Completed | K55: TBD | L55: Deep Gajjar | M55: Deep Gajjar | N55: Svaraj Patel
A56: Logistics | B56: Amazon | C56: DCS | D56: SOH7 | E56: BGLS | F56: Project Engineering | G56: System Components | H56: ECO Layout | I56: Completed | K56: TBD | L56: Deep Gajjar | M56: Deep Gajjar | N56: Svaraj Patel
A57: Logistics | B57: Amazon | C57: DCS | D57: SNC7 | E57: BGLS | F57: Project Engineering | G57: System Components | H57: ECO Layout | I57: Completed | K57: TBD | L57: Deep Gajjar | M57: Deep Gajjar | N57: Svaraj Patel
A58: Logistics | B58: Amazon | C58: DCS | D58: SFL9 | E58: BGLS | F58: Design Engineering | G58: Detail Design | H58: Sorter Supports | I58: Completed | L58: Deep Gajjar | M58: Deep Gajjar | N58: Deep Gajjar
A59: Logistics | B59: Amazon | C59: DCS | D59: SNC7 | E59: BGLS | F59: Design Engineering | G59: Detail Design | H59: EE Device Bracket - | I59: On schedule | K59: TBD | L59: Deep Gajjar | M59: Deep Gajjar
A60: Logistics | B60: Amazon | C60: DCS | D60: SSF3 | E60: BGLS | F60: Documentation | G60: MRF | H60: Sorter Support | I60: Completed | K60: TBD | L60: Deep Gajjar | M60: Deep Gajjar | N60: Deep Gajjar
A61: Logistics | B61: Amazon | C61: DCS | D61: SAX8 | E61: BGLS | F61: Design Engineering | G61: Detail Design | H61: EE Device Bracket - | I61: On schedule | K61: TBD | L61: Deep Gajjar | M61: Deep Gajjar
A62: Logistics | B62: Amazon | C62: DCS | D62: SCA8 | E62: BGLS | F62: Design Engineering | G62: Detail Design | H62: EE Device Bracket - | I62: On schedule | K62: TBD | L62: Deep Gajjar | M62: Deep Gajjar
A63: Logistics | B63: Amazon | C63: DCS | D63: SNJ5 | E63: BGLS | F63: Design Engineering | G63: Detail Design | H63: EE Device Bracket - | I63: On schedule | K63: TBD | L63: Deep Gajjar | M63: Deep Gajjar
A64: Logistics | B64: Amazon | C64: DCS | D64: SOH7 | E64: BGLS | F64: Design Engineering | G64: Detail Design | H64: EE Device Bracket - | I64: On schedule | K64: TBD | L64: Deep Gajjar | M64: Deep Gajjar
A65: Logistics | B65: Amazon | C65: DCS | D65: SFL9 | E65: BGLS | F65: Design Engineering | G65: Chute Design | H65: Static Chute | I65: Completed | L65: Deep Gajjar | M65: Deep Gajjar | N65: Deep Gajjar
A66: Logistics | B66: Amazon | C66: DCS | D66: SSF3 | E66: BGLS | F66: Project Engineering | G66: Documentation | H66: BGLS Ordering Tool - ME | I66: Completed | K66: 46023 | L66: Deep Gajjar | M66: Deep Gajjar | N66: Deep Gajjar
A67: Logistics | B67: Amazon | C67: DCS | D67: SNC7 | E67: BGLS | F67: Documentation | G67: MRF | H67: EE Device Bracket - | I67: On schedule | K67: TBD | L67: Deep Gajjar | M67: Deep Gajjar
A68: Logistics | B68: Amazon | C68: DCS | D68: SAX8 | E68: BGLS | F68: Documentation | G68: MRF | H68: EE Device Bracket - | I68: On schedule | K68: TBD | L68: Deep Gajjar | M68: Deep Gajjar
A69: Logistics | B69: Amazon | C69: DCS | D69: SCA8 | E69: BGLS | F69: Documentation | G69: MRF | H69: EE Device Bracket - | I69: On schedule | K69: TBD | L69: Deep Gajjar | M69: Deep Gajjar
A70: Logistics | B70: Amazon | C70: DCS | D70: SNJ5 | E70: BGLS | F70: Documentation | G70: MRF | H70: EE Device Bracket - | I70: On schedule | K70: TBD | L70: Deep Gajjar | M70: Deep Gajjar
A71: Logistics | B71: Amazon | C71: DCS | D71: SOH7 | E71: BGLS | F71: Documentation | G71: MRF | H71: EE Device Bracket - | I71: On schedule | K71: TBD | L71: Deep Gajjar | M71: Deep Gajjar
A72: Logistics | B72: Amazon | C72: DCS | D72: SOH7 | E72: BGLS | F72: Project Layouts | G72: Installation Drawings | H72: Egress, Maintenance Operator | I72: On schedule | K72: 46092 | L72: Deep Gajjar | M72: Jameson Fitzpatrick | N72: Bert Ellard (Prolann)
A73: Logistics | B73: Amazon | C73: DCS | D73: SCA8 | E73: BGLS | F73: Project Layouts | G73: Installation Drawings | H73: Egress, Maintenance Operator | I73: On schedule | K73: 46097 | L73: Deep Gajjar | M73: Jameson Fitzpatrick | N73: Bert Ellard (Prolann)
A74: Logistics | B74: Amazon | C74: DCS | D74: SAX8 | E74: BGLS | F74: Project Layouts | G74: Installation Drawings | H74: Egress, Maintenance Operator | I74: On schedule | L74: Deep Gajjar | M74: Jameson Fitzpatrick | N74: Bert Ellard (Prolann)
A75: Logistics | B75: Amazon | C75: DCS | D75: SNJ5 | E75: BGLS | F75: Project Layouts | G75: Installation Drawings | H75: Egress, Maintenance Operator | I75: On schedule | L75: Deep Gajjar | M75: Jameson Fitzpatrick | N75: Bert Ellard (Prolann)
A76: Logistics | B76: Amazon | C76: DCS | D76: SFL9 | E76: BGLS | F76: Project Engineering | G76: Documentation | H76: BGLS Ordering Tool - ME | I76: Completed | L76: Deep Gajjar | M76: Deep Gajjar | N76: Deep Gajjar
A77: Logistics | B77: Amazon | C77: DCS | D77: SSF3 | E77: BGLS | F77: Project Engineering | G77: Documentation | H77: BGLS Sorter Length | I77: Completed | K77: 46023 | L77: Deep Gajjar | M77: Deep Gajjar | N77: Deep Gajjar
A78: Logistics | B78: Amazon | C78: DCS | D78: SNC7 | E78: BGLS | F78: Project Layouts | G78: Installation Drawings | H78: Egress, Maintenance Operator | I78: On schedule | L78: Deep Gajjar | M78: Jameson Fitzpatrick | N78: Bert Ellard (Prolann)
A79: Logistics | B79: Amazon | C79: DCS | D79: SFL9 | E79: BGLS | F79: Project Engineering | G79: System Components | H79: Cabinet Location | I79: Completed | L79: Deep Gajjar | M79: Deep Gajjar | N79: Deep Gajjar
A80: Logistics | B80: Amazon | C80: DCS | D80: SNC7 | E80: BGLS | F80: Design Engineering | G80: Chute Design | H80: End of Line Chute | I80: On schedule | K80: TBD | L80: Deep Gajjar | M80: Deep Gajjar | N80: Pierre Damis
A81: Logistics | B81: Amazon | C81: DCS | D81: SSF3 | E81: BGLS | F81: Project Engineering | G81: Documentation | H81: Site Survey | I81: Completed | K81: 46001 | L81: Deep Gajjar | M81: Deep Gajjar | N81: Xin Liu | O81: 2025-12-10 Initial Site Survey - All Documents
A82: Logistics | B82: Amazon | C82: DCS | D82: SAX8 | E82: BGLS | F82: Design Engineering | G82: Chute Design | H82: End of Line Chute | I82: On schedule | K82: TBD | L82: Deep Gajjar | M82: Deep Gajjar | N82: Pierre Damis
A83: Logistics | B83: Amazon | C83: DCS | D83: SCA8 | E83: BGLS | F83: Design Engineering | G83: Chute Design | H83: End of Line Chute | I83: On schedule | K83: TBD | L83: Deep Gajjar | M83: Deep Gajjar | N83: Pierre Damis
A84: Logistics | B84: Amazon | C84: DCS | D84: SNJ5 | E84: BGLS | F84: Design Engineering | G84: Chute Design | H84: End of Line Chute | I84: On schedule | K84: TBD | L84: Deep Gajjar | M84: Deep Gajjar | N84: Pierre Damis
A85: Logistics | B85: Amazon | C85: DCS | D85: SOH7 | E85: BGLS | F85: Design Engineering | G85: Chute Design | H85: End of Line Chute | I85: On schedule | K85: TBD | L85: Deep Gajjar | M85: Deep Gajjar | N85: Pierre Damis
A86: Logistics | B86: Amazon | C86: DCS | D86: SNC7 | E86: BGLS | F86: Design Engineering | G86: Chute Design | H86: Induction Chute | I86: Completed | K86: 46054 | L86: Deep Gajjar | M86: Pierre Damis | N86: Pierre Damis
A87: Logistics | B87: Amazon | C87: DCS | D87: SAX8 | E87: BGLS | F87: Design Engineering | G87: Chute Design | H87: Induction Chute | I87: Completed | K87: 46054 | L87: Deep Gajjar | M87: Pierre Damis | N87: Pierre Damis
A88: Logistics | B88: Amazon | C88: DCS | D88: SCA8 | E88: BGLS | F88: Design Engineering | G88: Chute Design | H88: Induction Chute | I88: Completed | K88: 46054 | L88: Deep Gajjar | M88: Pierre Damis | N88: Pierre Damis
A89: Logistics | B89: Amazon | C89: DCS | D89: SNJ5 | E89: BGLS | F89: Design Engineering | G89: Chute Design | H89: Induction Chute | I89: Completed | K89: 46054 | L89: Deep Gajjar | M89: Pierre Damis | N89: Pierre Damis
A90: Logistics | B90: Amazon | C90: DCS | D90: SOH7 | E90: BGLS | F90: Design Engineering | G90: Chute Design | H90: Induction Chute | I90: Completed | K90: 46054 | L90: Deep Gajjar | M90: Pierre Damis | N90: Pierre Damis
A91: Logistics | B91: Amazon | C91: DCS | D91: SFL9 | E91: BGLS | F91: Project Engineering | G91: System Components | H91: Destination | I91: Completed | L91: Deep Gajjar | M91: Deep Gajjar | N91: Deep Gajjar
A92: Logistics | B92: Amazon | C92: DCS | D92: SSF3 | E92: BGLS | F92: Project Engineering | G92: Documentation | H92: Spare Parts List | I92: Completed | K92: 46023 | L92: Deep Gajjar | M92: Deep Gajjar | N92: Deep Gajjar
A93: Logistics | B93: Amazon | C93: DCS | D93: SOH7 | E93: BGLS | F93: Project Layouts | G93: Installation Drawings | H93: Induction Unit | I93: On schedule | K93: 46092 | L93: Deep Gajjar | M93: James Bragg | N93: Bert Ellard (Prolann)
A94: Logistics | B94: Amazon | C94: DCS | D94: SCA8 | E94: BGLS | F94: Project Layouts | G94: Installation Drawings | H94: Induction Unit | I94: On schedule | K94: 46097 | L94: Deep Gajjar | M94: James Bragg | N94: Bert Ellard (Prolann)
A95: Logistics | B95: Amazon | C95: DCS | D95: SAX8 | E95: BGLS | F95: Project Layouts | G95: Installation Drawings | H95: Induction Unit | I95: On schedule | L95: Deep Gajjar | M95: James Bragg | N95: Bert Ellard (Prolann)
A96: Logistics | B96: Amazon | C96: DCS | D96: SNJ5 | E96: BGLS | F96: Project Layouts | G96: Installation Drawings | H96: Induction Unit | I96: On schedule | L96: Deep Gajjar | M96: James Bragg | N96: Bert Ellard (Prolann)
A97: Logistics | B97: Amazon | C97: DCS | D97: SSF3 | E97: BGLS | F97: Project Engineering | G97: System Components | H97: Cabinet Location | I97: Completed | K97: 46023 | L97: Deep Gajjar | M97: Deep Gajjar | N97: Deep Gajjar
A98: Logistics | B98: Amazon | C98: DCS | D98: SFL9 | E98: BGLS | F98: Project Engineering | G98: System Components | H98: ECO Layout | I98: Completed | L98: Deep Gajjar | M98: Deep Gajjar | N98: Deep Gajjar
A99: Logistics | B99: Amazon | C99: DCS | D99: SAX8 | E99: BGLS | F99: Project Engineering | G99: System Components | H99: Induction Unit | I99: Completed | K99: 46054 | L99: Deep Gajjar | M99: Xin Liu | N99: James Bragg
A100: Logistics | B100: Amazon | C100: DCS | D100: SCA8 | E100: BGLS | F100: Project Engineering | G100: System Components | H100: Induction Unit | I100: Completed | K100: 46054 | L100: Deep Gajjar | M100: Xin Liu | N100: James Bragg
...

Sheet SSD Daifuku
A1: Division | B1: Customer | C1: Integ | D1: Name | E1: System | F1: Task Category | G1: Area | H1: Deliverable | I1: Status | J1: Review Date | K1: Due Date | L1: Project Lead | M1: Area Owner | N1: Execution Owner | O1: Comments
A2: Logistics | B2: Amazon | C2: Daifuku | D2: SGA6 | E2: BGLS | F2: Project Layouts | G2: Documentation | H2: As-Builds | I2: On schedule | L2: Xin Liu | M2: Xin Liu | N2: David Blanco
A3: Logistics | B3: Amazon | C3: Daifuku | D3: SSJ1 | E3: BGLS | F3: Project Layouts | G3: Documentation | H3: As-Builds | I3: On schedule | L3: Xin Liu | M3: Xin Liu | N3: David Blanco
A4: Logistics | B4: Amazon | C4: Daifuku | D4: SWI2 | E4: BGLS | F4: Project Layouts | G4: Documentation | H4: As-Builds | I4: On schedule | L4: Xin Liu | M4: Xin Liu | N4: David Blanco
A5: Logistics | B5: Amazon | C5: Daifuku | D5: SGA6 | E5: BGLS | F5: Project Engineering | G5: Documentation | H5: BGLS Ordering Tool - ME | I5: On schedule | L5: Xin Liu | M5: Xin Liu | N5: Xin Liu
A6: Logistics | B6: Amazon | C6: Daifuku | D6: SSJ1 | E6: BGLS | F6: Project Engineering | G6: Documentation | H6: BGLS Ordering Tool - ME | I6: On schedule | L6: Xin Liu | M6: Xin Liu | N6: Xin Liu
A7: Logistics | B7: Amazon | C7: Daifuku | D7: SWI2 | E7: BGLS | F7: Project Engineering | G7: Documentation | H7: BGLS Ordering Tool - ME | I7: On schedule | L7: Xin Liu | M7: Xin Liu | N7: Xin Liu
A8: Logistics | B8: Amazon | C8: Daifuku | D8: SGA6 | E8: BGLS | F8: Project Engineering | G8: System Components | H8: Cabinet Location | I8: Completed | L8: Xin Liu | M8: Xin Liu | N8: Xin Liu
A9: Logistics | B9: Amazon | C9: Daifuku | D9: SSJ1 | E9: BGLS | F9: Project Engineering | G9: System Components | H9: Cabinet Location | I9: Completed | L9: Xin Liu | M9: Xin Liu | N9: Xin Liu
A10: Logistics | B10: Amazon | C10: Daifuku | D10: SWI2 | E10: BGLS | F10: Project Engineering | G10: System Components | H10: Cabinet Location | I10: Completed | L10: Xin Liu | M10: Xin Liu | N10: Xin Liu
A11: Logistics | B11: Amazon | C11: Daifuku | D11: SGA6 | E11: BGLS | F11: Project Layouts | G11: Installation Drawings | H11: DES ECO Layout | I11: On schedule | L11: Xin Liu | M11: Deep Gajjar | N11: Svaraj Patel
A12: Logistics | B12: Amazon | C12: Daifuku | D12: SSJ1 | E12: BGLS | F12: Project Layouts | G12: Installation Drawings | H12: DES ECO Layout | I12: On schedule | L12: Xin Liu | M12: Deep Gajjar | N12: Svaraj Patel
A13: Logistics | B13: Amazon | C13: Daifuku | D13: SWI2 | E13: BGLS | F13: Project Layouts | G13: Installation Drawings | H13: DES ECO Layout | I13: On schedule | L13: Xin Liu | M13: Deep Gajjar | N13: Svaraj Patel
... A25: Logistics | B25: Amazon | C25: Daifuku | D25: SWI2 | E25: BGLS | F25: Project Engineering | G25: System Components | H25: ECO Layout | I25: On schedule | L25: Xin Liu | M25: Deep Gajjar | N25: Svaraj Patel
A26: Logistics | B26: Amazon | C26: Daifuku | D26: SGA6 | E26: BGLS | F26: Design Engineering | G26: Detail Design | H26: EE Device Bracket - | I26: On schedule | L26: Xin Liu | M26: Deep Gajjar
A27: Logistics | B27: Amazon | C27: Daifuku | D27: SSJ1 | E27: BGLS | F27: Design Engineering | G27: Detail Design | H27: EE Device Bracket - | I27: On schedule | L27: Xin Liu | M27: Deep Gajjar
A28: Logistics | B28: Amazon | C28: Daifuku | D28: SWI2 | E28: BGLS | F28: Design Engineering | G28: Detail Design | H28: EE Device Bracket - | I28: On schedule | L28: Xin Liu | M28: Deep Gajjar
A29: Logistics | B29: Amazon | C29: Daifuku | D29: SGA6 | E29: BGLS | F29: Project Layouts | G29: Installation Drawings | H29: Egress, Maintenance Operator | I29: On schedule | L29: Xin Liu | M29: Jameson Fitzpatrick | N29: Bert Ellard (Prolann)
A30: Logistics | B30: Amazon | C30: Daifuku | D30: SSJ1 | E30: BGLS | F30: Project Layouts | G30: Installation Drawings | H30: Egress, Maintenance Operator | I30: On schedule | L30: Xin Liu | M30: Jameson Fitzpatrick | N30: Bert Ellard (Prolann)
A31: Logistics | B31: Amazon | C31: Daifuku | D31: SWI2 | E31: BGLS | F31: Project Layouts | G31: Installation Drawings | H31: Egress, Maintenance Operator | I31: On schedule | L31: Xin Liu | M31: Jameson Fitzpatrick | N31: Bert Ellard (Prolann)
A32: Logistics | B32: Amazon | C32: Daifuku | D32: SGA6 | E32: BGLS | F32: Design Engineering | G32: Chute Design | H32: End of Line Chute | I32: On schedule | L32: Xin Liu | M32: Pierre Damis | N32: Pierre Damis
A33: Logistics | B33: Amazon | C33: Daifuku | D33: SSJ1 | E33: BGLS | F33: Design Engineering | G33: Chute Design | H33: End of Line Chute | I33: On schedule | L33: Xin Liu | M33: Pierre Damis | N33: Pierre Damis
A34: Logistics | B34: Amazon | C34: Daifuku | D34: SWI2 | E34: BGLS | F34: Design Engineering | G34: Chute Design | H34: End of Line Chute | I34: On schedule | L34: Xin Liu | M34: Pierre Damis | N34: Pierre Damis
A35: Logistics | B35: Amazon | C35: Daifuku | D35: SGA6 | E35: BGLS | F35: Design Engineering | G35: Chute Design | H35: Induction Chute | I35: Completed | L35: Xin Liu | M35: Pierre Damis | N35: Pierre Damis
A36: Logistics | B36: Amazon | C36: Daifuku | D36: SSJ1 | E36: BGLS | F36: Design Engineering | G36: Chute Design | H36: Induction Chute | I36: Completed | L36: Xin Liu | M36: Pierre Damis | N36: Pierre Damis
A37: Logistics | B37: Amazon | C37: Daifuku | D37: SWI2 | E37: BGLS | F37: Design Engineering | G37: Chute Design | H37: Induction Chute | I37: Completed | L37: Xin Liu | M37: Pierre Damis | N37: Pierre Damis
A38: Logistics | B38: Amazon | C38: Daifuku | D38: SGA6 | E38: BGLS | F38: Project Layouts | G38: Installation Drawings | H38: Induction Unit | I38: Completed | L38: Xin Liu | M38: James Bragg | N38: Bert Ellard (Prolann)
A39: Logistics | B39: Amazon | C39: Daifuku | D39: SGA6 | E39: BGLS | F39: Project Engineering | G39: System Components | H39: Induction Unit | I39: Completed | L39: Xin Liu | M39: Xin Liu | N39: James Bragg
A40: Logistics | B40: Amazon | C40: Daifuku | D40: SSJ1 | E40: BGLS | F40: Project Engineering | G40: System Components | H40: Induction Unit | I40: Completed | L40: Xin Liu | M40: Xin Liu | N40: James Bragg
... A43: Logistics | B43: Amazon | C43: Daifuku | D43: SWI2 | E43: BGLS | F43: Project Layouts | G43: Installation Drawings | H43: Induction Unit | I43: Completed | L43: Xin Liu | M43: James Bragg | N43: Bert Ellard (Prolann)
A44: Logistics | B44: Amazon | C44: Daifuku | D44: SGA6 | E44: BGLS | F44: Project Engineering | G44: Documentation | H44: Installation Book | I44: On schedule | L44: Xin Liu | M44: Xin Liu
A45: Logistics | B45: Amazon | C45: Daifuku | D45: SSJ1 | E45: BGLS | F45: Project Engineering | G45: Documentation | H45: Installation Book | I45: On schedule | L45: Xin Liu | M45: Xin Liu
A46: Logistics | B46: Amazon | C46: Daifuku | D46: SWI2 | E46: BGLS | F46: Project Engineering | G46: Documentation | H46: Installation Book | I46: On schedule | L46: Xin Liu | M46: Xin Liu
A47: Logistics | B47: Amazon | C47: Daifuku | D47: SGA6 | E47: BGLS | F47: Project Layouts | G47: Installation Drawings | H47: LNS ECO Layout | I47: On schedule | L47: Xin Liu | M47: Svaraj Patel | N47: Bert Ellard (Prolann)
A48: Logistics | B48: Amazon | C48: Daifuku | D48: SSJ1 | E48: BGLS | F48: Project Layouts | G48: Installation Drawings | H48: LNS ECO Layout | I48: On schedule | L48: Xin Liu | M48: Svaraj Patel | N48: Bert Ellard (Prolann)
A49: Logistics | B49: Amazon | C49: Daifuku | D49: SWI2 | E49: BGLS | F49: Project Layouts | G49: Installation Drawings | H49: LNS ECO Layout | I49: On schedule | L49: Xin Liu | M49: Svaraj Patel | N49: Bert Ellard (Prolann)
A50: Logistics | B50: Amazon | C50: Daifuku | D50: SGA6 | E50: BGLS | F50: Project Layouts | G50: Installation Drawings | H50: LNS Sorter Section | I50: On schedule | L50: Xin Liu | M50: James Bragg
A51: Logistics | B51: Amazon | C51: Daifuku | D51: SSJ1 | E51: BGLS | F51: Project Layouts | G51: Installation Drawings | H51: LNS Sorter Section | I51: On schedule | L51: Xin Liu | M51: James Bragg
A52: Logistics | B52: Amazon | C52: Daifuku | D52: SWI2 | E52: BGLS | F52: Project Layouts | G52: Installation Drawings | H52: LNS Sorter Section | I52: On schedule | L52: Xin Liu | M52: James Bragg
A53: Logistics | B53: Amazon | C53: Daifuku | D53: SGA6 | E53: BGLS | F53: Design Engineering | G53: Chute Design | H53: Mobile Chute | I53: Completed | L53: Xin Liu
A54: Logistics | B54: Amazon | C54: Daifuku | D54: SSJ1 | E54: BGLS | F54: Design Engineering | G54: Chute Design | H54: Mobile Chute | I54: Completed | L54: Xin Liu
A55: Logistics | B55: Amazon | C55: Daifuku | D55: SWI2 | E55: BGLS | F55: Design Engineering | G55: Chute Design | H55: Mobile Chute | I55: Completed | L55: Xin Liu
A56: Logistics | B56: Amazon | C56: Daifuku | D56: SGA6 | E56: BGLS | F56: Project Engineering | G56: System Components | H56: Point Load Layout | I56: On schedule | L56: Xin Liu | M56: Xin Liu | N56: David Blanco
A57: Logistics | B57: Amazon | C57: Daifuku | D57: SSJ1 | E57: BGLS | F57: Project Engineering | G57: System Components | H57: Point Load Layout | I57: On schedule | L57: Xin Liu | M57: Xin Liu | N57: David Blanco
A58: Logistics | B58: Amazon | C58: Daifuku | D58: SWI2 | E58: BGLS | F58: Project Engineering | G58: System Components | H58: Point Load Layout | I58: On schedule | L58: Xin Liu | M58: Xin Liu | N58: Xin Liu
A59: Logistics | B59: Amazon | C59: Daifuku | D59: SGA6 | E59: BGLS | F59: Design Engineering | G59: Chute Design | H59: Recirculation Line | I59: On schedule | L59: Xin Liu | M59: Deep Gajjar | N59: Svaraj Patel
A60: Logistics | B60: Amazon | C60: Daifuku | D60: SSJ1 | E60: BGLS | F60: Design Engineering | G60: Chute Design | H60: Recirculation Line | I60: On schedule | L60: Xin Liu | M60: Deep Gajjar | N60: Svaraj Patel
A61: Logistics | B61: Amazon | C61: Daifuku | D61: SWI2 | E61: BGLS | F61: Design Engineering | G61: Chute Design | H61: Recirculation Line | I61: On schedule | L61: Xin Liu | M61: Deep Gajjar | N61: Svaraj Patel
A62: Logistics | B62: Amazon | C62: Daifuku | D62: SGA6 | E62: BGLS | F62: Project Engineering | G62: Documentation | H62: Risk Assessment | I62: On schedule | L62: Xin Liu | M62: Pierre Damis
A63: Logistics | B63: Amazon | C63: Daifuku | D63: SSJ1 | E63: BGLS | F63: Project Engineering | G63: Documentation | H63: Risk Assessment | I63: On schedule | L63: Xin Liu | M63: Pierre Damis
A64: Logistics | B64: Amazon | C64: Daifuku | D64: SWI2 | E64: BGLS | F64: Project Engineering | G64: Documentation | H64: Risk Assessment | I64: On schedule | L64: Xin Liu | M64: Pierre Damis
A65: Logistics | B65: Amazon | C65: Daifuku | D65: SGA6 | E65: BGLS | F65: Project Engineering | G65: System Components | H65: Safety Equipment | I65: On schedule | L65: Xin Liu | M65: Deep Gajjar
A66: Logistics | B66: Amazon | C66: Daifuku | D66: SGA6 | E66: BGLS | F66: Documentation | G66: MRF | H66: Safety Equipment | I66: On schedule | L66: Xin Liu | M66: Xin Liu
A67: Logistics | B67: Amazon | C67: Daifuku | D67: SSJ1 | E67: BGLS | F67: Project Engineering | G67: System Components | H67: Safety Equipment | I67: On schedule | L67: Xin Liu | M67: Deep Gajjar
A68: Logistics | B68: Amazon | C68: Daifuku | D68: SSJ1 | E68: BGLS | F68: Documentation | G68: MRF | H68: Safety Equipment | I68: On schedule | L68: Xin Liu | M68: Xin Liu
A69: Logistics | B69: Amazon | C69: Daifuku | D69: SWI2 | E69: BGLS | F69: Project Engineering | G69: System Components | H69: Safety Equipment | I69: On schedule | L69: Xin Liu | M69: Deep Gajjar
A70: Logistics | B70: Amazon | C70: Daifuku | D70: SWI2 | E70: BGLS | F70: Documentation | G70: MRF | H70: Safety Equipment | I70: On schedule | L70: Xin Liu | M70: Xin Liu
A71: Logistics | B71: Amazon | C71: Daifuku | D71: SGA6 | E71: BGLS | F71: Project Layouts | G71: Installation Drawings | H71: Safety Fencing | I71: On schedule | L71: Xin Liu | M71: David Blanco | N71: Bert Ellard (Prolann)
A72: Logistics | B72: Amazon | C72: Daifuku | D72: SGA6 | E72: BGLS | F72: Project Engineering | G72: System Components | H72: Safety Fencing | I72: On schedule | L72: Xin Liu | M72: Xin Liu | N72: David Blanco
A73: Logistics | B73: Amazon | C73: Daifuku | D73: SGA6 | E73: BGLS | F73: Documentation | G73: MRF | H73: Safety Fencing | I73: On schedule | L73: Xin Liu | M73: Xin Liu | N73: Xin Liu
A74: Logistics | B74: Amazon | C74: Daifuku | D74: SSJ1 | E74: BGLS | F74: Project Layouts | G74: Installation Drawings | H74: Safety Fencing | I74: On schedule | L74: Xin Liu | M74: David Blanco | N74: Bert Ellard (Prolann)
A75: Logistics | B75: Amazon | C75: Daifuku | D75: SSJ1 | E75: BGLS | F75: Project Engineering | G75: System Components | H75: Safety Fencing | I75: On schedule | L75: Xin Liu | M75: Xin Liu | N75: David Blanco
A76: Logistics | B76: Amazon | C76: Daifuku | D76: SSJ1 | E76: BGLS | F76: Documentation | G76: MRF | H76: Safety Fencing | I76: On schedule | L76: Xin Liu | M76: Xin Liu | N76: Xin Liu
A77: Logistics | B77: Amazon | C77: Daifuku | D77: SWI2 | E77: BGLS | F77: Project Engineering | G77: System Components | H77: Safety Fencing | I77: On schedule | L77: Xin Liu | M77: Xin Liu | N77: David Blanco
A78: Logistics | B78: Amazon | C78: Daifuku | D78: SWI2 | E78: BGLS | F78: Documentation | G78: MRF | H78: Safety Fencing | I78: On schedule | L78: Xin Liu | M78: Xin Liu | N78: Xin Liu
A79: Logistics | B79: Amazon | C79: Daifuku | D79: SWI2 | E79: BGLS | F79: Project Layouts | G79: Installation Drawings | H79: Safety Fencing | I79: On schedule | L79: Xin Liu | M79: David Blanco | N79: Bert Ellard (Prolann)
A80: Logistics | B80: Amazon | C80: Daifuku | D80: SGA6 | E80: BGLS | F80: Project Layouts | G80: Installation Drawings | H80: Safety Labels | I80: On schedule | L80: Xin Liu | M80: Jameson Fitzpatrick | N80: Bert Ellard (Prolann)
A81: Logistics | B81: Amazon | C81: Daifuku | D81: SGA6 | E81: BGLS | F81: Project Engineering | G81: System Components | H81: Safety Labels | I81: On schedule | L81: Xin Liu | M81: Deep Gajjar | N81: Jameson Fitzpatrick
A82: Logistics | B82: Amazon | C82: Daifuku | D82: SGA6 | E82: BGLS | F82: Documentation | G82: MRF | H82: Safety Labels | I82: On schedule | L82: Xin Liu | M82: Deep Gajjar | N82: Xin Liu
... A88: Logistics | B88: Amazon | C88: Daifuku | D88: SWI2 | E88: BGLS | F88: Project Layouts | G88: Installation Drawings | H88: Safety Labels | I88: On schedule | L88: Xin Liu | M88: Jameson Fitzpatrick | N88: Bert Ellard (Prolann)
A89: Logistics | B89: Amazon | C89: Daifuku | D89: SGA6 | E89: BGLS | F89: Project Engineering | G89: Documentation | H89: Site Survey | I89: On schedule | K89: 46071 | L89: Xin Liu | M89: Xin Liu | O89: 2026-02-18 SGA6 Initial Site Survey - All Documents
A90: Logistics | B90: Amazon | C90: Daifuku | D90: SSJ1 | E90: BGLS | F90: Project Engineering | G90: Documentation | H90: Site Survey | I90: On schedule | K90: TBD | L90: Xin Liu | M90: Xin Liu
A91: Logistics | B91: Amazon | C91: Daifuku | D91: SWI2 | E91: BGLS | F91: Project Engineering | G91: Documentation | H91: Site Survey | I91: Completed | K91: 46097 | L91: Xin Liu | M91: Xin Liu | N91: Svaraj Patel | O91: 2026-03-11 SWI2 Initial Site Survey - All Documents
A92: Logistics | B92: Amazon | C92: Daifuku | D92: SGA6 | E92: BGLS | F92: Project Engineering | G92: System Components | H92: Sorter Section | I92: On schedule | L92: Xin Liu | M92: Xin Liu | N92: James Bragg
A93: Logistics | B93: Amazon | C93: Daifuku | D93: SSJ1 | E93: BGLS | F93: Project Engineering | G93: System Components | H93: Sorter Section | I93: On schedule | L93: Xin Liu | M93: Xin Liu | N93: James Bragg
A94: Logistics | B94: Amazon | C94: Daifuku | D94: SWI2 | E94: BGLS | F94: Project Engineering | G94: System Components | H94: Sorter Section | I94: On schedule | L94: Xin Liu | M94: Xin Liu | N94: James Bragg
A95: Logistics | B95: Amazon | C95: Daifuku | D95: SGA6 | E95: BGLS | F95: Project Layouts | G95: Installation Drawings | H95: Sorter Support | I95: On schedule | L95: Xin Liu | M95: Svaraj Patel | N95: Bert Ellard (Prolann)
A96: Logistics | B96: Amazon | C96: Daifuku | D96: SGA6 | E96: BGLS | F96: Project Engineering | G96: System Components | H96: Sorter Support | I96: On schedule | L96: Xin Liu | M96: Deep Gajjar | N96: Svaraj Patel
A97: Logistics | B97: Amazon | C97: Daifuku | D97: SGA6 | E97: BGLS | F97: Documentation | G97: MRF | H97: Sorter Support | I97: On schedule | L97: Xin Liu | M97: Xin Liu | N97: Xin Liu
A98: Logistics | B98: Amazon | C98: Daifuku | D98: SSJ1 | E98: BGLS | F98: Project Layouts | G98: Installation Drawings | H98: Sorter Support | I98: On schedule | L98: Xin Liu | M98: Svaraj Patel | N98: Bert Ellard (Prolann)
A99: Logistics | B99: Amazon | C99: Daifuku | D99: SSJ1 | E99: BGLS | F99: Project Engineering | G99: System Components | H99: Sorter Support | I99: On schedule | L99: Xin Liu | M99: Deep Gajjar | N99: Svaraj Patel
A100: Logistics | B100: Amazon | C100: Daifuku | D100: SSJ1 | E100: BGLS | F100: Documentation | G100: MRF | H100: Sorter Support | I100: On schedule | L100: Xin Liu | M100: Xin Liu | N100: Xin Liu
A101: Logistics | B101: Amazon | C101: Daifuku | D101: SWI2 | E101: BGLS | F101: Project Engineering | G101: System Components | H101: Sorter Support | I101: On schedule | L101: Xin Liu | M101: Deep Gajjar | N101: Svaraj Patel
A102: Logistics | B102: Amazon | C102: Daifuku | D102: SWI2 | E102: BGLS | F102: Documentation | G102: MRF | H102: Sorter Support | I102: On schedule | L102: Xin Liu | M102: Xin Liu | N102: Xin Liu
A103: Logistics | B103: Amazon | C103: Daifuku | D103: SWI2 | E103: BGLS | F103: Project Layouts | G103: Installation Drawings | H103: Sorter Support | I103: On schedule | L103: Xin Liu | M103: Svaraj Patel | N103: Bert Ellard (Prolann)
... A106: Logistics | B106: Amazon | C106: Daifuku | D106: SWI2 | E106: BGLS | F106: Design Engineering | G106: Detail Design | H106: Sorter Supports | I106: Completed | L106: Xin Liu | M106: Xin Liu | N106: Deep Gajjar
A107: Logistics | B107: Amazon | C107: Daifuku | D107: SGA6 | E107: BGLS | F107: Project Engineering | G107: Documentation | H107: Spare Parts List | I107: On schedule | L107: Xin Liu
A108: Logistics | B108: Amazon | C108: Daifuku | D108: SSJ1 | E108: BGLS | F108: Project Engineering | G108: Documentation | H108: Spare Parts List | I108: On schedule | L108: Xin Liu
A109: Logistics | B109: Amazon | C109: Daifuku | D109: SWI2 | E109: BGLS | F109: Project Engineering | G109: Documentation | H109: Spare Parts List | I109: On schedule | L109: Xin Liu
A110: Logistics | B110: Amazon | C110: Daifuku | D110: SGA6 | E110: BGLS | F110: Design Engineering | G110: Chute Design | H110: Static Chute | I110: Completed | L110: Xin Liu | M110: Pierre Damis | N110: Pierre Damis
A111: Logistics | B111: Amazon | C111: Daifuku | D111: SSJ1 | E111: BGLS | F111: Design Engineering | G111: Chute Design | H111: Static Chute | I111: Completed | L111: Xin Liu | M111: Pierre Damis | N111: Pierre Damis
A112: Logistics | B112: Amazon | C112: Daifuku | D112: SWI2 | E112: BGLS | F112: Design Engineering | G112: Chute Design | H112: Static Chute | I112: Completed | L112: Xin Liu | M112: Pierre Damis | N112: Pierre Damis
A113: Logistics | B113: Amazon | C113: Daifuku | D113: SGA6 | E113: BGLS | F113: Project Engineering | G113: System Components | H113: System Interface | I113: On schedule | L113: Xin Liu | M113: Deep Gajjar | N113: Deep Gajjar
A114: Logistics | B114: Amazon | C114: Daifuku | D114: SSJ1 | E114: BGLS | F114: Project Engineering | G114: System Components | H114: System Interface | I114: On schedule | L114: Xin Liu | M114: Deep Gajjar | N114: Deep Gajjar
A115: Logistics | B115: Amazon | C115: Daifuku | D115: SWI2 | E115: BGLS | F115: Project Engineering | G115: System Components | H115: System Interface | I115: On schedule | L115: Xin Liu | M115: Deep Gajjar | N115: Deep Gajjar

Sheet SSD Fortna 
A1: Division | B1: Customer | C1: Integ | D1: Name | E1: System | F1: Task Category | G1: Area | H1: Deliverable | I1: Status | J1: Review Date | K1: Due Date | L1: Project Lead | M1: Area Owner | N1: Execution Owner | O1: Comments
A2: Logistics | B2: Amazon | C2: Fortna | D2: SAZ4 | E2: BGLS | F2: Project Layouts | G2: Documentation | H2: As-Builds | I2: On schedule | K2: TBD | L2: Deep Gajjar
A3: Logistics | B3: Amazon | C3: Fortna | D3: SFW4 | E3: BGLS | F3: Project Layouts | G3: Documentation | H3: As-Builds | I3: On schedule | K3: TBD | L3: Deep Gajjar
A4: Logistics | B4: Amazon | C4: Fortna | D4: SIL5 | E4: BGLS | F4: Project Layouts | G4: Documentation | H4: As-Builds | I4: On schedule | K4: TBD | L4: Deep Gajjar
A5: Logistics | B5: Amazon | C5: Fortna | D5: SNJ6 | E5: BGLS | F5: Project Layouts | G5: Documentation | H5: As-Builds | I5: On schedule | K5: TBD | L5: Deep Gajjar
A6: Logistics | B6: Amazon | C6: Fortna | D6: SAZ4 | E6: BGLS | F6: Project Engineering | G6: Documentation | H6: BGLS Ordering Tool - ME | I6: On schedule | K6: TBD | L6: Deep Gajjar
A7: Logistics | B7: Amazon | C7: Fortna | D7: SFW4 | E7: BGLS | F7: Project Engineering | G7: Documentation | H7: BGLS Ordering Tool - ME | I7: On schedule | K7: TBD | L7: Deep Gajjar
A8: Logistics | B8: Amazon | C8: Fortna | D8: SIL5 | E8: BGLS | F8: Project Engineering | G8: Documentation | H8: BGLS Ordering Tool - ME | I8: On schedule | K8: TBD | L8: Deep Gajjar
A9: Logistics | B9: Amazon | C9: Fortna | D9: SNJ6 | E9: BGLS | F9: Project Engineering | G9: Documentation | H9: BGLS Ordering Tool - ME | I9: On schedule | K9: TBD | L9: Deep Gajjar
A10: Logistics | B10: Amazon | C10: Fortna | D10: SAZ4 | E10: BGLS | F10: Project Engineering | G10: System Components | H10: Cabinet Location | I10: Completed | L10: Deep Gajjar | M10: Deep Gajjar | N10: Deep Gajjar
A11: Logistics | B11: Amazon | C11: Fortna | D11: SFW4 | E11: BGLS | F11: Project Engineering | G11: System Components | H11: Cabinet Location | I11: Completed | L11: Deep Gajjar | M11: Deep Gajjar | N11: Deep Gajjar
A12: Logistics | B12: Amazon | C12: Fortna | D12: SIL5 | E12: BGLS | F12: Project Engineering | G12: System Components | H12: Cabinet Location | I12: Completed | L12: Deep Gajjar | M12: Deep Gajjar | N12: Deep Gajjar
A13: Logistics | B13: Amazon | C13: Fortna | D13: SNJ6 | E13: BGLS | F13: Project Engineering | G13: System Components | H13: Cabinet Location | I13: Completed | L13: Deep Gajjar | M13: Deep Gajjar | N13: Deep Gajjar
A14: Logistics | B14: Amazon | C14: Fortna | D14: SAZ4 | E14: BGLS | F14: Project Layouts | G14: Installation Drawings | H14: DES ECO Layout | I14: On schedule | K14: 46106 | L14: Deep Gajjar | M14: Svaraj Patel
A15: Logistics | B15: Amazon | C15: Fortna | D15: SFW4 | E15: BGLS | F15: Project Layouts | G15: Installation Drawings | H15: DES ECO Layout | I15: On schedule | K15: 46106 | L15: Deep Gajjar | M15: Svaraj Patel
A16: Logistics | B16: Amazon | C16: Fortna | D16: SIL5 | E16: BGLS | F16: Project Layouts | G16: Installation Drawings | H16: DES ECO Layout | I16: On schedule | K16: 46105 | L16: Deep Gajjar | M16: Svaraj Patel
A17: Logistics | B17: Amazon | C17: Fortna | D17: SNJ6 | E17: BGLS | F17: Project Layouts | G17: Installation Drawings | H17: DES ECO Layout | I17: On schedule | K17: 46090 | L17: Deep Gajjar | M17: Svaraj Patel
A18: Logistics | B18: Amazon | C18: Fortna | D18: SAZ4 | E18: BGLS | F18: Project Engineering | G18: System Components | H18: Destination | I18: On schedule | L18: Deep Gajjar | M18: Xin Liu | N18: Andrea Hosna
A19: Logistics | B19: Amazon | C19: Fortna | D19: SFW4 | E19: BGLS | F19: Project Engineering | G19: System Components | H19: Destination | I19: On schedule | L19: Deep Gajjar | M19: Xin Liu | N19: Andrea Hosna
A20: Logistics | B20: Amazon | C20: Fortna | D20: SIL5 | E20: BGLS | F20: Project Engineering | G20: System Components | H20: Destination | I20: On schedule | L20: Deep Gajjar | M20: Xin Liu | N20: Andrea Hosna
A21: Logistics | B21: Amazon | C21: Fortna | D21: SNJ6 | E21: BGLS | F21: Project Engineering | G21: System Components | H21: Destination | I21: On schedule | L21: Deep Gajjar | M21: Xin Liu | N21: Andrea Hosna
A22: Logistics | B22: Amazon | C22: Fortna | D22: SAZ4 | E22: BGLS | F22: Project Layouts | G22: Installation Drawings | H22: Destination Chutes | I22: On schedule | K22: 46106 | L22: Deep Gajjar | M22: Andrea Hosna | N22: Bert Ellard (Prolann)
A23: Logistics | B23: Amazon | C23: Fortna | D23: SFW4 | E23: BGLS | F23: Project Layouts | G23: Installation Drawings | H23: Destination Chutes | I23: On schedule | K23: 46106 | L23: Deep Gajjar | M23: Andrea Hosna | N23: Bert Ellard (Prolann)
A24: Logistics | B24: Amazon | C24: Fortna | D24: SIL5 | E24: BGLS | F24: Project Layouts | G24: Installation Drawings | H24: Destination Chutes | I24: On schedule | K24: 46105 | L24: Deep Gajjar | M24: Andrea Hosna | N24: Bert Ellard (Prolann)
A25: Logistics | B25: Amazon | C25: Fortna | D25: SNJ6 | E25: BGLS | F25: Project Layouts | G25: Installation Drawings | H25: Destination Chutes | I25: On schedule | K25: 46090 | L25: Deep Gajjar | M25: Andrea Hosna | N25: Bert Ellard (Prolann)
A26: Logistics | B26: Amazon | C26: Fortna | D26: SAZ4 | E26: BGLS | F26: Project Layouts | G26: Installation Drawings | H26: Destination Transitions | I26: On schedule | K26: 46106 | L26: Deep Gajjar | M26: Andrea Hosna | N26: Bert Ellard (Prolann)
A27: Logistics | B27: Amazon | C27: Fortna | D27: SFW4 | E27: BGLS | F27: Project Layouts | G27: Installation Drawings | H27: Destination Transitions | I27: On schedule | K27: 46106 | L27: Deep Gajjar | M27: Andrea Hosna | N27: Bert Ellard (Prolann)
A28: Logistics | B28: Amazon | C28: Fortna | D28: SIL5 | E28: BGLS | F28: Project Layouts | G28: Installation Drawings | H28: Destination Transitions | I28: On schedule | K28: 46105 | L28: Deep Gajjar | M28: Andrea Hosna | N28: Bert Ellard (Prolann)
A29: Logistics | B29: Amazon | C29: Fortna | D29: SNJ6 | E29: BGLS | F29: Project Layouts | G29: Installation Drawings | H29: Destination Transitions | I29: On schedule | K29: 46090 | L29: Deep Gajjar | M29: Andrea Hosna | N29: Bert Ellard (Prolann)
A30: Logistics | B30: Amazon | C30: Fortna | D30: SAZ4 | E30: BGLS | F30: Project Engineering | G30: System Components | H30: ECO Layout | I30: On schedule | L30: Deep Gajjar | M30: Deep Gajjar | N30: Svaraj Patel
A31: Logistics | B31: Amazon | C31: Fortna | D31: SFW4 | E31: BGLS | F31: Project Engineering | G31: System Components | H31: ECO Layout | I31: On schedule | L31: Deep Gajjar | M31: Deep Gajjar | N31: Svaraj Patel
A32: Logistics | B32: Amazon | C32: Fortna | D32: SIL5 | E32: BGLS | F32: Project Engineering | G32: System Components | H32: ECO Layout | I32: On schedule | L32: Deep Gajjar | M32: Deep Gajjar | N32: Svaraj Patel
A33: Logistics | B33: Amazon | C33: Fortna | D33: SNJ6 | E33: BGLS | F33: Project Engineering | G33: System Components | H33: ECO Layout | I33: On schedule | L33: Deep Gajjar | M33: Deep Gajjar | N33: Svaraj Patel
A34: Logistics | B34: Amazon | C34: Fortna | D34: SAZ4 | E34: BGLS | F34: Design Engineering | G34: Detail Design | H34: EE Device Bracket - | I34: On schedule | L34: Deep Gajjar | M34: Deep Gajjar
A35: Logistics | B35: Amazon | C35: Fortna | D35: SFW4 | E35: BGLS | F35: Design Engineering | G35: Detail Design | H35: EE Device Bracket - | I35: On schedule | L35: Deep Gajjar | M35: Deep Gajjar
A36: Logistics | B36: Amazon | C36: Fortna | D36: SIL5 | E36: BGLS | F36: Design Engineering | G36: Detail Design | H36: EE Device Bracket - | I36: On schedule | L36: Deep Gajjar | M36: Deep Gajjar
A37: Logistics | B37: Amazon | C37: Fortna | D37: SNJ6 | E37: BGLS | F37: Design Engineering | G37: Detail Design | H37: EE Device Bracket - | I37: On schedule | L37: Deep Gajjar | M37: Deep Gajjar
A38: Logistics | B38: Amazon | C38: Fortna | D38: SAZ4 | E38: BGLS | F38: Project Layouts | G38: Installation Drawings | H38: Egress, Maintenance Operator | I38: On schedule | K38: 46106 | L38: Deep Gajjar | M38: Jameson Fitzpatrick | N38: Bert Ellard (Prolann)
A39: Logistics | B39: Amazon | C39: Fortna | D39: SFW4 | E39: BGLS | F39: Project Layouts | G39: Installation Drawings | H39: Egress, Maintenance Operator | I39: On schedule | K39: 46106 | L39: Deep Gajjar | M39: Jameson Fitzpatrick | N39: Bert Ellard (Prolann)
A40: Logistics | B40: Amazon | C40: Fortna | D40: SIL5 | E40: BGLS | F40: Project Layouts | G40: Installation Drawings | H40: Egress, Maintenance Operator | I40: On schedule | K40: 46105 | L40: Deep Gajjar | M40: Jameson Fitzpatrick | N40: Bert Ellard (Prolann)
A41: Logistics | B41: Amazon | C41: Fortna | D41: SNJ6 | E41: BGLS | F41: Project Layouts | G41: Installation Drawings | H41: Egress, Maintenance Operator | I41: On schedule | K41: 46090 | L41: Deep Gajjar | M41: Jameson Fitzpatrick | N41: Bert Ellard (Prolann)
A42: Logistics | B42: Amazon | C42: Fortna | D42: SAZ4 | E42: BGLS | F42: Design Engineering | G42: Chute Design | H42: End of Line Chute | I42: On schedule | L42: Deep Gajjar | M42: Pierre Damis | N42: Pierre Damis
A43: Logistics | B43: Amazon | C43: Fortna | D43: SFW4 | E43: BGLS | F43: Design Engineering | G43: Chute Design | H43: End of Line Chute | I43: On schedule | L43: Deep Gajjar | M43: Pierre Damis | N43: Pierre Damis
A44: Logistics | B44: Amazon | C44: Fortna | D44: SIL5 | E44: BGLS | F44: Design Engineering | G44: Chute Design | H44: End of Line Chute | I44: On schedule | L44: Deep Gajjar | M44: Pierre Damis | N44: Pierre Damis
A45: Logistics | B45: Amazon | C45: Fortna | D45: SNJ6 | E45: BGLS | F45: Design Engineering | G45: Chute Design | H45: End of Line Chute | I45: On schedule | L45: Deep Gajjar | M45: Pierre Damis | N45: Pierre Damis
A46: Logistics | B46: Amazon | C46: Fortna | D46: SAZ4 | E46: BGLS | F46: Design Engineering | G46: Chute Design | H46: Induction Chute | I46: Completed | L46: Deep Gajjar | M46: Pierre Damis | N46: Pierre Damis
A47: Logistics | B47: Amazon | C47: Fortna | D47: SFW4 | E47: BGLS | F47: Design Engineering | G47: Chute Design | H47: Induction Chute | I47: Completed | L47: Deep Gajjar | M47: Pierre Damis | N47: Pierre Damis
A48: Logistics | B48: Amazon | C48: Fortna | D48: SIL5 | E48: BGLS | F48: Design Engineering | G48: Chute Design | H48: Induction Chute | I48: Completed | L48: Deep Gajjar | M48: Pierre Damis | N48: Pierre Damis
A49: Logistics | B49: Amazon | C49: Fortna | D49: SNJ6 | E49: BGLS | F49: Design Engineering | G49: Chute Design | H49: Induction Chute | I49: Completed | L49: Deep Gajjar | M49: Pierre Damis | N49: Pierre Damis
A50: Logistics | B50: Amazon | C50: Fortna | D50: SAZ4 | E50: BGLS | F50: Project Layouts | G50: Installation Drawings | H50: Induction Unit | I50: On schedule | K50: 46106 | L50: Deep Gajjar | M50: James Bragg | N50: Bert Ellard (Prolann)
A51: Logistics | B51: Amazon | C51: Fortna | D51: SAZ4 | E51: BGLS | F51: Project Engineering | G51: System Components | H51: Induction Unit | I51: On schedule | L51: Deep Gajjar | M51: Xin Liu | N51: James Bragg
A52: Logistics | B52: Amazon | C52: Fortna | D52: SFW4 | E52: BGLS | F52: Project Engineering | G52: System Components | H52: Induction Unit | I52: On schedule | L52: Deep Gajjar | M52: Xin Liu | N52: James Bragg
A53: Logistics | B53: Amazon | C53: Fortna | D53: SFW4 | E53: BGLS | F53: Project Layouts | G53: Installation Drawings | H53: Induction Unit | I53: On schedule | K53: 46106 | L53: Deep Gajjar | M53: James Bragg | N53: Bert Ellard (Prolann)
A54: Logistics | B54: Amazon | C54: Fortna | D54: SIL5 | E54: BGLS | F54: Project Engineering | G54: System Components | H54: Induction Unit | I54: On schedule | L54: Deep Gajjar | M54: Xin Liu | N54: James Bragg
A55: Logistics | B55: Amazon | C55: Fortna | D55: SIL5 | E55: BGLS | F55: Project Layouts | G55: Installation Drawings | H55: Induction Unit | I55: On schedule | K55: 46105 | L55: Deep Gajjar | M55: James Bragg | N55: Bert Ellard (Prolann)
A56: Logistics | B56: Amazon | C56: Fortna | D56: SNJ6 | E56: BGLS | F56: Project Engineering | G56: System Components | H56: Induction Unit | I56: On schedule | L56: Deep Gajjar | M56: Xin Liu | N56: James Bragg
A57: Logistics | B57: Amazon | C57: Fortna | D57: SNJ6 | E57: BGLS | F57: Project Layouts | G57: Installation Drawings | H57: Induction Unit | I57: On schedule | K57: 46090 | L57: Deep Gajjar | M57: James Bragg | N57: Bert Ellard (Prolann)
A58: Logistics | B58: Amazon | C58: Fortna | D58: SAZ4 | E58: BGLS | F58: Project Engineering | G58: Documentation | H58: Installation Book | I58: On schedule | L58: Deep Gajjar | M58: Deep Gajjar
A59: Logistics | B59: Amazon | C59: Fortna | D59: SFW4 | E59: BGLS | F59: Project Engineering | G59: Documentation | H59: Installation Book | I59: On schedule | L59: Deep Gajjar | M59: Deep Gajjar
A60: Logistics | B60: Amazon | C60: Fortna | D60: SIL5 | E60: BGLS | F60: Project Engineering | G60: Documentation | H60: Installation Book | I60: On schedule | L60: Deep Gajjar | M60: Deep Gajjar
A61: Logistics | B61: Amazon | C61: Fortna | D61: SNJ6 | E61: BGLS | F61: Project Engineering | G61: Documentation | H61: Installation Book | I61: On schedule | L61: Deep Gajjar | M61: Deep Gajjar
A62: Logistics | B62: Amazon | C62: Fortna | D62: SAZ4 | E62: BGLS | F62: Project Layouts | G62: Installation Drawings | H62: LNS ECO Layout | I62: On schedule | K62: 46106 | L62: Deep Gajjar | M62: Svaraj Patel | N62: Bert Ellard (Prolann)
A63: Logistics | B63: Amazon | C63: Fortna | D63: SFW4 | E63: BGLS | F63: Project Layouts | G63: Installation Drawings | H63: LNS ECO Layout | I63: On schedule | K63: 46106 | L63: Deep Gajjar | M63: Svaraj Patel | N63: Bert Ellard (Prolann)
A64: Logistics | B64: Amazon | C64: Fortna | D64: SIL5 | E64: BGLS | F64: Project Layouts | G64: Installation Drawings | H64: LNS ECO Layout | I64: On schedule | K64: 46105 | L64: Deep Gajjar | M64: Svaraj Patel | N64: Bert Ellard (Prolann)
A65: Logistics | B65: Amazon | C65: Fortna | D65: SNJ6 | E65: BGLS | F65: Project Layouts | G65: Installation Drawings | H65: LNS ECO Layout | I65: On schedule | K65: 46090 | L65: Deep Gajjar | M65: Svaraj Patel | N65: Bert Ellard (Prolann)
A66: Logistics | B66: Amazon | C66: Fortna | D66: SAZ4 | E66: BGLS | F66: Project Layouts | G66: Installation Drawings | H66: LNS Sorter Section | I66: On schedule | K66: 46106 | L66: Deep Gajjar | M66: James Bragg
A67: Logistics | B67: Amazon | C67: Fortna | D67: SFW4 | E67: BGLS | F67: Project Layouts | G67: Installation Drawings | H67: LNS Sorter Section | I67: On schedule | K67: 46106 | L67: Deep Gajjar | M67: James Bragg
A68: Logistics | B68: Amazon | C68: Fortna | D68: SIL5 | E68: BGLS | F68: Project Layouts | G68: Installation Drawings | H68: LNS Sorter Section | I68: On schedule | K68: 46105 | L68: Deep Gajjar | M68: James Bragg
A69: Logistics | B69: Amazon | C69: Fortna | D69: SNJ6 | E69: BGLS | F69: Project Layouts | G69: Installation Drawings | H69: LNS Sorter Section | I69: On schedule | K69: 46090 | L69: Deep Gajjar | M69: James Bragg
A70: Logistics | B70: Amazon | C70: Fortna | D70: SAZ4 | E70: BGLS | F70: Design Engineering | G70: Chute Design | H70: Mobile Chute | I70: Completed | L70: Deep Gajjar | M70: Pierre Damis | N70: Pierre Damis
A71: Logistics | B71: Amazon | C71: Fortna | D71: SFW4 | E71: BGLS | F71: Design Engineering | G71: Chute Design | H71: Mobile Chute | I71: Completed | L71: Deep Gajjar | M71: Pierre Damis | N71: Pierre Damis
A72: Logistics | B72: Amazon | C72: Fortna | D72: SIL5 | E72: BGLS | F72: Design Engineering | G72: Chute Design | H72: Mobile Chute | I72: Completed | L72: Deep Gajjar | M72: Pierre Damis | N72: Pierre Damis
A73: Logistics | B73: Amazon | C73: Fortna | D73: SNJ6 | E73: BGLS | F73: Design Engineering | G73: Chute Design | H73: Mobile Chute | I73: Completed | L73: Deep Gajjar | M73: Pierre Damis | N73: Pierre Damis
A74: Logistics | B74: Amazon | C74: Fortna | D74: SAZ4 | E74: BGLS | F74: Project Engineering | G74: System Components | H74: Point Load Layout | I74: On schedule | L74: Deep Gajjar | M74: Deep Gajjar | N74: Deep Gajjar
A75: Logistics | B75: Amazon | C75: Fortna | D75: SFW4 | E75: BGLS | F75: Project Engineering | G75: System Components | H75: Point Load Layout | I75: On schedule | L75: Deep Gajjar | M75: Deep Gajjar | N75: Deep Gajjar
A76: Logistics | B76: Amazon | C76: Fortna | D76: SIL5 | E76: BGLS | F76: Project Engineering | G76: System Components | H76: Point Load Layout | I76: On schedule | L76: Deep Gajjar | M76: Deep Gajjar | N76: Deep Gajjar
A77: Logistics | B77: Amazon | C77: Fortna | D77: SNJ6 | E77: BGLS | F77: Project Engineering | G77: System Components | H77: Point Load Layout | I77: On schedule | L77: Deep Gajjar | M77: Deep Gajjar | N77: Deep Gajjar
A78: Logistics | B78: Amazon | C78: Fortna | D78: SAZ4 | E78: BGLS | F78: Design Engineering | G78: Chute Design | H78: Recirculation Line | I78: On schedule | L78: Deep Gajjar | M78: Deep Gajjar | N78: Svaraj Patel
A79: Logistics | B79: Amazon | C79: Fortna | D79: SFW4 | E79: BGLS | F79: Design Engineering | G79: Chute Design | H79: Recirculation Line | I79: On schedule | L79: Deep Gajjar | M79: Deep Gajjar | N79: Svaraj Patel
A80: Logistics | B80: Amazon | C80: Fortna | D80: SIL5 | E80: BGLS | F80: Design Engineering | G80: Chute Design | H80: Recirculation Line | I80: On schedule | L80: Deep Gajjar | M80: Deep Gajjar | N80: Svaraj Patel
A81: Logistics | B81: Amazon | C81: Fortna | D81: SNJ6 | E81: BGLS | F81: Design Engineering | G81: Chute Design | H81: Recirculation Line | I81: On schedule | L81: Deep Gajjar | M81: Deep Gajjar | N81: Svaraj Patel
A82: Logistics | B82: Amazon | C82: Fortna | D82: SAZ4 | E82: BGLS | F82: Project Engineering | G82: Documentation | H82: Risk Assessment | I82: On schedule | L82: Deep Gajjar | M82: Pierre Damis
A83: Logistics | B83: Amazon | C83: Fortna | D83: SFW4 | E83: BGLS | F83: Project Engineering | G83: Documentation | H83: Risk Assessment | I83: On schedule | L83: Deep Gajjar | M83: Pierre Damis
A84: Logistics | B84: Amazon | C84: Fortna | D84: SIL5 | E84: BGLS | F84: Project Engineering | G84: Documentation | H84: Risk Assessment | I84: On schedule | L84: Deep Gajjar | M84: Pierre Damis
A85: Logistics | B85: Amazon | C85: Fortna | D85: SNJ6 | E85: BGLS | F85: Project Engineering | G85: Documentation | H85: Risk Assessment | I85: On schedule | L85: Deep Gajjar | M85: Pierre Damis
A86: Logistics | B86: Amazon | C86: Fortna | D86: SAZ4 | E86: BGLS | F86: Project Engineering | G86: System Components | H86: Safety Equipment | I86: On schedule | L86: Deep Gajjar | M86: Deep Gajjar
A87: Logistics | B87: Amazon | C87: Fortna | D87: SFW4 | E87: BGLS | F87: Project Engineering | G87: System Components | H87: Safety Equipment | I87: On schedule | L87: Deep Gajjar | M87: Deep Gajjar
A88: Logistics | B88: Amazon | C88: Fortna | D88: SIL5 | E88: BGLS | F88: Project Engineering | G88: System Components | H88: Safety Equipment | I88: On schedule | L88: Deep Gajjar | M88: Deep Gajjar
A89: Logistics | B89: Amazon | C89: Fortna | D89: SNJ6 | E89: BGLS | F89: Project Engineering | G89: System Components | H89: Safety Equipment | I89: On schedule | L89: Deep Gajjar | M89: Deep Gajjar
A90: Logistics | B90: Amazon | C90: Fortna | D90: SAZ4 | E90: BGLS | F90: Project Layouts | G90: Installation Drawings | H90: Safety Fencing | I90: On schedule | K90: 46106 | L90: Deep Gajjar | M90: David Blanco | N90: Bert Ellard (Prolann)
A91: Logistics | B91: Amazon | C91: Fortna | D91: SAZ4 | E91: BGLS | F91: Project Engineering | G91: System Components | H91: Safety Fencing | I91: On schedule | L91: Deep Gajjar | M91: Xin Liu | N91: David Blanco
A92: Logistics | B92: Amazon | C92: Fortna | D92: SFW4 | E92: BGLS | F92: Project Layouts | G92: Installation Drawings | H92: Safety Fencing | I92: On schedule | K92: 46106 | L92: Deep Gajjar | M92: David Blanco | N92: Bert Ellard (Prolann)
A93: Logistics | B93: Amazon | C93: Fortna | D93: SFW4 | E93: BGLS | F93: Project Engineering | G93: System Components | H93: Safety Fencing | I93: On schedule | L93: Deep Gajjar | M93: Xin Liu | N93: David Blanco
A94: Logistics | B94: Amazon | C94: Fortna | D94: SIL5 | E94: BGLS | F94: Project Engineering | G94: System Components | H94: Safety Fencing | I94: On schedule | L94: Deep Gajjar | M94: Xin Liu | N94: David Blanco
A95: Logistics | B95: Amazon | C95: Fortna | D95: SIL5 | E95: BGLS | F95: Project Layouts | G95: Installation Drawings | H95: Safety Fencing | I95: On schedule | K95: 46105 | L95: Deep Gajjar | M95: David Blanco | N95: Bert Ellard (Prolann)
A96: Logistics | B96: Amazon | C96: Fortna | D96: SNJ6 | E96: BGLS | F96: Project Engineering | G96: System Components | H96: Safety Fencing | I96: On schedule | L96: Deep Gajjar | M96: Xin Liu | N96: David Blanco
A97: Logistics | B97: Amazon | C97: Fortna | D97: SNJ6 | E97: BGLS | F97: Project Layouts | G97: Installation Drawings | H97: Safety Fencing | I97: On schedule | K97: 46090 | L97: Deep Gajjar | M97: David Blanco | N97: Bert Ellard (Prolann)
A98: Logistics | B98: Amazon | C98: Fortna | D98: SAZ4 | E98: BGLS | F98: Project Layouts | G98: Installation Drawings | H98: Safety Labels | I98: On schedule | K98: 46106 | L98: Deep Gajjar | M98: Jameson Fitzpatrick | N98: Bert Ellard (Prolann)
A99: Logistics | B99: Amazon | C99: Fortna | D99: SAZ4 | E99: BGLS | F99: Project Engineering | G99: System Components | H99: Safety Labels | I99: On schedule | L99: Deep Gajjar | M99: Deep Gajjar | N99: Jameson Fitzpatrick
A100: Logistics | B100: Amazon | C100: Fortna | D100: SFW4 | E100: BGLS | F100: Project Layouts | G100: Installation Drawings | H100: Safety Labels | I100: On schedule | K100: 46106 | L100: Deep Gajjar | M100: Jameson Fitzpatrick | N100: Bert Ellard (Prolann)
...

Sheet RIC4
A1: Division | B1: Customer | C1: Integ | D1: Name | E1: System | F1: Task Category | G1: Area | H1: Deliverable | I1: Status | J1: Review Date | K1: Due Date | L1: Project Lead | M1: Area Owner | N1: Execution Owner | O1: Comments
A2: Logistics | B2: Amazon | C2: TREW | D2: RIC4 | E2: Loop Sorter | F2: Project Engineering | G2: Documentation | H2: Risk Assessment | I2: On schedule | K2: 46113 | L2: Xin Liu | M2: Xin Liu
A3: Logistics | B3: Amazon | C3: TREW | D3: RIC4 | E3: Loop Sorter | F3: Project Engineering | G3: Installation Drawings | H3: Scanner | I3: On schedule | K3: 46090 | L3: Xin Liu | M3: Xin Liu | N3: David Blanco | O3: Xref update
A4: Logistics | B4: Amazon | C4: TREW | D4: RIC4 | E4: Loop Sorter | F4: Documentation | G4: MRF | H4: IOB Bracket Design | I4: Completed | K4: 46094 | L4: Xin Liu | M4: James Bragg | O4: Site received, closed out JIRA.
A5: Logistics | B5: Amazon | C5: TREW | D5: RIC4 | E5: Loop Sorter | F5: Project Engineering | G5: Documentation | H5: Installation Support | I5: On schedule | K5: 46099 | L5: Xin Liu | M5: James Bragg | N5: James Bragg | O5: Until end of ME Install

Sheet YXX1
A1: Division | B1: Customer | C1: Integ | D1: Name | E1: System | F1: Task Category | G1: Area | H1: Deliverable | I1: Status | J1: Review Date | K1: Due Date | L1: Project Lead | M1: Area Owner | N1: Execution Owner | O1: Comments
A2: Logistics | B2: Amazon | C2: N/A | D2: YXX1 | E2: Loop Sorter | F2: Project Engineering | G2: System Components | H2: Destinations | I2: Pending Update | L2: Andrea Hosna
A3: Logistics | B3: Amazon | C3: N/A | D3: YXX1 | E3: Loop Sorter | F3: Design Engineering | G3: Chute Design | H3: Induction Reject Chute | I3: On schedule | K3: 46146 | L3: Andrea Hosna | M3: Andrea Hosna | N3: Rasmus Sorensen | O3: Reference Induction Install date to set deadline
A4: Logistics | B4: Amazon | C4: N/A | D4: YXX1 | E4: Loop Sorter | F4: Project Layouts | G4: Installation Drawings | H4: Safety Fencing | I4: Pending Update | L4: Andrea Hosna
A5: Logistics | B5: Amazon | C5: N/A | D5: YXX1 | E5: Loop Sorter | F5: Project Layouts | G5: Installation Drawings | H5: Safety Netting | I5: Pending Update | L5: Andrea Hosna

Sheet AVP3
A1: Division | B1: Customer | C1: Integ | D1: Name | E1: System | F1: Task Category | G1: Area | H1: Deliverable | I1: Status | J1: Review Date | K1: Due Date | L1: Project Lead | M1: Area Owner | N1: Execution Owner | O1: Comments
A2: Logistics | B2: Amazon | C2: N/A | D2: AVP3 | E2: Loop Sorter | F2: Project Layouts | G2: Installation Drawings | H2: Sorter Netting - SGS-SGN | K2: 46115 | L2: Alex Raff
A3: Logistics | B3: Amazon | C3: N/A | D3: AVP3 | E3: Loop Sorter | F3: Project Layouts | G3: Installation Drawings | H3: Datum | K3: 46115 | L3: Alex Raff
A4: Logistics | B4: Amazon | C4: N/A | D4: AVP3 | E4: Loop Sorter | F4: Project Layouts | G4: Installation Drawings | H4: Support layout | K4: 46115 | L4: Alex Raff
A5: Logistics | B5: Amazon | C5: N/A | D5: AVP3 | E5: Loop Sorter | F5: Project Layouts | G5: Installation Drawings | H5: Platform layout | K5: 46115 | L5: Alex Raff
A6: Logistics | B6: Amazon | C6: N/A | D6: AVP3 | E6: Loop Sorter | F6: Project Layouts | G6: Installation Drawings | H6: Sorter section layout | K6: 46115 | L6: Alex Raff
A7: Logistics | B7: Amazon | C7: N/A | D7: AVP3 | E7: Loop Sorter | F7: Project Layouts | G7: Installation Drawings | H7: Scanner layout | K7: 46115 | L7: Alex Raff
A8: Logistics | B8: Amazon | C8: N/A | D8: AVP3 | E8: Loop Sorter | F8: Project Layouts | G8: Installation Drawings | H8: Cabinet layout | K8: 46115 | L8: Alex Raff
A9: Logistics | B9: Amazon | C9: N/A | D9: AVP3 | E9: Loop Sorter | F9: Project Layouts | G9: Installation Drawings | H9: Cable tray layout | K9: 46115 | L9: Alex Raff
A10: Logistics | B10: Amazon | C10: N/A | D10: AVP3 | E10: Loop Sorter | F10: Project Layouts | G10: Installation Drawings | H10: E-stop layout | K10: 46115 | L10: Alex Raff
A11: Logistics | B11: Amazon | C11: N/A | D11: AVP3 | E11: Loop Sorter | F11: Project Layouts | G11: Installation Drawings | H11: ECO layout | K11: 46115 | L11: Alex Raff
A12: Logistics | B12: Amazon | C12: N/A | D12: AVP3 | E12: Loop Sorter | F12: Project Layouts | G12: Installation Drawings | H12: Escape route layout | K12: 46115 | L12: Alex Raff
A13: Logistics | B13: Amazon | C13: N/A | D13: AVP3 | E13: Loop Sorter | F13: Project Layouts | G13: Installation Drawings | H13: Maintenance layout | K13: 46115 | L13: Alex Raff
... A15: Logistics | B15: Amazon | C15: N/A | D15: AVP3 | E15: Loop Sorter | F15: Project Layouts | G15: Installation Drawings | H15: Fencing layout | K15: 46115 | L15: Alex Raff
A16: Logistics | B16: Amazon | C16: N/A | D16: AVP3 | E16: Loop Sorter | F16: Project Layouts | G16: Installation Drawings | H16: Safety signs layout | K16: 46115 | L16: Alex Raff | O16: Pending Risk assessment completion
A17: Logistics | B17: Amazon | C17: N/A | D17: AVP3 | E17: Loop Sorter | F17: Project Layouts | G17: Installation Drawings | H17: SCADA layout | K17: 46115 | L17: Alex Raff
A18: Logistics | B18: Amazon | C18: N/A | D18: AVP3 | E18: Loop Sorter | F18: Project Layouts | G18: Installation Drawings | H18: Destinaion Layout - Chutes | K18: 46115 | L18: Alex Raff
A19: Logistics | B19: Amazon | C19: N/A | D19: AVP3 | E19: Loop Sorter | F19: Project Layouts | G19: Installation Drawings | H19: Destinaion Layout - Transition Slide | K19: 46115 | L19: Alex Raff
A20: Logistics | B20: Amazon | C20: N/A | D20: AVP3 | E20: Loop Sorter | F20: Project Layouts | G20: Installation Drawings | H20: Destinaion Layout - JAM PE | K20: 46115 | L20: Alex Raff
A21: Logistics | B21: Amazon | C21: N/A | D21: AVP3 | E21: Loop Sorter | F21: Project Engineering | G21: System Components | H21: Safety Fencing | I21: Completed | K21: 46087 | L21: Alex Raff
A22: Logistics | B22: Amazon | C22: N/A | D22: AVP3 | E22: Loop Sorter | F22: Project Engineering | G22: System Components | H22: Cable Tray Path | K22: 46087 | L22: Alex Raff
A23: Logistics | B23: Amazon | C23: N/A | D23: AVP3 | E23: Loop Sorter | F23: Project Engineering | G23: System Components | H23: Electrical Components | K23: 46087 | L23: Alex Raff
A24: Logistics | B24: Amazon | C24: N/A | D24: AVP3 | E24: Loop Sorter | F24: Project Engineering | G24: System Components | H24: Safety Labels | K24: 46087 | L24: Alex Raff
A25: Logistics | B25: Amazon | C25: N/A | D25: AVP3 | E25: Loop Sorter | F25: Project Engineering | G25: System Components | H25: Transition Slide | K25: 46087 | L25: Alex Raff
A26: Logistics | B26: Amazon | C26: N/A | D26: AVP3 | E26: Loop Sorter | F26: Documentation | G26: Documentation | H26: Risk Assessment | K26: 46087 | L26: Alex Raff
A27: Logistics | B27: Amazon | C27: N/A | D27: AVP3 | E27: Loop Sorter | F27: Documentation | G27: Documentation | H27: Installation Binder | K27: 46129 | L27: Alex Raff
A28: Logistics | B28: Amazon | C28: N/A | D28: AVP3 | E28: Loop Sorter | F28: Documentation | G28: Documentation | H28: Level 6 Checklist | K28: 46129 | L28: Alex Raff
A29: Logistics | B29: Amazon | C29: N/A | D29: AVP3 | E29: Loop Sorter | F29: Documentation | G29: Documentation | H29: Sorter Mobile Component List | K29: 46129 | L29: Alex Raff
A30: Logistics | B30: Amazon | C30: N/A | D30: AVP3 | E30: Loop Sorter | F30: Documentation | G30: MRFs | H30: Sorter Netting | K30: 46073 | L30: Alex Raff
A31: Logistics | B31: Amazon | C31: N/A | D31: AVP3 | E31: Loop Sorter | F31: Documentation | G31: MRFs | H31: Safety Fencing | K31: 46073 | L31: Alex Raff
A32: Logistics | B32: Amazon | C32: N/A | D32: AVP3 | E32: Loop Sorter | F32: Documentation | G32: MRFs | H32: Safety Labels | K32: 46129 | L32: Alex Raff
A33: Logistics | B33: Amazon | C33: N/A | D33: AVP3 | E33: Loop Sorter | F33: Documentation | G33: MRFs | H33: Transition Slide | K33: 46087 | L33: Alex Raff
... A36: Logistics | B36: Amazon | C36: N/A | D36: AVP3 | E36: Loop Sorter | F36: Design Engineering | G36: Detail Design | H36: Transition Slide | K36: 46084 | L36: Alex Raff

Sheet FTY3
A1: Division | B1: Customer | C1: Integ | D1: Name | E1: System | F1: Task Category | G1: Area | H1: Deliverable | I1: Status | J1: Review Date | K1: Due Date | L1: Project Lead | M1: Area Owner | N1: Execution Owner | O1: Comments
A2: Logistics | B2: Amazon | C2: N/A | D2: FTY3 | E2: Loop Sorter | F2: Design Engineering | G2: Chute Design | H2: Induction Unit Reverse Chute | I2: On schedule | K2: 46237 | L2: Alex Raff | M2: Alex Raff | N2: Rasmus Sorensen | O2: Amazon spec to include bead roller
A3: Logistics | B3: Amazon | C3: N/A | D3: FTY3 | E3: Loop Sorter | F3: Design Engineering | G3: Chute Design | H3: High Speed Divert | I3: On schedule | L3: Alex Raff | M3: Alex Raff | O3: BDK Scope
A4: Logistics | B4: Amazon | C4: N/A | D4: FTY3 | E4: Loop Sorter | F4: Documentation | G4: Documentation | H4: IB - Risk Assessment | I4: Pending Update | L4: Alex Raff
A5: Logistics | B5: Amazon | C5: N/A | D5: FTY3 | E5: Loop Sorter | F5: Documentation | G5: Documentation | H5: IB - Installation Binder | I5: Pending Update | L5: Alex Raff
A6: Logistics | B6: Amazon | C6: N/A | D6: FTY3 | E6: Loop Sorter | F6: Documentation | G6: Documentation | H6: OB - Risk Assessment | I6: Pending Update | L6: Alex Raff
A7: Logistics | B7: Amazon | C7: N/A | D7: FTY3 | E7: Loop Sorter | F7: Documentation | G7: Documentation | H7: OB - Installation Binder | I7: Pending Update | L7: Alex Raff
A8: Logistics | B8: Amazon | C8: N/A | D8: FTY3 | E8: Loop Sorter | F8: Project Layouts | G8: Installation Drawings | H8: IB - Sorter Netting - SGS-SGN | I8: Pending Update | L8: Alex Raff
A9: Logistics | B9: Amazon | C9: N/A | D9: FTY3 | E9: Loop Sorter | F9: Project Layouts | G9: Installation Drawings | H9: IB - Datum | I9: Pending Update | L9: Alex Raff
A10: Logistics | B10: Amazon | C10: N/A | D10: FTY3 | E10: Loop Sorter | F10: Project Layouts | G10: Installation Drawings | H10: IB - Support layout | I10: Pending Update | L10: Alex Raff
A11: Logistics | B11: Amazon | C11: N/A | D11: FTY3 | E11: Loop Sorter | F11: Project Layouts | G11: Installation Drawings | H11: IB - Platform layout | I11: Pending Update | L11: Alex Raff
A12: Logistics | B12: Amazon | C12: N/A | D12: FTY3 | E12: Loop Sorter | F12: Project Layouts | G12: Installation Drawings | H12: IB - Sorter section layout | I12: Pending Update | L12: Alex Raff
A13: Logistics | B13: Amazon | C13: N/A | D13: FTY3 | E13: Loop Sorter | F13: Project Layouts | G13: Installation Drawings | H13: IB - Scanner layout | I13: Pending Update | L13: Alex Raff
A14: Logistics | B14: Amazon | C14: N/A | D14: FTY3 | E14: Loop Sorter | F14: Project Layouts | G14: Installation Drawings | H14: IB - Cabinet layout | I14: Pending Update | L14: Alex Raff
A15: Logistics | B15: Amazon | C15: N/A | D15: FTY3 | E15: Loop Sorter | F15: Project Layouts | G15: Installation Drawings | H15: IB - Cable tray layout | I15: Pending Update | L15: Alex Raff
... A53: Logistics | B53: Amazon | C53: N/A | D53: FTY3 | E53: Loop Sorter | F53: Documentation | G53: MRF | H53: OB - All ME Materials | I53: Pending Update | L53: Alex Raff
A54: Logistics | B54: Amazon | C54: N/A | D54: FTY3 | E54: Loop Sorter | F54: Project Engineering | G54: System Components | H54: IB - Load Plan Layout | I54: Completed | K54: 46023 | L54: Alex Raff | N54: Andrea Hosna
A55: Logistics | B55: Amazon | C55: N/A | D55: FTY3 | E55: Loop Sorter | F55: Project Engineering | G55: System Components | H55: OB - Sorter Components | I55: Pending Update | L55: Alex Raff
A56: Logistics | B56: Amazon | C56: N/A | D56: FTY3 | E56: Loop Sorter | F56: Project Engineering | G56: System Components | H56: OB - Load Plan Layout | I56: Pending Update | L56: Alex Raff
A57: Logistics | B57: Amazon | C57: N/A | D57: FTY3 | E57: Loop Sorter | F57: Project Engineering | G57: System Components | H57: IB & OB - FAT | I57: Pending Update | K57: 46113 | L57: Alex Raff | O57: High Speed Diverts, Inspection Cart, Cognex Vision system, Induction Jam camera
A58: Logistics | B58: Amazon | C58: N/A | D58: FTY3 | E58: Loop Sorter | F58: Project Engineering | G58: System Layouts | H58: IB - Consoladed EE Layouts | I58: Pending Update | L58: Alex Raff
A59: Logistics | B59: Amazon | C59: N/A | D59: FTY3 | E59: Loop Sorter | F59: Project Engineering | G59: System Layouts | H59: OB - Sorter Design Approval | I59: Pending Update | L59: Alex Raff
A60: Logistics | B60: Amazon | C60: N/A | D60: FTY3 | E60: Loop Sorter | F60: Project Engineering | G60: System Layouts | H60: OB - Consoladed EE Layouts | I60: Pending Update | L60: Alex Raff

Sheet Target RCSS
A1: Division | B1: Customer | C1: Integ | D1: Name | E1: System | F1: Task Category | G1: Area | H1: Deliverable | I1: Status | J1: Review Date | K1: Due Date | L1: Project Lead | M1: Area Owner | N1: Execution Owner | O1: Comments
A2: Logistics | B2: Target | C2: N/A | D2: RCSS | E2: Loop Sorter | F2: Design Engineering

Sheet Walmart IND3
A1: Division | B1: Customer | C1: Integ | D1: Name | E1: System | F1: Task Category | G1: Area | H1: Deliverable | I1: Status | J1: Review Date | K1: Due Date | L1: Project Lead | M1: Area Owner | N1: Execution Owner | O1: Comments
A2: Logistics | B2: Walmart | C2: Knapp | D2: IND3 | E2: Loop Sorter | F2: Project Layouts | G2: Installation Drawings | H2: Destination Layout - Hybrid Chute Locations | I2: Completed | K2: 46059 | M2: Pierre Damis | N2: Pierre Damis
A3: Logistics | B3: Walmart | C3: Knapp | D3: IND3 | E3: Loop Sorter | F3: Project Layouts | G3: Installation Drawings | H3: Scanner | I3: Completed | K3: 46063 | M3: Pierre Damis | N3: David Blanco
A4: Logistics | B4: Walmart | C4: Knapp | D4: IND3 | E4: Loop Sorter | F4: Project Layouts | G4: Installation Drawings | H4: Safety Fence - Layout Update | I4: Completed | K4: 46063 | M4: Pierre Damis | N4: David Blanco
A5: Logistics | B5: Walmart | C5: Knapp | D5: IND3 | E5: Loop Sorter | F5: Project Layouts | G5: Installation Drawings | H5: Sprial Chute mounting | I5: Completed | K5: 46063 | M5: Pierre Damis | N5: Pierre Damis
A6: Logistics | B6: Walmart | C6: Knapp | D6: IND3 | E6: Loop Sorter | F6: Project Engineering | G6: System Components | H6: Hybrid FAT - Site Visit | I6: Completed | K6: 46072 | M6: Rasmus Sorensen | N6: Rasmus Sorensen | O6: Hybrid destination test
A7: Logistics | B7: Walmart | C7: Knapp | D7: IND3 | E7: Loop Sorter | F7: Project Layouts | G7: Installation Drawings | H7: Asbuild - Fencing Layout | I7: On schedule | K7: 46108 | M7: Pierre Damis | N7: David Blanco | O7: [NG1WLM-134] Fencing redlines - Jira
A8: Logistics | B8: Walmart | C8: Knapp | D8: IND3 | E8: Loop Sorter | F8: Project Layouts | G8: Installation Drawings | H8: DST installation layout update | I8: On schedule | K8: 46087 | M8: Alex Raff | N8: David Blanco | O8: Add dimension for caljen extendable conveyor. check note in teams labelled "IND_INST_UPDATE_1"

Sheet MT
A1: Division | B1: Customer | C1: Integ | D1: Name | E1: System | F1: Task Category | G1: Area | H1: Deliverable | I1: Status | J1: Review Date | K1: Due Date | L1: Project Lead | M1: Area Owner | N1: Execution Owner | O1: Comments
A2: Mechatronics | B2: N/A | C2: N/A | D2: N/A | E2: N/A

Sheet CS_NG 2&3
A1: Division | B1: Customer | C1: Integ | D1: Name | E1: System | F1: Task Category | G1: Area | H1: Deliverable | I1: Status | J1: Review Date | K1: Due Date | L1: Project Lead | M1: Area Owner | N1: Execution Owner | O1: Comments
A2: Customer Support | B2: Walmart | C2: Knapp | D2: NG2 | E2: Loop Sorter | F2: Project Engineering | G2: System Components | H2: Safety Fencing | I2: On schedule | L2: Jameson Fitzpatrick
A3: Customer Support | B3: Walmart | C3: Knapp | D3: NG2 | E3: Loop Sorter | F3: Design Engineering | G3: Detail Design | H3: Induction Unit - Mounting & Hardware | I3: On schedule | L3: Jameson Fitzpatrick | O3: 1/2" ordered last time, order 3/8" fully threaded
A4: Customer Support | B4: Walmart | C4: Knapp | D4: NG2 | E4: Loop Sorter | F4: Project Layouts | G4: Installation Drawings | H4: Safety Fencing & Induction Unit Mounting | I4: On schedule | L4: Jameson Fitzpatrick
A5: Customer Support | B5: Walmart | C5: Knapp | D5: NG3 | E5: Loop Sorter | F5: Project Engineering | G5: System Components | H5: Safety Fencing | I5: On schedule | L5: Jameson Fitzpatrick
A6: Customer Support | B6: Walmart | C6: Knapp | D6: NG3 | E6: Loop Sorter | F6: Design Engineering | G6: Detail Design | H6: Induction Unit - Mounting & Hardware | I6: On schedule | L6: Jameson Fitzpatrick | O6: 1/2" ordered last time, order 3/8" fully threaded
A7: Customer Support | B7: Walmart | C7: Knapp | D7: NG3 | E7: Loop Sorter | F7: Project Layouts | G7: Installation Drawings | H7: Safety Fencing & Induction Unit Mounting | I7: On schedule | L7: Jameson Fitzpatrick

Sheet CS_ NG1
A1: Division | B1: Customer | C1: Integ | D1: Name | E1: System | F1: Task Category | G1: Area | H1: Deliverable | I1: Status | J1: Review Date | K1: Due Date | L1: Project Lead | M1: Area Owner | N1: Execution Owner | O1: Comments
A2: Customer Support | B2: Walmart | C2: Knapp | D2: NG1 | E2: Loop Sorter | F2: Project Engineering | G2: System Components | H2: Break Belt - Electrical Components | I2: Completed | K2: 46051 | L2: Jameson Fitzpatrick | M2: Jameson Fitzpatrick | O2: BCH to confirm if provided
A3: Customer Support | B3: Walmart | C3: Knapp | D3: NG1 | E3: Loop Sorter | F3: Project Engineering | G3: System Components | H3: Break Belt - Lenze Motor | I3: Completed | K3: 46050 | L3: Jameson Fitzpatrick | M3: Jameson Fitzpatrick
A4: Customer Support | B4: Walmart | C4: Knapp | D4: NG1 | E4: Loop Sorter | F4: Project Engineering | G4: System Components | H4: Break Belt Infeed Conveyor | I4: Completed | K4: 46023 | L4: Jameson Fitzpatrick | M4: Jameson Fitzpatrick
B5: Walmart | C5: Knapp | D5: NG2 | E5: Loop Sorter | F5: Design Engineering | G5: Chute Design | H5: Chute - Carton | I5: Completed | K5: 46023 | L5: Jameson Fitzpatrick | M5: Pierre Damis
A6: Customer Support | B6: Walmart | C6: Knapp | D6: NG1 | E6: Loop Sorter | F6: Project Engineering | G6: System Components | H6: Chute - Carton | I6: Completed | K6: 46023 | L6: Jameson Fitzpatrick | M6: Pierre Damis | O6: Update xref
B7: Walmart | C7: Knapp | D7: NG4 | E7: Loop Sorter | F7: Design Engineering | G7: Chute Design | H7: Chute - Tote | I7: Completed | K7: 46023 | L7: Jameson Fitzpatrick | M7: Pierre Damis
A8: Customer Support | B8: Walmart | C8: Knapp | D8: NG1 | E8: Loop Sorter | F8: Project Layouts | G8: Installation Drawings | H8: Destination - IB MDR | I8: Completed | K8: 46062 | L8: Jameson Fitzpatrick | M8: Jameson Fitzpatrick
A9: Customer Support | B9: Walmart | C9: Knapp | D9: NG1 | E9: Loop Sorter | F9: Project Layouts | G9: Installation Drawings | H9: Destination - OB Break belt | I9: Completed | K9: 46062 | L9: Jameson Fitzpatrick | M9: Jameson Fitzpatrick
A10: Customer Support | B10: Walmart | C10: Knapp | D10: NG1 | E10: Loop Sorter | F10: Project Layouts | G10: Installation Drawings | H10: Induction Unit - Mounting Details | I10: Completed | K10: 46062 | L10: Jameson Fitzpatrick | M10: Jameson Fitzpatrick
A11: Customer Support | B11: Walmart | C11: Knapp | D11: NG1 | E11: Loop Sorter | F11: Design Engineering | G11: Detail Design | H11: Induction Unit - Mounting and Hardware | I11: Completed | K11: 46023 | L11: Jameson Fitzpatrick | M11: Jameson Fitzpatrick | N11: James Bragg
A12: Customer Support | B12: Walmart | C12: Knapp | D12: NG1 | E12: Loop Sorter | F12: Project Engineering | G12: MRF | H12: Safety Fencing | I12: Completed | L12: Jameson Fitzpatrick | M12: Jameson Fitzpatrick
A13: Customer Support | B13: Walmart | C13: Knapp | D13: NG1 | E13: Loop Sorter | F13: Project Layouts | G13: Installation Drawings | H13: Safety Fencing | I13: Completed | K13: 46062 | L13: Jameson Fitzpatrick | M13: Jameson Fitzpatrick
B14: Walmart | C14: Knapp | D14: NG1 | E14: Loop Sorter | F14: Project Layouts | G14: MRF | H14: Induction Unit - Mounting Hardware | I14: Completed | K14: 46050 | L14: Jameson Fitzpatrick | M14: Jameson Fitzpatrick
A15: Customer Support | B15: Walmart | C15: Knapp | D15: NG1 | E15: Loop Sorter | F15: Project Engineering | G15: System Components | H15: Chute - Tote | I15: Completed | K15: 46023 | L15: Jameson Fitzpatrick | M15: Pierre Damis | O15: Update xref

Sheet CS_ Digikey
A1: Division | B1: Customer | C1: Integ | D1: Name | E1: System | F1: Task Category | G1: Area | H1: Deliverable | I1: Status | J1: Review Date | K1: Due Date | L1: Project Lead | M1: Area Owner | N1: Execution Owner | O1: Comments
A2: Customer Support | B2: Digikey | C2: N/A | D2: DigiKey | E2: Loop Sorter | F2: Project Engineering | G2: System Components | H2: Safety Fence Panels | I2: Completed | L2: Jameson Fitzpatrick
A3: Customer Support | B3: Digikey | C3: N/A | D3: DigiKey | E3: Loop Sorter | F3: Project Engineering | G3: System Components | H3: Induction Anchors | I3: Completed | L3: Jameson Fitzpatrick
A4: Customer Support | B4: Digikey | C4: N/A | D4: DigiKey | E4: Loop Sorter | F4: Project Engineering | G4: System Components | H4: Safety Fence Anchors | I4: Completed | L4: Jameson Fitzpatrick
A5: Customer Support | B5: Digikey | C5: N/A | D5: DigiKey | E5: Loop Sorter | F5: Project Layouts | G5: Installation Drawings | H5: Safety Fence | I5: Completed | L5: Jameson Fitzpatrick

Sheet CS_NG Lite
A1: Division | B1: Customer | C1: Integ | D1: Name | E1: System | F1: Task Category | G1: Area | H1: Deliverable | I1: Status | J1: Review Date | K1: Due Date | L1: Project Lead | M1: Area Owner | N1: Execution Owner | O1: Comments
A2: Customer Support | B2: Walmart | C2: N/A | D2: NG Lite | E2: Loop Sorter | F2: Project Engineering | G2: System Components | H2: Safety Fencing | I2: Completed | L2: Jameson Fitzpatrick | M2: Pierre Damis | N2: Pierre Damis
A3: Customer Support | B3: Walmart | C3: N/A | D3: NG Lite | E3: Loop Sorter | F3: Design Engineering | G3: Detail Design | H3: Induction Unit - Mounting & Hardware | I3: Completed | L3: Jameson Fitzpatrick
A4: Customer Support | B4: Walmart | C4: N/A | D4: NG Lite | E4: Loop Sorter | F4: Project Layouts | G4: Installation Drawings | H4: Induction Unit - Mounitng Details | I4: Completed | L4: Jameson Fitzpatrick

Sheet EE Workflow
