Workbook

Sheet Global_WBS
A1: Content.Division | B1: Content.Customer | C1: Content.Integ | D1: Content.Name | E1: Content.System | F1: Content.Task Category | G1: Content.Area | H1: Content.Deliverable | I1: Content.Status | J1: Content.Review Date | K1: Content.Due Date | L1: Content.Project Lead | M1: Content.Area Owner | N1: Content.Execution Owner | O1: Content.Comments | P1: Name
A2: Logistics | B2: Amazon | C2: DCS | D2: SFL9 | E2: BGLS | F2: Project Engineering | G2: Documentation | H2: Site Survey | I2: Completed | K2: 45824 | L2: Deep Gajjar | M2: Deep Gajjar | N2: Deep Gajjar | O2: DGajjar WK 24 - All Documents | P2: SSD_DCS
A3: Logistics | B3: Amazon | C3: DCS | D3: SOH7 | E3: BGLS | F3: Project Engineering | G3: Documentation | H3: Site Survey | I3: Completed | K3: 45981 | L3: Deep Gajjar | M3: Deep Gajjar | N3: Deep Gajjar | O3: ME 11-20-25 - All Documents | P3: SSD_DCS
A4: Logistics | B4: Amazon | C4: DCS | D4: SSF3 | E4: BGLS | F4: Project Engineering | G4: Documentation | H4: Site Survey | I4: Completed | K4: 46001 | L4: Deep Gajjar | M4: Deep Gajjar | N4: Xin Liu | O4: 2025-12-10 Initial Site Survey - All Documents | P4: SSD_DCS
A5: Logistics | B5: Amazon | C5: DCS | D5: SSF3 | E5: BGLS | F5: Design Engineering | G5: Detail Design | H5: Sorter Supports | I5: Completed | K5: 46023 | L5: Deep Gajjar | M5: Deep Gajjar | N5: Deep Gajjar | P5: SSD_DCS
A6: Customer Support | B6: Walmart | C6: Knapp | D6: NG1 | E6: Loop Sorter | F6: Design Engineering | G6: Detail Design | H6: Induction Unit - Mounting and Hardware | I6: Completed | K6: 46023 | L6: Jameson Fitzpatrick | M6: Jameson Fitzpatrick | N6: James Bragg | P6: CS_NG1
A7: Logistics | B7: Amazon | C7: DCS | D7: SSF3 | E7: BGLS | F7: Project Engineering | G7: Documentation | H7: BGLS Ordering Tool - ME | I7: Completed | K7: 46023 | L7: Deep Gajjar | M7: Deep Gajjar | N7: Deep Gajjar | P7: SSD_DCS
A8: Logistics | B8: Amazon | C8: DCS | D8: SSF3 | E8: BGLS | F8: Project Engineering | G8: Documentation | H8: BGLS Sorter Length | I8: Completed | K8: 46023 | L8: Deep Gajjar | M8: Deep Gajjar | N8: Deep Gajjar | P8: SSD_DCS
A9: Logistics | B9: Amazon | C9: DCS | D9: SSF3 | E9: BGLS | F9: Project Engineering | G9: Documentation | H9: Spare Parts List | I9: Completed | K9: 46023 | L9: Deep Gajjar | M9: Deep Gajjar | N9: Deep Gajjar | P9: SSD_DCS
A10: Logistics | B10: Amazon | C10: DCS | D10: SSF3 | E10: BGLS | F10: Documentation | G10: MRF | H10: Safety Fencing | I10: Completed | K10: 46023 | L10: Deep Gajjar | M10: Deep Gajjar | N10: Deep Gajjar | P10: SSD_DCS
A11: Logistics | B11: Amazon | C11: DCS | D11: SAX8 | E11: BGLS | F11: Project Engineering | G11: System Components | H11: Cabinet Location | I11: Completed | K11: 46023 | L11: Deep Gajjar | M11: Deep Gajjar | N11: Deep Gajjar | P11: SSD_DCS
A12: Logistics | B12: Amazon | C12: DCS | D12: SCA8 | E12: BGLS | F12: Project Engineering | G12: System Components | H12: Cabinet Location | I12: Completed | K12: 46023 | L12: Deep Gajjar | M12: Deep Gajjar | N12: Deep Gajjar | P12: SSD_DCS
A13: Logistics | B13: Amazon | C13: DCS | D13: SNJ5 | E13: BGLS | F13: Project Engineering | G13: System Components | H13: Cabinet Location | I13: Completed | K13: 46023 | L13: Deep Gajjar | M13: Deep Gajjar | N13: Deep Gajjar | P13: SSD_DCS
A14: Logistics | B14: Amazon | C14: DCS | D14: SOH7 | E14: BGLS | F14: Project Engineering | G14: System Components | H14: Cabinet Location | I14: Completed | K14: 46023 | L14: Deep Gajjar | M14: Deep Gajjar | N14: Deep Gajjar | P14: SSD_DCS
A15: Logistics | B15: Amazon | C15: DCS | D15: SNC7 | E15: BGLS | F15: Project Engineering | G15: System Components | H15: Cabinet Location | I15: Completed | K15: 46023 | L15: Deep Gajjar | M15: Deep Gajjar | N15: Deep Gajjar | P15: SSD_DCS
A16: Logistics | B16: Amazon | C16: DCS | D16: SSF3 | E16: BGLS | F16: Project Engineering | G16: System Components | H16: Cabinet Location | I16: Completed | K16: 46023 | L16: Deep Gajjar | M16: Deep Gajjar | N16: Deep Gajjar | P16: SSD_DCS
... A23: Logistics | B23: Amazon | C23: DCS | D23: SNC7 | E23: BGLS | F23: Project Engineering | G23: System Components | H23: Operator and Maintenace Area | I23: Completed | K23: 46023 | L23: Deep Gajjar | M23: Deep Gajjar | N23: Deep Gajjar | P23: SSD_DCS
A24: Logistics | B24: Amazon | C24: N/A | D24: FTY3 | E24: Loop Sorter | F24: Project Engineering | G24: System Components | H24: IB - Load Plan Layout | I24: Completed | K24: 46023 | L24: Alex Raff | N24: Andrea Hosna | P24: Amz_FTY3
A25: Customer Support | B25: Walmart | C25: Knapp | D25: NG1 | E25: Loop Sorter | F25: Project Engineering | G25: System Components | H25: Break Belt Infeed Conveyor | I25: Completed | K25: 46023 | L25: Jameson Fitzpatrick | M25: Jameson Fitzpatrick | P25: CS_NG1
A26: Customer Support | B26: Walmart | C26: Knapp | D26: NG1 | E26: Loop Sorter | F26: Project Engineering | G26: System Components | H26: Chute - Carton | I26: Completed | K26: 46023 | L26: Jameson Fitzpatrick | M26: Pierre Damis | O26: Update xref | P26: CS_NG1
A27: Customer Support | B27: Walmart | C27: Knapp | D27: NG1 | E27: Loop Sorter | F27: Project Engineering | G27: System Components | H27: Chute - Tote | I27: Completed | K27: 46023 | L27: Jameson Fitzpatrick | M27: Pierre Damis | O27: Update xref | P27: CS_NG1
A28: Logistics | B28: Amazon | C28: DCS | D28: SSF3 | E28: BGLS | F28: Project Engineering | G28: System Layouts | H28: System Layout Submittal | I28: Completed | K28: 46023 | L28: Deep Gajjar | M28: Deep Gajjar | N28: Deep Gajjar | P28: SSD_DCS
A29: Logistics | B29: Amazon | C29: Fortna | D29: SAZ4 | E29: BGLS | F29: Project Engineering | G29: Documentation | H29: Site Survey | I29: Completed | K29: 46036 | L29: Deep Gajjar | M29: Xin Liu | N29: Xin Liu | O29: 2026-01-14 Initial Site Survey - All Documents | P29: SSD_Fortna
A30: Logistics | B30: Amazon | C30: DCS | D30: SNJ5 | E30: BGLS | F30: Project Engineering | G30: Documentation | H30: Site Survey | I30: Completed | K30: 46037 | L30: Deep Gajjar | M30: Deep Gajjar | N30: Deep Gajjar | O30: Wk 3 DGajjar - All Documents | P30: SSD_DCS
A31: Logistics | B31: Amazon | C31: DCS | D31: SCA8 | E31: BGLS | F31: Project Engineering | G31: Documentation | H31: Site Survey | I31: Completed | K31: 46038 | L31: Deep Gajjar | M31: Deep Gajjar | N31: Xin Liu | O31: 2026-01-15 Initial Site Survey - All Documents | P31: SSD_DCS
A32: Logistics | B32: Amazon | C32: DCS | D32: SAX8 | E32: BGLS | F32: Project Engineering | G32: Documentation | H32: Site Survey | I32: Completed | K32: 46040 | L32: Deep Gajjar | M32: Deep Gajjar | N32: Xin Liu | O32: 2026-01-16 Initial Site Survey - All Documents | P32: SSD_DCS
A33: Customer Support | B33: Walmart | C33: Knapp | D33: NG1 | E33: Loop Sorter | F33: Project Engineering | G33: System Components | H33: Break Belt - Lenze Motor | I33: Completed | K33: 46050 | L33: Jameson Fitzpatrick | M33: Jameson Fitzpatrick | P33: CS_NG1
A34: Customer Support | B34: Walmart | C34: Knapp | D34: NG1 | E34: Loop Sorter | F34: Project Engineering | G34: System Components | H34: Break Belt - Electrical Components | I34: Completed | K34: 46051 | L34: Jameson Fitzpatrick | M34: Jameson Fitzpatrick | O34: BCH to confirm if provided | P34: CS_NG1
A35: Logistics | B35: Amazon | C35: N/A | D35: SSDs | E35: BGLS | F35: Project Engineering | G35: Chute Design | H35: Mobile Chute - Left hand vs Right hand count | I35: Completed | K35: 46054 | L35: Pierre Damis | M35: Pierre Damis | N35: Pierre Damis | P35: SSD_GFCD
A36: Logistics | B36: Amazon | C36: N/A | D36: SSDs | E36: BGLS | F36: Design Engineering | G36: Chute Design | H36: Mobile Chute - Floor Guides | I36: Completed | K36: 46054 | L36: Pierre Damis | M36: Rasmus Sorensen | N36: Pierre Damis | P36: SSD_GFCD
A37: Logistics | B37: Amazon | C37: N/A | D37: SSDs | E37: BGLS | F37: Design Engineering | G37: Chute Design | H37: Mobile Chute - Device Frame | I37: Completed | K37: 46054 | L37: Pierre Damis | M37: Pierre Damis | N37: Pierre Damis | P37: SSD_GFCD
A38: Logistics | B38: Amazon | C38: N/A | D38: SSDs | E38: BGLS | F38: Design Engineering | G38: Chute Design | H38: Mobile Chute - Floor Guides- Updated Assembly Drawing | I38: Completed | K38: 46054 | L38: Pierre Damis | M38: Rasmus Sorensen | N38: Pierre Damis | P38: SSD_GFCD
A39: Logistics | B39: Amazon | C39: N/A | D39: SSDs | E39: BGLS | F39: Design Engineering | G39: Chute Design | H39: Mobile Chute - Operator Post | I39: Completed | K39: 46054 | L39: Pierre Damis | M39: Pierre Damis | N39: Pierre Damis | P39: SSD_GFCD
A40: Logistics | B40: Amazon | C40: N/A | D40: SSDs | E40: BGLS | F40: Design Engineering | G40: Chute Design | H40: Mobile Chute - Break Roller | I40: Completed | K40: 46054 | L40: Pierre Damis | M40: Pierre Damis | N40: Pierre Damis | P40: SSD_GFCD
A41: Logistics | B41: Amazon | C41: N/A | D41: SSDs | E41: BGLS | F41: Project Engineering | G41: Chute Design | H41: Mobile Chute - Break Roller Customer FAT | I41: Completed | K41: 46054 | L41: Pierre Damis | M41: Pierre Damis | N41: Pierre Damis | O41: Amazon Chute Force Tests - OneDrive | P41: SSD_GFCD
A42: Logistics | B42: Amazon | C42: N/A | D42: SSDs | E42: BGLS | F42: Design Engineering | G42: Chute Design | H42: Mobile Chute - Transition Slide Structure for single chute | I42: Completed | K42: 46054 | L42: Pierre Damis | M42: Pierre Damis | N42: Pierre Damis | P42: SSD_GFCD
A43: Logistics | B43: Amazon | C43: N/A | D43: SSDs | E43: BGLS | F43: Design Engineering | G43: Chute Design | H43: Mobile Chute - Transition Slide Structure Between banks | I43: Completed | K43: 46054 | L43: Pierre Damis | M43: Pierre Damis | N43: Pierre Damis | P43: SSD_GFCD
A44: Logistics | B44: Amazon | C44: N/A | D44: SSDs | E44: BGLS | F44: Project Engineering | G44: Chute Design | H44: Static Chute - Included In J&J Order | I44: Completed | K44: 46054 | L44: Pierre Damis | M44: Pierre Damis | N44: Pierre Damis | P44: SSD_GFCD
A45: Logistics | B45: Amazon | C45: N/A | D45: SSDs | E45: BGLS | F45: Design Engineering | G45: Chute Design | H45: Static Chute - Transition Slide Structure near recirculation line | I45: Completed | K45: 46054 | L45: Pierre Damis | M45: Pierre Damis | N45: Pierre Damis | P45: SSD_GFCD
A46: Logistics | B46: Amazon | C46: N/A | D46: SSDs | E46: BGLS | F46: Project Engineering | G46: Chute Design | H46: End of Line Chute - Left hand vs Right hand count | I46: Completed | K46: 46054 | L46: Pierre Damis | M46: Pierre Damis | N46: Pierre Damis | P46: SSD_GFCD
...

Sheet Amazon SSDs
A1: Division | B1: Customer | C1: Integ | D1: Name | E1: System | F1: Task Category | G1: Area | H1: Deliverable | I1: Status | J1: Review Date | K1: Due Date | L1: Project Lead | M1: Area Owner | N1: Execution Owner | O1: Comments
A2: Logistics | B2: Amazon | C2: N/A | D2: SSDs | E2: BGLS | F2: Project Layouts | G2: System Components | H2: Destination - Blocks | I2: Completed | K2: 46054 | L2: Pierre Damis | M2: Pierre Damis | N2: Andrea Hosna
A3: Logistics | B3: Amazon | C3: N/A | D3: SSDs | E3: BGLS | F3: Project Engineering | G3: System Components | H3: Safety Fencing - Destination Area | I3: Completed | K3: 46083 | L3: Pierre Damis | M3: Pierre Damis | N3: Pierre Damis
A4: Logistics | B4: Amazon | C4: N/A | D4: SSDs | E4: BGLS | F4: Project Engineering | G4: System Components | H4: Destination | I4: Completed | K4: 46083 | L4: Pierre Damis | M4: Pierre Damis | N4: Andrea Hosna
A5: Logistics | B5: Amazon | C5: N/A | D5: SSDs | E5: BGLS | F5: Project Engineering | G5: Documentation | H5: Risk Assessment | I5: On schedule | K5: 46083 | L5: Pierre Damis | M5: Pierre Damis | N5: Pierre Damis
A6: Logistics | B6: Amazon | C6: N/A | D6: SSDs | E6: BGLS | F6: Project Engineering | G6: Chute Design | H6: Mobile Chute - Left hand vs Right hand count | I6: Completed | K6: 46054 | L6: Pierre Damis | M6: Pierre Damis | N6: Pierre Damis
A7: Logistics | B7: Amazon | C7: N/A | D7: SSDs | E7: BGLS | F7: Project Engineering | G7: Chute Design | H7: Mobile Chute - Break Roller Customer FAT | I7: Completed | K7: 46054 | L7: Pierre Damis | M7: Pierre Damis | N7: Pierre Damis | O7: Amazon Chute Force Tests - OneDrive
A8: Logistics | B8: Amazon | C8: N/A | D8: SSDs | E8: BGLS | F8: Project Engineering | G8: Chute Design | H8: Static Chute - Included In J&J Order | I8: Completed | K8: 46054 | L8: Pierre Damis | M8: Pierre Damis | N8: Pierre Damis
A9: Logistics | B9: Amazon | C9: N/A | D9: SSDs | E9: BGLS | F9: Project Engineering | G9: Chute Design | H9: End of Line Chute - Left hand vs Right hand count | I9: Completed | K9: 46054 | L9: Pierre Damis | M9: Pierre Damis | N9: Pierre Damis
A10: Logistics | B10: Amazon | C10: N/A | D10: SSDs | E10: BGLS | F10: Project Engineering | G10: Chute Design | H10: Induction Chute | I10: Completed | K10: 46054 | L10: Pierre Damis | M10: Pierre Damis | N10: Pierre Damis
A11: Logistics | B11: Amazon | C11: N/A | D11: SSDs | E11: BGLS | F11: Design Engineering | G11: Chute Design | H11: Chute Assembly Model | I11: Completed | K11: 46087 | L11: Pierre Damis | M11: Pierre Damis | N11: Rasmus Sorensen
A12: Logistics | B12: Amazon | C12: N/A | D12: SSDs | E12: BGLS | F12: Design Engineering | G12: Chute Design | H12: Operator post floor mount | I12: Completed | K12: 46092 | L12: Pierre Damis | M12: Pierre Damis | N12: Rasmus Sorensen
A13: Logistics | B13: Amazon | C13: N/A | D13: SSDs | E13: BGLS | F13: Design Engineering | G13: Chute Design | H13: Device frame floor mount | I13: Completed | K13: 46092 | L13: Pierre Damis | M13: Pierre Damis | N13: Rasmus Sorensen
A14: Logistics | B14: Amazon | C14: N/A | D14: SSDs | E14: BGLS | F14: Design Engineering | G14: Chute Design | H14: Mobile Chute - Floor Guides | I14: Completed | K14: 46054 | L14: Pierre Damis | M14: Rasmus Sorensen | N14: Pierre Damis
A15: Logistics | B15: Amazon | C15: N/A | D15: SSDs | E15: BGLS | F15: Design Engineering | G15: Chute Design | H15: Mobile Chute - Device Frame | I15: Completed | K15: 46054 | L15: Pierre Damis | M15: Pierre Damis | N15: Pierre Damis
A16: Logistics | B16: Amazon | C16: N/A | D16: SSDs | E16: BGLS | F16: Design Engineering | G16: Chute Design | H16: Mobile Chute - Floor Guides- Updated Assembly Drawing | I16: Completed | K16: 46054 | L16: Pierre Damis | M16: Rasmus Sorensen | N16: Pierre Damis
A17: Logistics | B17: Amazon | C17: N/A | D17: SSDs | E17: BGLS | F17: Design Engineering | G17: Chute Design | H17: Mobile Chute - Operator Post | I17: Completed | K17: 46054 | L17: Pierre Damis | M17: Pierre Damis | N17: Pierre Damis
A18: Logistics | B18: Amazon | C18: N/A | D18: SSDs | E18: BGLS | F18: Design Engineering | G18: Chute Design | H18: Mobile Chute - Break Roller | I18: Completed | K18: 46054 | L18: Pierre Damis | M18: Pierre Damis | N18: Pierre Damis
A19: Logistics | B19: Amazon | C19: N/A | D19: SSDs | E19: BGLS | F19: Design Engineering | G19: Chute Design | H19: Mobile Chute - Transition Slide Structure for single chute | I19: Completed | K19: 46054 | L19: Pierre Damis | M19: Pierre Damis | N19: Pierre Damis
... A22: Logistics | B22: Amazon | C22: N/A | D22: SSDs | E22: BGLS | F22: Design Engineering | G22: Chute Design | H22: Operator post floor mount - modified to attach to guides | I22: On schedule | K22: 46171 | L22: Pierre Damis | M22: Rasmus Sorensen | N22: James Bragg
A23: Logistics | B23: Amazon | C23: N/A | D23: SSDs | E23: BGLS | F23: Design Engineering | G23: Detail Design | H23: Doubles Detection Bracket | I23: Completed | K23: 46111 | L23: Pierre Damis | M23: Pierre Damis | N23: Rasmus Sorensen | O23: Doubles Detection Bracket - All Documents

Sheet SSD Dematic
A1: Division | B1: Customer | C1: Integ | D1: Name | E1: System | F1: Task Category | G1: Area | H1: Deliverable | I1: Status | J1: Review Date | K1: Due Date | L1: Project Lead | M1: Area Owner | N1: Execution Owner | O1: Comments
A2: Logistics | B2: Amazon | C2: Dematic | D2: SAX9 | E2: BGLS | F2: Project Engineering | G2: System Layouts | H2: System Layout Submittal | I2: Completed | K2: 46115 | L2: Svaraj Patel
A3: Logistics | B3: Amazon | C3: Dematic | D3: SCL3 | E3: BGLS | F3: Design Engineering | G3: Chute Design | H3: End of Line Chute | I3: Behind Schedule | K3: 46168 | L3: Svaraj Patel | M3: Rasmus Sorensen | O3: Final qtys for MRF
A4: Logistics | B4: Amazon | C4: Dematic | D4: SAX9 | E4: BGLS | F4: Project Engineering | G4: Documentation | H4: BGLS Ordering Tool - ME | I4: Completed | K4: 46127 | L4: Svaraj Patel
A5: Logistics | B5: Amazon | C5: Dematic | D5: SAX9 | E5: BGLS | F5: Project Engineering | G5: Documentation | H5: BGLS Sorter Length | I5: Completed | K5: 46127 | L5: Svaraj Patel
A6: Logistics | B6: Amazon | C6: Dematic | D6: SCL3 | E6: BGLS | F6: Design Engineering | G6: Chute Design | H6: Induction Chute | I6: Behind Schedule | K6: 46168 | L6: Svaraj Patel | M6: Rasmus Sorensen | O6: Final qtys for MRF
A7: Logistics | B7: Amazon | C7: Dematic | D7: SCL3 | E7: BGLS | F7: Design Engineering | G7: Chute Design | H7: Mobile Chute | I7: Behind Schedule | K7: 46168 | L7: Svaraj Patel | M7: Rasmus Sorensen | O7: Final qtys for MRF
A8: Logistics | B8: Amazon | C8: Dematic | D8: SAX9 | E8: BGLS | F8: Design Engineering | G8: Chute Design | H8: Static Chute | I8: Behind Schedule | K8: 46168 | L8: Svaraj Patel | M8: Pierre Damis | O8: Final qtys for MRF
A9: Logistics | B9: Amazon | C9: Dematic | D9: SAX9 | E9: BGLS | F9: Design Engineering | G9: Chute Design | H9: End of Line Chute | I9: Behind Schedule | K9: 46168 | L9: Svaraj Patel | M9: Pierre Damis | O9: Final qtys for MRF
A10: Logistics | B10: Amazon | C10: Dematic | D10: SAX9 | E10: BGLS | F10: Design Engineering | G10: Chute Design | H10: Induction Chute | I10: Behind Schedule | K10: 46168 | L10: Svaraj Patel | M10: Pierre Damis | O10: Final qtys for MRF
A11: Logistics | B11: Amazon | C11: Dematic | D11: SAX9 | E11: BGLS | F11: Design Engineering | G11: Chute Design | H11: Mobile Chute | I11: Behind Schedule | K11: 46168 | L11: Svaraj Patel | M11: Pierre Damis | O11: Final qtys for MRF
A12: Logistics | B12: Amazon | C12: Dematic | D12: SAX9 | E12: BGLS | F12: Design Engineering | G12: Chute Design | H12: Recirculation Line | I12: On schedule | K12: 46230 | L12: Svaraj Patel | M12: Svaraj Patel
A13: Logistics | B13: Amazon | C13: Dematic | D13: SAX9 | E13: BGLS | F13: Design Engineering | G13: Detail Design | H13: EE Device Bracket - | I13: On schedule | K13: 46230 | L13: Svaraj Patel | M13: Deep Gajjar | O13: 6 weeks before install, Pending EE to provide a list of components
A14: Logistics | B14: Amazon | C14: Dematic | D14: SAX9 | E14: BGLS | F14: Project Engineering | G14: Documentation | H14: Installation Book | I14: On schedule | K14: 46266 | L14: Svaraj Patel | M14: David Blanco | O14: Site Start Date: 9/29/26 (4 weeks before install, 1 week buffer)
A15: Logistics | B15: Amazon | C15: Dematic | D15: SAX9 | E15: BGLS | F15: Project Engineering | G15: Documentation | H15: Site Survey | I15: On schedule | K15: 46198 | L15: Svaraj Patel | M15: Svaraj Patel | N15: Svaraj Patel
A16: Logistics | B16: Amazon | C16: Dematic | D16: SAX9 | E16: BGLS | F16: Project Engineering | G16: System Components | H16: Cabinet Location | I16: Completed | K16: 46227 | L16: Svaraj Patel
A17: Logistics | B17: Amazon | C17: Dematic | D17: SAX9 | E17: BGLS | F17: Project Engineering | G17: Documentation | H17: Spare Parts List | I17: Pending Update | K17: TBD | L17: Svaraj Patel | M17: Svaraj Patel | N17: Svaraj Patel | O17: Ref previous SSDs
A18: Logistics | B18: Amazon | C18: Dematic | D18: SAX9 | E18: BGLS | F18: Project Engineering | G18: System Components | H18: Point Load Layout | I18: Completed | K18: 46227 | L18: Svaraj Patel
A19: Logistics | B19: Amazon | C19: Dematic | D19: SAX9 | E19: BGLS | F19: Project Engineering | G19: Documentation | H19: Risk Assessment | I19: Pending Update | K19: TBD | L19: Svaraj Patel | M19: Pierre Damis | N19: Pierre Damis | O19: Template RA - SSF3
A20: Logistics | B20: Amazon | C20: Dematic | D20: SAX9 | E20: BGLS | F20: Project Layouts | G20: Documentation | H20: As-Builds | I20: On schedule | K20: 46349 | L20: Svaraj Patel | M20: David Blanco | O20: End of ME Install. Confirm Date
A21: Logistics | B21: Amazon | C21: Dematic | D21: SAX9 | E21: BGLS | F21: Project Engineering | G21: System Components | H21: Induction Unit | I21: Completed | K21: 46227 | L21: Svaraj Patel
A22: Logistics | B22: Amazon | C22: Dematic | D22: SCL3 | E22: BGLS | F22: Design Engineering | G22: Chute Design | H22: Static Chute | I22: Behind Schedule | K22: 46168 | L22: Svaraj Patel | M22: Rasmus Sorensen | O22: Final qtys for MRF
A23: Logistics | B23: Amazon | C23: Dematic | D23: SAX9 | E23: BGLS | F23: Project Engineering | G23: System Components | H23: Safety Fencing | I23: Completed | K23: 46227 | L23: Svaraj Patel
A24: Logistics | B24: Amazon | C24: Dematic | D24: SAX9 | E24: BGLS | F24: Project Engineering | G24: System Components | H24: Sorter Section | I24: Completed | K24: 46227 | L24: Svaraj Patel
A25: Logistics | B25: Amazon | C25: Dematic | D25: SAX9 | E25: BGLS | F25: Project Engineering | G25: System Components | H25: Sorter Support | I25: Completed | K25: 46227 | L25: Svaraj Patel
A26: Logistics | B26: Amazon | C26: Dematic | D26: SAX9 | E26: BGLS | F26: Project Layouts | G26: Installation Drawings | H26: Datum | I26: On schedule | K26: 46258 | L26: Svaraj Patel | M26: David Blanco | N26: James Bragg
A27: Logistics | B27: Amazon | C27: Dematic | D27: SCL3 | E27: BGLS | F27: Design Engineering | G27: Chute Design | H27: Recirculation Line | I27: On schedule | K27: 46230 | L27: Svaraj Patel | M27: Svaraj Patel
A28: Logistics | B28: Amazon | C28: Dematic | D28: SAX9 | E28: BGLS | F28: Project Layouts | G28: Installation Drawings | H28: DES ECO Layout | I28: On schedule | K28: 46258 | L28: Svaraj Patel | M28: David Blanco | N28: James Bragg
A29: Logistics | B29: Amazon | C29: Dematic | D29: SCL3 | E29: BGLS | F29: Design Engineering | G29: Detail Design | H29: Sorter Supports | I29: Completed | K29: 46230 | L29: Svaraj Patel | M29: Svaraj Patel
A30: Logistics | B30: Amazon | C30: Dematic | D30: SAX9 | E30: BGLS | F30: Project Layouts | G30: Installation Drawings | H30: Destination Chutes | I30: On schedule | K30: 46258 | L30: Svaraj Patel | M30: David Blanco | N30: James Bragg
A31: Logistics | B31: Amazon | C31: Dematic | D31: SCL3 | E31: BGLS | F31: Design Engineering | G31: Detail Design | H31: EE Device Bracket - | I31: On schedule | K31: 46230 | L31: Svaraj Patel | M31: Deep Gajjar | O31: 6 weeks before install, Pending EE to provide a list of components
A32: Logistics | B32: Amazon | C32: Dematic | D32: SCL3 | E32: BGLS | F32: Project Engineering | G32: Documentation | H32: BGLS Ordering Tool - ME | I32: Completed | K32: 46127 | L32: Svaraj Patel
A33: Logistics | B33: Amazon | C33: Dematic | D33: SAX9 | E33: BGLS | F33: Project Layouts | G33: Installation Drawings | H33: Destination Transitions | I33: On schedule | K33: 46258 | L33: Svaraj Patel | M33: David Blanco | N33: James Bragg
A34: Logistics | B34: Amazon | C34: Dematic | D34: SCL3 | E34: BGLS | F34: Project Engineering | G34: Documentation | H34: BGLS Sorter Length | I34: Completed | K34: 46127 | L34: Svaraj Patel
A35: Logistics | B35: Amazon | C35: Dematic | D35: SCL3 | E35: BGLS | F35: Project Engineering | G35: Documentation | H35: Site Survey | I35: On schedule | K35: 46197 | L35: Svaraj Patel | M35: Svaraj Patel | N35: Svaraj Patel
A36: Logistics | B36: Amazon | C36: Dematic | D36: SCL3 | E36: BGLS | F36: Project Engineering | G36: Documentation | H36: Installation Book | I36: On schedule | K36: 46266 | L36: Svaraj Patel | M36: David Blanco | O36: Site Start Date: 9/29/26 (4 weeks before install, 1 week buffer)
A37: Logistics | B37: Amazon | C37: Dematic | D37: SAX9 | E37: BGLS | F37: Project Layouts | G37: Installation Drawings | H37: Egress, Maintenance Operator | I37: On schedule | K37: 46258 | L37: Svaraj Patel | M37: David Blanco | N37: James Bragg
A38: Logistics | B38: Amazon | C38: Dematic | D38: SAX9 | E38: BGLS | F38: Design Engineering | G38: Detail Design | H38: Sorter Supports | I38: Completed | K38: 46230 | L38: Svaraj Patel
A39: Logistics | B39: Amazon | C39: Dematic | D39: SAX9 | E39: BGLS | F39: Project Layouts | G39: Installation Drawings | H39: Induction Unit | I39: On schedule | K39: 46258 | L39: Svaraj Patel | M39: David Blanco | N39: James Bragg
A40: Logistics | B40: Amazon | C40: Dematic | D40: SAX9 | E40: BGLS | F40: Project Layouts | G40: Installation Drawings | H40: LNS ECO Layout | I40: On schedule | K40: 46258 | L40: Svaraj Patel | M40: David Blanco | N40: James Bragg
...

Sheet SSD DCS
A1: Division | B1: Customer | C1: Integ | D1: Name | E1: System | F1: Task Category | G1: Area | H1: Deliverable | I1: Status | J1: Review Date | K1: Due Date | L1: Project Lead | M1: Area Owner | N1: Execution Owner | O1: Comments
A2: Logistics | B2: Amazon | C2: DCS | D2: SAX8 | E2: BGLS | F2: Project Layouts | G2: Documentation | H2: As-Builds | I2: On schedule | K2: TBD | L2: Deep Gajjar | M2: Deep Gajjar | N2: David Blanco
A3: Logistics | B3: Amazon | C3: DCS | D3: SCA8 | E3: BGLS | F3: Project Layouts | G3: Documentation | H3: As-Builds | I3: On schedule | K3: TBD | L3: Deep Gajjar | M3: Deep Gajjar | N3: David Blanco
A4: Logistics | B4: Amazon | C4: DCS | D4: SNJ5 | E4: BGLS | F4: Project Layouts | G4: Documentation | H4: As-Builds | I4: On schedule | K4: TBD | L4: Deep Gajjar | M4: Deep Gajjar | N4: David Blanco
A5: Logistics | B5: Amazon | C5: DCS | D5: SOH7 | E5: BGLS | F5: Project Layouts | G5: Documentation | H5: As-Builds | I5: On schedule | K5: TBD | L5: Deep Gajjar | M5: Deep Gajjar | N5: David Blanco
A6: Logistics | B6: Amazon | C6: DCS | D6: SFL9 | E6: BGLS | F6: Design Engineering | G6: Detail Design | H6: EE Device Bracket - | I6: On schedule | K6: TBD | L6: Deep Gajjar | M6: Deep Gajjar | N6: Deep Gajjar
A7: Logistics | B7: Amazon | C7: DCS | D7: SSF3 | E7: BGLS | F7: Design Engineering | G7: Chute Design | H7: End of Line Chute | I7: Completed | K7: 46076 | L7: Deep Gajjar | M7: Deep Gajjar | N7: Pierre Damis
A8: Logistics | B8: Amazon | C8: DCS | D8: SNC7 | E8: BGLS | F8: Project Engineering | G8: Documentation | H8: BGLS Ordering Tool - ME | I8: Completed | K8: 46054 | L8: Deep Gajjar | M8: Deep Gajjar | N8: Deep Gajjar
A9: Logistics | B9: Amazon | C9: DCS | D9: SAX8 | E9: BGLS | F9: Project Engineering | G9: Documentation | H9: BGLS Ordering Tool - ME | I9: Completed | K9: 46054 | L9: Deep Gajjar | M9: Deep Gajjar | N9: Deep Gajjar
A10: Logistics | B10: Amazon | C10: DCS | D10: SCA8 | E10: BGLS | F10: Project Engineering | G10: Documentation | H10: BGLS Ordering Tool - ME | I10: Completed | K10: 46054 | L10: Deep Gajjar | M10: Deep Gajjar | N10: Deep Gajjar
A11: Logistics | B11: Amazon | C11: DCS | D11: SNJ5 | E11: BGLS | F11: Project Engineering | G11: Documentation | H11: BGLS Ordering Tool - ME | I11: Completed | K11: 46054 | L11: Deep Gajjar | M11: Deep Gajjar | N11: Deep Gajjar
A12: Logistics | B12: Amazon | C12: DCS | D12: SOH7 | E12: BGLS | F12: Project Engineering | G12: Documentation | H12: BGLS Ordering Tool - ME | I12: Completed | K12: 46054 | L12: Deep Gajjar | M12: Deep Gajjar | N12: Deep Gajjar
A13: Logistics | B13: Amazon | C13: DCS | D13: SFL9 | E13: BGLS | F13: Design Engineering | G13: Chute Design | H13: End of Line Chute | I13: Completed | L13: Deep Gajjar | M13: Deep Gajjar | N13: Deep Gajjar
A14: Logistics | B14: Amazon | C14: DCS | D14: SSF3 | E14: BGLS | F14: Design Engineering | G14: Chute Design | H14: Induction Chute | I14: Completed | K14: 46076 | L14: Deep Gajjar | M14: Pierre Damis | N14: Rasmus Sorensen
A15: Logistics | B15: Amazon | C15: DCS | D15: SSF3 | E15: BGLS | F15: Design Engineering | G15: Chute Design | H15: Mobile Chute | I15: Completed | K15: 46076 | L15: Deep Gajjar | M15: Pierre Damis | N15: Pierre Damis
A16: Logistics | B16: Amazon | C16: DCS | D16: SSF3 | E16: BGLS | F16: Design Engineering | G16: Chute Design | H16: Static Chute | I16: Completed | K16: 46054 | L16: Deep Gajjar | M16: Pierre Damis | N16: Rasmus Sorensen
A17: Logistics | B17: Amazon | C17: DCS | D17: SAX8 | E17: BGLS | F17: Project Engineering | G17: System Components | H17: Cabinet Location | I17: Completed | K17: 46023 | L17: Deep Gajjar | M17: Deep Gajjar | N17: Deep Gajjar
A18: Logistics | B18: Amazon | C18: DCS | D18: SCA8 | E18: BGLS | F18: Project Engineering | G18: System Components | H18: Cabinet Location | I18: Completed | K18: 46023 | L18: Deep Gajjar | M18: Deep Gajjar | N18: Deep Gajjar
A19: Logistics | B19: Amazon | C19: DCS | D19: SNJ5 | E19: BGLS | F19: Project Engineering | G19: System Components | H19: Cabinet Location | I19: Completed | K19: 46023 | L19: Deep Gajjar | M19: Deep Gajjar | N19: Deep Gajjar
A20: Logistics | B20: Amazon | C20: DCS | D20: SOH7 | E20: BGLS | F20: Project Engineering | G20: System Components | H20: Cabinet Location | I20: Completed | K20: 46023 | L20: Deep Gajjar | M20: Deep Gajjar | N20: Deep Gajjar
A21: Logistics | B21: Amazon | C21: DCS | D21: SNC7 | E21: BGLS | F21: Project Engineering | G21: System Components | H21: Cabinet Location | I21: Completed | K21: 46023 | L21: Deep Gajjar | M21: Deep Gajjar | N21: Deep Gajjar
A22: Logistics | B22: Amazon | C22: DCS | D22: SFL9 | E22: BGLS | F22: Design Engineering | G22: Chute Design | H22: Induction Chute | I22: Completed | L22: Deep Gajjar | M22: Deep Gajjar | N22: Deep Gajjar
A23: Logistics | B23: Amazon | C23: DCS | D23: SSF3 | E23: BGLS | F23: Design Engineering | G23: Detail Design | H23: EE Device Bracket - | I23: Completed | K23: 46083 | L23: Deep Gajjar | M23: Deep Gajjar | O23: 6 weeks before install, Pending EE to provide a list of components
A24: Logistics | B24: Amazon | C24: DCS | D24: SCA8 | E24: BGLS | F24: Project Layouts | G24: Installation Drawings | H24: DES ECO Layout | I24: Completed | K24: 46097 | L24: Deep Gajjar | M24: Svaraj Patel
A25: Logistics | B25: Amazon | C25: DCS | D25: SAX8 | E25: BGLS | F25: Project Layouts | G25: Installation Drawings | H25: DES ECO Layout | I25: Completed | K25: TBD | L25: Deep Gajjar | M25: Svaraj Patel
A26: Logistics | B26: Amazon | C26: DCS | D26: SNJ5 | E26: BGLS | F26: Project Layouts | G26: Installation Drawings | H26: DES ECO Layout | I26: Completed | K26: TBD | L26: Deep Gajjar | M26: Svaraj Patel
A27: Logistics | B27: Amazon | C27: DCS | D27: SOH7 | E27: BGLS | F27: Project Layouts | G27: Installation Drawings | H27: DES ECO Layout | I27: Completed | K27: TBD | L27: Deep Gajjar | M27: Svaraj Patel
A28: Logistics | B28: Amazon | C28: DCS | D28: SNC7 | E28: BGLS | F28: Project Layouts | G28: Installation Drawings | H28: DES ECO Layout | I28: Completed | K28: TBD | L28: Deep Gajjar | M28: Svaraj Patel
A29: Logistics | B29: Amazon | C29: DCS | D29: SFL9 | E29: BGLS | F29: Design Engineering | G29: Chute Design | H29: Mobile Chute | I29: Completed | L29: Deep Gajjar | M29: Deep Gajjar | N29: Deep Gajjar
A30: Logistics | B30: Amazon | C30: DCS | D30: SSF3 | E30: BGLS | F30: Design Engineering | G30: Detail Design | H30: Sorter Supports | I30: Completed | K30: 46023 | L30: Deep Gajjar | M30: Deep Gajjar | N30: Deep Gajjar
A31: Logistics | B31: Amazon | C31: DCS | D31: SNC7 | E31: BGLS | F31: Project Engineering | G31: System Components | H31: Destination | I31: On schedule | K31: TBD | L31: Deep Gajjar | M31: Xin Liu | N31: Andrea Hosna
A32: Logistics | B32: Amazon | C32: DCS | D32: SSF3 | E32: BGLS | F32: Documentation | G32: MRF | H32: EE Device Bracket - | I32: Completed | K32: TBD | L32: Deep Gajjar | M32: Deep Gajjar
A33: Logistics | B33: Amazon | C33: DCS | D33: SAX8 | E33: BGLS | F33: Project Engineering | G33: System Components | H33: Destination | I33: On schedule | K33: TBD | L33: Deep Gajjar | M33: Xin Liu | N33: Andrea Hosna
A34: Logistics | B34: Amazon | C34: DCS | D34: SCA8 | E34: BGLS | F34: Project Engineering | G34: System Components | H34: Destination | I34: On schedule | K34: TBD | L34: Deep Gajjar | M34: Xin Liu | N34: Andrea Hosna
A35: Logistics | B35: Amazon | C35: DCS | D35: SNJ5 | E35: BGLS | F35: Project Engineering | G35: System Components | H35: Destination | I35: On schedule | K35: TBD | L35: Deep Gajjar | M35: Xin Liu | N35: Andrea Hosna
A36: Logistics | B36: Amazon | C36: DCS | D36: SOH7 | E36: BGLS | F36: Project Engineering | G36: System Components | H36: Destination | I36: On schedule | K36: TBD | L36: Deep Gajjar | M36: Xin Liu | N36: Andrea Hosna
A37: Logistics | B37: Amazon | C37: DCS | D37: SFL9 | E37: BGLS | F37: Design Engineering | G37: Chute Design | H37: Mobile Chute - Locking Mechanism | I37: On schedule | K37: 46146 | L37: Deep Gajjar | M37: Pierre Damis | N37: Rasmus Sorensen | O37: SFL 9 Files - All Documents
A38: Logistics | B38: Amazon | C38: DCS | D38: SOH7 | E38: BGLS | F38: Project Layouts | G38: Installation Drawings | H38: Destination Chutes | I38: On schedule | K38: 46092 | L38: Deep Gajjar | M38: Andrea Hosna | N38: Bert Ellard (Prolann)
A39: Logistics | B39: Amazon | C39: DCS | D39: SCA8 | E39: BGLS | F39: Project Layouts | G39: Installation Drawings | H39: Destination Chutes | I39: On schedule | K39: 46097 | L39: Deep Gajjar | M39: Andrea Hosna | N39: Bert Ellard (Prolann)
A40: Logistics | B40: Amazon | C40: DCS | D40: SAX8 | E40: BGLS | F40: Project Layouts | G40: Installation Drawings | H40: Destination Chutes | I40: On schedule | L40: Deep Gajjar | M40: Andrea Hosna | N40: Bert Ellard (Prolann)
...

Sheet SSD Daifuku
A1: Division | B1: Customer | C1: Integ | D1: Name | E1: System | F1: Task Category | G1: Area | H1: Deliverable | I1: Status | J1: Review Date | K1: Due Date | L1: Project Lead | M1: Area Owner | N1: Execution Owner | O1: Comments
A2: Logistics | B2: Amazon | C2: Daifuku | D2: SGA6 | E2: BGLS | F2: Project Layouts | G2: Documentation | H2: As-Builds | I2: On schedule | L2: Xin Liu | M2: Xin Liu | N2: David Blanco
A3: Logistics | B3: Amazon | C3: Daifuku | D3: SSJ1 | E3: BGLS | F3: Project Layouts | G3: Documentation | H3: As-Builds | I3: On schedule | L3: Xin Liu | M3: Xin Liu | N3: David Blanco
A4: Logistics | B4: Amazon | C4: Daifuku | D4: SWI2 | E4: BGLS | F4: Project Layouts | G4: Documentation | H4: As-Builds | I4: On schedule | L4: Xin Liu | M4: Xin Liu | N4: David Blanco
A5: Logistics | B5: Amazon | C5: Daifuku | D5: SGA6 | E5: BGLS | F5: Project Engineering | G5: Documentation | H5: BGLS Ordering Tool - ME | I5: On schedule | L5: Xin Liu | M5: Xin Liu | N5: Xin Liu
A6: Logistics | B6: Amazon | C6: Daifuku | D6: SSJ1 | E6: BGLS | F6: Project Engineering | G6: Documentation | H6: BGLS Ordering Tool - ME | I6: On schedule | L6: Xin Liu | M6: Xin Liu | N6: Xin Liu
A7: Logistics | B7: Amazon | C7: Daifuku | D7: SWI2 | E7: BGLS | F7: Project Engineering | G7: Documentation | H7: BGLS Ordering Tool - ME | I7: On schedule | L7: Xin Liu | M7: Xin Liu | N7: Xin Liu
A8: Logistics | B8: Amazon | C8: Daifuku | D8: SGA6 | E8: BGLS | F8: Project Engineering | G8: System Components | H8: Cabinet Location | I8: Completed | L8: Xin Liu | M8: Xin Liu | N8: Xin Liu
A9: Logistics | B9: Amazon | C9: Daifuku | D9: SSJ1 | E9: BGLS | F9: Project Engineering | G9: System Components | H9: Cabinet Location | I9: Completed | L9: Xin Liu | M9: Xin Liu | N9: Xin Liu
A10: Logistics | B10: Amazon | C10: Daifuku | D10: SWI2 | E10: BGLS | F10: Project Engineering | G10: System Components | H10: Cabinet Location | I10: Completed | L10: Xin Liu | M10: Xin Liu | N10: Xin Liu
A11: Logistics | B11: Amazon | C11: Daifuku | D11: SGA6 | E11: BGLS | F11: Project Layouts | G11: Installation Drawings | H11: DES ECO Layout | I11: On schedule | L11: Xin Liu | M11: Deep Gajjar | N11: Svaraj Patel
A12: Logistics | B12: Amazon | C12: Daifuku | D12: SSJ1 | E12: BGLS | F12: Project Layouts | G12: Installation Drawings | H12: DES ECO Layout | I12: On schedule | L12: Xin Liu | M12: Deep Gajjar | N12: Svaraj Patel
A13: Logistics | B13: Amazon | C13: Daifuku | D13: SWI2 | E13: BGLS | F13: Project Layouts | G13: Installation Drawings | H13: DES ECO Layout | I13: On schedule | L13: Xin Liu | M13: Deep Gajjar | N13: Svaraj Patel
... A25: Logistics | B25: Amazon | C25: Daifuku | D25: SWI2 | E25: BGLS | F25: Project Engineering | G25: System Components | H25: ECO Layout | I25: On schedule | L25: Xin Liu | M25: Deep Gajjar | N25: Svaraj Patel
A26: Logistics | B26: Amazon | C26: Daifuku | D26: SGA6 | E26: BGLS | F26: Design Engineering | G26: Detail Design | H26: EE Device Bracket - | I26: On schedule | L26: Xin Liu | M26: Deep Gajjar
A27: Logistics | B27: Amazon | C27: Daifuku | D27: SSJ1 | E27: BGLS | F27: Design Engineering | G27: Detail Design | H27: EE Device Bracket - | I27: On schedule | L27: Xin Liu | M27: Deep Gajjar
A28: Logistics | B28: Amazon | C28: Daifuku | D28: SWI2 | E28: BGLS | F28: Design Engineering | G28: Detail Design | H28: EE Device Bracket - | I28: On schedule | L28: Xin Liu | M28: Deep Gajjar
A29: Logistics | B29: Amazon | C29: Daifuku | D29: SGA6 | E29: BGLS | F29: Project Layouts | G29: Installation Drawings | H29: Egress, Maintenance Operator | I29: On schedule | L29: Xin Liu | M29: Jameson Fitzpatrick | N29: Bert Ellard (Prolann)
A30: Logistics | B30: Amazon | C30: Daifuku | D30: SSJ1 | E30: BGLS | F30: Project Layouts | G30: Installation Drawings | H30: Egress, Maintenance Operator | I30: On schedule | L30: Xin Liu | M30: Jameson Fitzpatrick | N30: Bert Ellard (Prolann)
A31: Logistics | B31: Amazon | C31: Daifuku | D31: SWI2 | E31: BGLS | F31: Project Layouts | G31: Installation Drawings | H31: Egress, Maintenance Operator | I31: On schedule | L31: Xin Liu | M31: Jameson Fitzpatrick | N31: Bert Ellard (Prolann)
A32: Logistics | B32: Amazon | C32: Daifuku | D32: SGA6 | E32: BGLS | F32: Design Engineering | G32: Chute Design | H32: End of Line Chute | I32: On schedule | L32: Xin Liu | M32: Pierre Damis | N32: Pierre Damis
A33: Logistics | B33: Amazon | C33: Daifuku | D33: SSJ1 | E33: BGLS | F33: Design Engineering | G33: Chute Design | H33: End of Line Chute | I33: On schedule | L33: Xin Liu | M33: Pierre Damis | N33: Pierre Damis
A34: Logistics | B34: Amazon | C34: Daifuku | D34: SWI2 | E34: BGLS | F34: Design Engineering | G34: Chute Design | H34: End of Line Chute | I34: On schedule | L34: Xin Liu | M34: Pierre Damis | N34: Pierre Damis
A35: Logistics | B35: Amazon | C35: Daifuku | D35: SGA6 | E35: BGLS | F35: Design Engineering | G35: Chute Design | H35: Induction Chute | I35: Completed | L35: Xin Liu | M35: Pierre Damis | N35: Pierre Damis
A36: Logistics | B36: Amazon | C36: Daifuku | D36: SSJ1 | E36: BGLS | F36: Design Engineering | G36: Chute Design | H36: Induction Chute | I36: Completed | L36: Xin Liu | M36: Pierre Damis | N36: Pierre Damis
A37: Logistics | B37: Amazon | C37: Daifuku | D37: SWI2 | E37: BGLS | F37: Design Engineering | G37: Chute Design | H37: Induction Chute | I37: Completed | L37: Xin Liu | M37: Pierre Damis | N37: Pierre Damis
A38: Logistics | B38: Amazon | C38: Daifuku | D38: SGA6 | E38: BGLS | F38: Project Layouts | G38: Installation Drawings | H38: Induction Unit | I38: Completed | L38: Xin Liu | M38: James Bragg | N38: Bert Ellard (Prolann)
A39: Logistics | B39: Amazon | C39: Daifuku | D39: SGA6 | E39: BGLS | F39: Project Engineering | G39: System Components | H39: Induction Unit | I39: Completed | L39: Xin Liu | M39: Xin Liu | N39: James Bragg
A40: Logistics | B40: Amazon | C40: Daifuku | D40: SSJ1 | E40: BGLS | F40: Project Engineering | G40: System Components | H40: Induction Unit | I40: Completed | L40: Xin Liu | M40: Xin Liu | N40: James Bragg
... A43: Logistics | B43: Amazon | C43: Daifuku | D43: SWI2 | E43: BGLS | F43: Project Layouts | G43: Installation Drawings | H43: Induction Unit | I43: Completed | L43: Xin Liu | M43: James Bragg | N43: Bert Ellard (Prolann)
A44: Logistics | B44: Amazon | C44: Daifuku | D44: SGA6 | E44: BGLS | F44: Project Engineering | G44: Documentation | H44: Installation Book | I44: On schedule | L44: Xin Liu | M44: Xin Liu
A45: Logistics | B45: Amazon | C45: Daifuku | D45: SSJ1 | E45: BGLS | F45: Project Engineering | G45: Documentation | H45: Installation Book | I45: On schedule | L45: Xin Liu | M45: Xin Liu
A46: Logistics | B46: Amazon | C46: Daifuku | D46: SWI2 | E46: BGLS | F46: Project Engineering | G46: Documentation | H46: Installation Book | I46: On schedule | L46: Xin Liu | M46: Xin Liu
A47: Logistics | B47: Amazon | C47: Daifuku | D47: SGA6 | E47: BGLS | F47: Project Layouts | G47: Installation Drawings | H47: LNS ECO Layout | I47: On schedule | L47: Xin Liu | M47: Svaraj Patel | N47: Bert Ellard (Prolann)
A48: Logistics | B48: Amazon | C48: Daifuku | D48: SSJ1 | E48: BGLS | F48: Project Layouts | G48: Installation Drawings | H48: LNS ECO Layout | I48: On schedule | L48: Xin Liu | M48: Svaraj Patel | N48: Bert Ellard (Prolann)
A49: Logistics | B49: Amazon | C49: Daifuku | D49: SWI2 | E49: BGLS | F49: Project Layouts | G49: Installation Drawings | H49: LNS ECO Layout | I49: On schedule | L49: Xin Liu | M49: Svaraj Patel | N49: Bert Ellard (Prolann)
A50: Logistics | B50: Amazon | C50: Daifuku | D50: SGA6 | E50: BGLS | F50: Project Layouts | G50: Installation Drawings | H50: LNS Sorter Section | I50: On schedule | L50: Xin Liu | M50: James Bragg
A51: Logistics | B51: Amazon | C51: Daifuku | D51: SSJ1 | E51: BGLS | F51: Project Layouts | G51: Installation Drawings | H51: LNS Sorter Section | I51: On schedule | L51: Xin Liu | M51: James Bragg
A52: Logistics | B52: Amazon | C52: Daifuku | D52: SWI2 | E52: BGLS | F52: Project Layouts | G52: Installation Drawings | H52: LNS Sorter Section | I52: On schedule | L52: Xin Liu | M52: James Bragg
A53: Logistics | B53: Amazon | C53: Daifuku | D53: SGA6 | E53: BGLS | F53: Design Engineering | G53: Chute Design | H53: Mobile Chute | I53: Completed | L53: Xin Liu
...

Sheet SSD Fortna 
A1: Division | B1: Customer | C1: Integ | D1: Name | E1: System | F1: Task Category | G1: Area | H1: Deliverable | I1: Status | J1: Review Date | K1: Due Date | L1: Project Lead | M1: Area Owner | N1: Execution Owner | O1: Comments
A2: Logistics | B2: Amazon | C2: Fortna | D2: SAZ4 | E2: BGLS | F2: Project Layouts | G2: Documentation | H2: As-Builds | I2: On schedule | K2: TBD | L2: Deep Gajjar
A3: Logistics | B3: Amazon | C3: Fortna | D3: SFW4 | E3: BGLS | F3: Project Layouts | G3: Documentation | H3: As-Builds | I3: On schedule | K3: TBD | L3: Deep Gajjar
A4: Logistics | B4: Amazon | C4: Fortna | D4: SIL5 | E4: BGLS | F4: Project Layouts | G4: Documentation | H4: As-Builds | I4: On schedule | K4: TBD | L4: Deep Gajjar
A5: Logistics | B5: Amazon | C5: Fortna | D5: SNJ6 | E5: BGLS | F5: Project Layouts | G5: Documentation | H5: As-Builds | I5: On schedule | K5: TBD | L5: Deep Gajjar
A6: Logistics | B6: Amazon | C6: Fortna | D6: SAZ4 | E6: BGLS | F6: Project Engineering | G6: Documentation | H6: BGLS Ordering Tool - ME | I6: On schedule | K6: TBD | L6: Deep Gajjar
A7: Logistics | B7: Amazon | C7: Fortna | D7: SFW4 | E7: BGLS | F7: Project Engineering | G7: Documentation | H7: BGLS Ordering Tool - ME | I7: On schedule | K7: TBD | L7: Deep Gajjar
A8: Logistics | B8: Amazon | C8: Fortna | D8: SIL5 | E8: BGLS | F8: Project Engineering | G8: Documentation | H8: BGLS Ordering Tool - ME | I8: On schedule | K8: TBD | L8: Deep Gajjar
A9: Logistics | B9: Amazon | C9: Fortna | D9: SNJ6 | E9: BGLS | F9: Project Engineering | G9: Documentation | H9: BGLS Ordering Tool - ME | I9: On schedule | K9: TBD | L9: Deep Gajjar
A10: Logistics | B10: Amazon | C10: Fortna | D10: SAZ4 | E10: BGLS | F10: Project Engineering | G10: System Components | H10: Cabinet Location | I10: Completed | L10: Deep Gajjar | M10: Deep Gajjar | N10: Deep Gajjar
A11: Logistics | B11: Amazon | C11: Fortna | D11: SFW4 | E11: BGLS | F11: Project Engineering | G11: System Components | H11: Cabinet Location | I11: Completed | L11: Deep Gajjar | M11: Deep Gajjar | N11: Deep Gajjar
A12: Logistics | B12: Amazon | C12: Fortna | D12: SIL5 | E12: BGLS | F12: Project Engineering | G12: System Components | H12: Cabinet Location | I12: Completed | L12: Deep Gajjar | M12: Deep Gajjar | N12: Deep Gajjar
A13: Logistics | B13: Amazon | C13: Fortna | D13: SNJ6 | E13: BGLS | F13: Project Engineering | G13: System Components | H13: Cabinet Location | I13: Completed | L13: Deep Gajjar | M13: Deep Gajjar | N13: Deep Gajjar
A14: Logistics | B14: Amazon | C14: Fortna | D14: SAZ4 | E14: BGLS | F14: Project Layouts | G14: Installation Drawings | H14: DES ECO Layout | I14: On schedule | K14: 46106 | L14: Deep Gajjar | M14: Svaraj Patel
A15: Logistics | B15: Amazon | C15: Fortna | D15: SFW4 | E15: BGLS | F15: Project Layouts | G15: Installation Drawings | H15: DES ECO Layout | I15: On schedule | K15: 46106 | L15: Deep Gajjar | M15: Svaraj Patel
A16: Logistics | B16: Amazon | C16: Fortna | D16: SIL5 | E16: BGLS | F16: Project Layouts | G16: Installation Drawings | H16: DES ECO Layout | I16: On schedule | K16: 46105 | L16: Deep Gajjar | M16: Svaraj Patel
A17: Logistics | B17: Amazon | C17: Fortna | D17: SNJ6 | E17: BGLS | F17: Project Layouts | G17: Installation Drawings | H17: DES ECO Layout | I17: On schedule | K17: 46090 | L17: Deep Gajjar | M17: Svaraj Patel
A18: Logistics | B18: Amazon | C18: Fortna | D18: SAZ4 | E18: BGLS | F18: Project Engineering | G18: System Components | H18: Destination | I18: On schedule | L18: Deep Gajjar | M18: Xin Liu | N18: Andrea Hosna
A19: Logistics | B19: Amazon | C19: Fortna | D19: SFW4 | E19: BGLS | F19: Project Engineering | G19: System Components | H19: Destination | I19: On schedule | L19: Deep Gajjar | M19: Xin Liu | N19: Andrea Hosna
A20: Logistics | B20: Amazon | C20: Fortna | D20: SIL5 | E20: BGLS | F20: Project Engineering | G20: System Components | H20: Destination | I20: On schedule | L20: Deep Gajjar | M20: Xin Liu | N20: Andrea Hosna
A21: Logistics | B21: Amazon | C21: Fortna | D21: SNJ6 | E21: BGLS | F21: Project Engineering | G21: System Components | H21: Destination | I21: On schedule | L21: Deep Gajjar | M21: Xin Liu | N21: Andrea Hosna
A22: Logistics | B22: Amazon | C22: Fortna | D22: SAZ4 | E22: BGLS | F22: Project Layouts | G22: Installation Drawings | H22: Destination Chutes | I22: On schedule | K22: 46106 | L22: Deep Gajjar | M22: Andrea Hosna | N22: Bert Ellard (Prolann)
A23: Logistics | B23: Amazon | C23: Fortna | D23: SFW4 | E23: BGLS | F23: Project Layouts | G23: Installation Drawings | H23: Destination Chutes | I23: On schedule | K23: 46106 | L23: Deep Gajjar | M23: Andrea Hosna | N23: Bert Ellard (Prolann)
A24: Logistics | B24: Amazon | C24: Fortna | D24: SIL5 | E24: BGLS | F24: Project Layouts | G24: Installation Drawings | H24: Destination Chutes | I24: On schedule | K24: 46105 | L24: Deep Gajjar | M24: Andrea Hosna | N24: Bert Ellard (Prolann)
A25: Logistics | B25: Amazon | C25: Fortna | D25: SNJ6 | E25: BGLS | F25: Project Layouts | G25: Installation Drawings | H25: Destination Chutes | I25: On schedule | K25: 46090 | L25: Deep Gajjar | M25: Andrea Hosna | N25: Bert Ellard (Prolann)
A26: Logistics | B26: Amazon | C26: Fortna | D26: SAZ4 | E26: BGLS | F26: Project Layouts | G26: Installation Drawings | H26: Destination Transitions | I26: On schedule | K26: 46106 | L26: Deep Gajjar | M26: Andrea Hosna | N26: Bert Ellard (Prolann)
A27: Logistics | B27: Amazon | C27: Fortna | D27: SFW4 | E27: BGLS | F27: Project Layouts | G27: Installation Drawings | H27: Destination Transitions | I27: On schedule | K27: 46106 | L27: Deep Gajjar | M27: Andrea Hosna | N27: Bert Ellard (Prolann)
A28: Logistics | B28: Amazon | C28: Fortna | D28: SIL5 | E28: BGLS | F28: Project Layouts | G28: Installation Drawings | H28: Destination Transitions | I28: On schedule | K28: 46105 | L28: Deep Gajjar | M28: Andrea Hosna | N28: Bert Ellard (Prolann)
A29: Logistics | B29: Amazon | C29: Fortna | D29: SNJ6 | E29: BGLS | F29: Project Layouts | G29: Installation Drawings | H29: Destination Transitions | I29: On schedule | K29: 46090 | L29: Deep Gajjar | M29: Andrea Hosna | N29: Bert Ellard (Prolann)
A30: Logistics | B30: Amazon | C30: Fortna | D30: SAZ4 | E30: BGLS | F30: Project Engineering | G30: System Components | H30: ECO Layout | I30: On schedule | L30: Deep Gajjar | M30: Deep Gajjar | N30: Svaraj Patel
A31: Logistics | B31: Amazon | C31: Fortna | D31: SFW4 | E31: BGLS | F31: Project Engineering | G31: System Components | H31: ECO Layout | I31: On schedule | L31: Deep Gajjar | M31: Deep Gajjar | N31: Svaraj Patel
A32: Logistics | B32: Amazon | C32: Fortna | D32: SIL5 | E32: BGLS | F32: Project Engineering | G32: System Components | H32: ECO Layout | I32: On schedule | L32: Deep Gajjar | M32: Deep Gajjar | N32: Svaraj Patel
A33: Logistics | B33: Amazon | C33: Fortna | D33: SNJ6 | E33: BGLS | F33: Project Engineering | G33: System Components | H33: ECO Layout | I33: On schedule | L33: Deep Gajjar | M33: Deep Gajjar | N33: Svaraj Patel
A34: Logistics | B34: Amazon | C34: Fortna | D34: SAZ4 | E34: BGLS | F34: Design Engineering | G34: Detail Design | H34: EE Device Bracket - | I34: On schedule | L34: Deep Gajjar | M34: Deep Gajjar
A35: Logistics | B35: Amazon | C35: Fortna | D35: SFW4 | E35: BGLS | F35: Design Engineering | G35: Detail Design | H35: EE Device Bracket - | I35: On schedule | L35: Deep Gajjar | M35: Deep Gajjar
A36: Logistics | B36: Amazon | C36: Fortna | D36: SIL5 | E36: BGLS | F36: Design Engineering | G36: Detail Design | H36: EE Device Bracket - | I36: On schedule | L36: Deep Gajjar | M36: Deep Gajjar
A37: Logistics | B37: Amazon | C37: Fortna | D37: SNJ6 | E37: BGLS | F37: Design Engineering | G37: Detail Design | H37: EE Device Bracket - | I37: On schedule | L37: Deep Gajjar | M37: Deep Gajjar
A38: Logistics | B38: Amazon | C38: Fortna | D38: SAZ4 | E38: BGLS | F38: Project Layouts | G38: Installation Drawings | H38: Egress, Maintenance Operator | I38: On schedule | K38: 46106 | L38: Deep Gajjar | M38: Jameson Fitzpatrick | N38: Bert Ellard (Prolann)
A39: Logistics | B39: Amazon | C39: Fortna | D39: SFW4 | E39: BGLS | F39: Project Layouts | G39: Installation Drawings | H39: Egress, Maintenance Operator | I39: On schedule | K39: 46106 | L39: Deep Gajjar | M39: Jameson Fitzpatrick | N39: Bert Ellard (Prolann)
A40: Logistics | B40: Amazon | C40: Fortna | D40: SIL5 | E40: BGLS | F40: Project Layouts | G40: Installation Drawings | H40: Egress, Maintenance Operator | I40: On schedule | K40: 46105 | L40: Deep Gajjar | M40: Jameson Fitzpatrick | N40: Bert Ellard (Prolann)
...

Sheet RIC4
A1: Division | B1: Customer | C1: Integ | D1: Name | E1: System | F1: Task Category | G1: Area | H1: Deliverable | I1: Status | J1: Review Date | K1: Due Date | L1: Project Lead | M1: Area Owner | N1: Execution Owner | O1: Comments
A2: Logistics | B2: Amazon | C2: TREW | D2: RIC4 | E2: Loop Sorter | F2: Project Engineering | G2: Documentation | H2: Risk Assessment | I2: On schedule | K2: 46113 | L2: Xin Liu | M2: Xin Liu
A3: Logistics | B3: Amazon | C3: TREW | D3: RIC4 | E3: Loop Sorter | F3: Project Engineering | G3: Installation Drawings | H3: Scanner | I3: On schedule | K3: 46090 | L3: Xin Liu | M3: Xin Liu | N3: David Blanco | O3: Xref update
A4: Logistics | B4: Amazon | C4: TREW | D4: RIC4 | E4: Loop Sorter | F4: Documentation | G4: MRF | H4: IOB Bracket Design | I4: Completed | K4: 46094 | L4: Xin Liu | M4: James Bragg | O4: Site received, closed out JIRA.
A5: Logistics | B5: Amazon | C5: TREW | D5: RIC4 | E5: Loop Sorter | F5: Project Engineering | G5: Documentation | H5: Installation Support | I5: On schedule | K5: 46099 | L5: Xin Liu | M5: James Bragg | N5: James Bragg | O5: Until end of ME Install

Sheet YXX1
A1: Division | B1: Customer | C1: Integ | D1: Name | E1: System | F1: Task Category | G1: Area | H1: Deliverable | I1: Status | J1: Review Date | K1: Due Date | L1: Project Lead | M1: Area Owner | N1: Execution Owner | O1: Comments
A2: Logistics | B2: Amazon | C2: N/A | D2: YXX1 | E2: Loop Sorter | F2: Project Engineering | G2: System Components | H2: Destinations | I2: Pending Update | L2: Andrea Hosna
A3: Logistics | B3: Amazon | C3: N/A | D3: YXX1 | E3: Loop Sorter | F3: Design Engineering | G3: Chute Design | H3: Induction Reject Chute | I3: On schedule | K3: 46146 | L3: Andrea Hosna | M3: Andrea Hosna | N3: Rasmus Sorensen | O3: Reference Induction Install date to set deadline
A4: Logistics | B4: Amazon | C4: N/A | D4: YXX1 | E4: Loop Sorter | F4: Project Layouts | G4: Installation Drawings | H4: Safety Fencing | I4: Pending Update | L4: Andrea Hosna
A5: Logistics | B5: Amazon | C5: N/A | D5: YXX1 | E5: Loop Sorter | F5: Project Layouts | G5: Installation Drawings | H5: Safety Netting | I5: Pending Update | L5: Andrea Hosna

Sheet AVP3
A1: Division | B1: Customer | C1: Integ | D1: Name | E1: System | F1: Task Category | G1: Area | H1: Deliverable | I1: Status | J1: Review Date | K1: Due Date | L1: Project Lead | M1: Area Owner | N1: Execution Owner | O1: Comments
A2: Logistics | B2: Amazon | C2: N/A | D2: AVP3 | E2: Loop Sorter | F2: Project Layouts | G2: Installation Drawings | H2: Sorter Netting - SGS-SGN | K2: 46115 | L2: Alex Raff
A3: Logistics | B3: Amazon | C3: N/A | D3: AVP3 | E3: Loop Sorter | F3: Project Layouts | G3: Installation Drawings | H3: Datum | K3: 46115 | L3: Alex Raff
A4: Logistics | B4: Amazon | C4: N/A | D4: AVP3 | E4: Loop Sorter | F4: Project Layouts | G4: Installation Drawings | H4: Support layout | K4: 46115 | L4: Alex Raff
A5: Logistics | B5: Amazon | C5: N/A | D5: AVP3 | E5: Loop Sorter | F5: Project Layouts | G5: Installation Drawings | H5: Platform layout | K5: 46115 | L5: Alex Raff
A6: Logistics | B6: Amazon | C6: N/A | D6: AVP3 | E6: Loop Sorter | F6: Project Layouts | G6: Installation Drawings | H6: Sorter section layout | K6: 46115 | L6: Alex Raff
A7: Logistics | B7: Amazon | C7: N/A | D7: AVP3 | E7: Loop Sorter | F7: Project Layouts | G7: Installation Drawings | H7: Scanner layout | K7: 46115 | L7: Alex Raff
A8: Logistics | B8: Amazon | C8: N/A | D8: AVP3 | E8: Loop Sorter | F8: Project Layouts | G8: Installation Drawings | H8: Cabinet layout | K8: 46115 | L8: Alex Raff
A9: Logistics | B9: Amazon | C9: N/A | D9: AVP3 | E9: Loop Sorter | F9: Project Layouts | G9: Installation Drawings | H9: Cable tray layout | K9: 46115 | L9: Alex Raff
A10: Logistics | B10: Amazon | C10: N/A | D10: AVP3 | E10: Loop Sorter | F10: Project Layouts | G10: Installation Drawings | H10: E-stop layout | K10: 46115 | L10: Alex Raff
A11: Logistics | B11: Amazon | C11: N/A | D11: AVP3 | E11: Loop Sorter | F11: Project Layouts | G11: Installation Drawings | H11: ECO layout | K11: 46115 | L11: Alex Raff
A12: Logistics | B12: Amazon | C12: N/A | D12: AVP3 | E12: Loop Sorter | F12: Project Layouts | G12: Installation Drawings | H12: Escape route layout | K12: 46115 | L12: Alex Raff
A13: Logistics | B13: Amazon | C13: N/A | D13: AVP3 | E13: Loop Sorter | F13: Project Layouts | G13: Installation Drawings | H13: Maintenance layout | K13: 46115 | L13: Alex Raff
... A15: Logistics | B15: Amazon | C15: N/A | D15: AVP3 | E15: Loop Sorter | F15: Project Layouts | G15: Installation Drawings | H15: Fencing layout | K15: 46115 | L15: Alex Raff
A16: Logistics | B16: Amazon | C16: N/A | D16: AVP3 | E16: Loop Sorter | F16: Project Layouts | G16: Installation Drawings | H16: Safety signs layout | K16: 46115 | L16: Alex Raff | O16: Pending Risk assessment completion
A17: Logistics | B17: Amazon | C17: N/A | D17: AVP3 | E17: Loop Sorter | F17: Project Layouts | G17: Installation Drawings | H17: SCADA layout | K17: 46115 | L17: Alex Raff
A18: Logistics | B18: Amazon | C18: N/A | D18: AVP3 | E18: Loop Sorter | F18: Project Layouts | G18: Installation Drawings | H18: Destinaion Layout - Chutes | K18: 46115 | L18: Alex Raff
A19: Logistics | B19: Amazon | C19: N/A | D19: AVP3 | E19: Loop Sorter | F19: Project Layouts | G19: Installation Drawings | H19: Destinaion Layout - Transition Slide | K19: 46115 | L19: Alex Raff
A20: Logistics | B20: Amazon | C20: N/A | D20: AVP3 | E20: Loop Sorter | F20: Project Layouts | G20: Installation Drawings | H20: Destinaion Layout - JAM PE | K20: 46115 | L20: Alex Raff
A21: Logistics | B21: Amazon | C21: N/A | D21: AVP3 | E21: Loop Sorter | F21: Project Engineering | G21: System Components | H21: Safety Fencing | I21: Completed | K21: 46087 | L21: Alex Raff
A22: Logistics | B22: Amazon | C22: N/A | D22: AVP3 | E22: Loop Sorter | F22: Project Engineering | G22: System Components | H22: Cable Tray Path | K22: 46087 | L22: Alex Raff
A23: Logistics | B23: Amazon | C23: N/A | D23: AVP3 | E23: Loop Sorter | F23: Project Engineering | G23: System Components | H23: Electrical Components | K23: 46087 | L23: Alex Raff
A24: Logistics | B24: Amazon | C24: N/A | D24: AVP3 | E24: Loop Sorter | F24: Project Engineering | G24: System Components | H24: Safety Labels | K24: 46087 | L24: Alex Raff
A25: Logistics | B25: Amazon | C25: N/A | D25: AVP3 | E25: Loop Sorter | F25: Project Engineering | G25: System Components | H25: Transition Slide | K25: 46087 | L25: Alex Raff
A26: Logistics | B26: Amazon | C26: N/A | D26: AVP3 | E26: Loop Sorter | F26: Documentation | G26: Documentation | H26: Risk Assessment | K26: 46087 | L26: Alex Raff
A27: Logistics | B27: Amazon | C27: N/A | D27: AVP3 | E27: Loop Sorter | F27: Documentation | G27: Documentation | H27: Installation Binder | K27: 46129 | L27: Alex Raff
A28: Logistics | B28: Amazon | C28: N/A | D28: AVP3 | E28: Loop Sorter | F28: Documentation | G28: Documentation | H28: Level 6 Checklist | K28: 46129 | L28: Alex Raff
A29: Logistics | B29: Amazon | C29: N/A | D29: AVP3 | E29: Loop Sorter | F29: Documentation | G29: Documentation | H29: Sorter Mobile Component List | K29: 46129 | L29: Alex Raff
A30: Logistics | B30: Amazon | C30: N/A | D30: AVP3 | E30: Loop Sorter | F30: Documentation | G30: MRFs | H30: Sorter Netting | K30: 46073 | L30: Alex Raff
A31: Logistics | B31: Amazon | C31: N/A | D31: AVP3 | E31: Loop Sorter | F31: Documentation | G31: MRFs | H31: Safety Fencing | K31: 46073 | L31: Alex Raff
A32: Logistics | B32: Amazon | C32: N/A | D32: AVP3 | E32: Loop Sorter | F32: Documentation | G32: MRFs | H32: Safety Labels | K32: 46129 | L32: Alex Raff
A33: Logistics | B33: Amazon | C33: N/A | D33: AVP3 | E33: Loop Sorter | F33: Documentation | G33: MRFs | H33: Transition Slide | K33: 46087 | L33: Alex Raff
... A36: Logistics | B36: Amazon | C36: N/A | D36: AVP3 | E36: Loop Sorter | F36: Design Engineering | G36: Detail Design | H36: Transition Slide | K36: 46084 | L36: Alex Raff

Sheet FTY3
A1: Division | B1: Customer | C1: Integ | D1: Name | E1: System | F1: Task Category | G1: Area | H1: Deliverable | I1: Status | J1: Review Date | K1: Due Date | L1: Project Lead | M1: Area Owner | N1: Execution Owner | O1: Comments
A2: Logistics | B2: Amazon | C2: N/A | D2: FTY3 | E2: Loop Sorter | F2: Design Engineering | G2: Chute Design | H2: Induction Unit Reverse Chute | I2: On schedule | K2: 46237 | L2: Alex Raff | M2: Alex Raff | N2: Rasmus Sorensen | O2: Amazon spec to include bead roller
A3: Logistics | B3: Amazon | C3: N/A | D3: FTY3 | E3: Loop Sorter | F3: Design Engineering | G3: Chute Design | H3: High Speed Divert | I3: On schedule | L3: Alex Raff | M3: Alex Raff | O3: BDK Scope
A4: Logistics | B4: Amazon | C4: N/A | D4: FTY3 | E4: Loop Sorter | F4: Documentation | G4: Documentation | H4: IB - Risk Assessment | I4: Pending Update | L4: Alex Raff
A5: Logistics | B5: Amazon | C5: N/A | D5: FTY3 | E5: Loop Sorter | F5: Documentation | G5: Documentation | H5: IB - Installation Binder | I5: Pending Update | L5: Alex Raff
A6: Logistics | B6: Amazon | C6: N/A | D6: FTY3 | E6: Loop Sorter | F6: Documentation | G6: Documentation | H6: OB - Risk Assessment | I6: Pending Update | L6: Alex Raff
A7: Logistics | B7: Amazon | C7: N/A | D7: FTY3 | E7: Loop Sorter | F7: Documentation | G7: Documentation | H7: OB - Installation Binder | I7: Pending Update | L7: Alex Raff
A8: Logistics | B8: Amazon | C8: N/A | D8: FTY3 | E8: Loop Sorter | F8: Project Layouts | G8: Installation Drawings | H8: IB - Sorter Netting - SGS-SGN | I8: Pending Update | L8: Alex Raff
